{"text_format":"3","workbook":"xlsx","n_sheets":16,"sheets":["Parâmetros","Projeções","Projeções - RPPS","RCL","Pessoal","Dívida"," Dem-1-Metas"," Dem-2-Avalia","Dem-3-Comp","Dem-4-Patr","Dem-5-Alien","Dem-6-RPPS","Dem-7-Renúnci","Dem-8-Docc","Anexo Riscos","Anexo IV - Cons do Patrimônio"],"not_rendered":{"images":1,"macros":1,"external_links":3,"defined_names":5,"comments":2},"read":"whole","date_system":"1900"}

{"sheet":"Parâmetros","index":0,"n_rows":22,"n_cols":7,"rows_kept":22,"merged":[[6,0,6,9],[7,0,7,9],[8,0,8,9],[23,0,25,6]]}
[]
[]
[]
[]
[]
[]
["Município de :   NOVA PÁDUA"]
["LEI DE DIRETRIZES ORÇAMENTÁRIAS  PARA 2025"]
["TABELA  01 - Parâmentos Utilizados nas Estimativas das Receitas e Despesas"]
["Indicador",2022,{"$f":"B10+1","v":2023},{"$f":"C10+1","v":2024},{"$f":"D10+1","v":2025},{"$f":"E10+1","v":2026},{"$f":"F10+1","v":2027}]
["INFLAÇÃO MÉDIA ANUAL   (I P C A)",{"v":0.0578,"d":"5.78%"},{"v":0.058,"d":"5.80%"},{"v":0.046,"d":"4.60%"},{"v":0.04,"d":"4.00%"},{"v":0.04,"d":"4.00%"},{"v":0.04,"d":"4.00%"}]
["VARIAÇÃODO PIB ",{"v":0.029,"d":"2.90%"},{"v":0.012,"d":"1.20%"},{"v":0.025,"d":"2.50%"},{"v":0.02,"d":"2.00%"},{"v":0.02,"d":"2.00%"},{"v":0.02,"d":"2.00%"}]
["CRESCIMENTO VEGETATIVO DA FOLHA SALARIAL",{"$f":"IF(Projeções!D116=0,\"0\",((Projeções!E116/Projeções!D116)-1)-B11-B18)","v":{"v":-0.12229003130008956,"d":"-12.23%"}},{"$f":"IF(Projeções!E116=0,\"0\",((Projeções!F116/Projeções!E116)-1)-C11-C18)","v":{"v":0.33214424985430707,"d":"33.21%"}},{"$f":"IF(Projeções!F116=0,\"0\",((Projeções!G116/Projeções!F116)-1)-D11-D18)","v":{"v":0.07087753569411097,"d":"7.09%"}},{"$f":"(B13+C13+D13)/3","v":{"v":0.0935772514161095,"d":"9.36%"}},{"v":0.1655330123215092,"d":"16.55%"},{"v":0.10999593314390987,"d":"11.00%"}]
["CRESCIMENTO AUTÔNOMO DE OUTROS CUSTEIOS",{"$f":"IF(Projeções!D126=0,\"0\",((Projeções!E126/Projeções!D126)-1)-B11-B12)","v":{"v":0.17632999107727354,"d":"17.63%"}},{"$f":"IF(Projeções!E126=0,\"0\",((Projeções!F126/Projeções!E126)-1)-C11-C12)","v":{"v":0.2803336688037195,"d":"28.03%"}},{"$f":"IF(Projeções!F126=0,\"0\",((Projeções!G126/Projeções!F126)-1)-D11-D12)","v":{"v":0.008911466449495316,"d":"0.89%"}},{"v":0.15519170877682945,"d":"15.52%"},{"v":0.14814561467668141,"d":"14.81%"},{"v":0.10408292996766873,"d":"10.41%"}]
["ESFORÇO NA ARRECADAÇÃO TRIBUTÁRIA",{"$f":"IF(Projeções!D9=0,\"0\",((Projeções!E9/Projeções!D9)-1)-B11-B12)","v":{"v":-0.07027088938774574,"d":"-7.03%"}},{"$f":"IF(Projeções!E9=0,\"0\",((Projeções!F9/Projeções!E9)-1)-C11-C12)","v":{"v":0.5415951692449519,"d":"54.16%"}},{"$f":"IF(Projeções!F9=0,\"0\",((Projeções!G9/Projeções!F9)-1)-D11-D12)","v":{"v":0.01643060316475648,"d":"1.64%"}},{"v":0.16258496100732087,"d":"16.26%"},{"v":0.24020357780567644,"d":"24.02%"},{"v":0.13973971399258459,"d":"13.97%"}]
["CRESC.REAL DAS TRANSFER CORR DA UNIÃO",{"$f":"IF(Projeções!D38=0,\"0\",((Projeções!E38/Projeções!D38)-1)-B11-B12)","v":{"v":0.11765532522354816,"d":"11.77%"}},{"$f":"IF(Projeções!E38=0,\"0\",((Projeções!F38/Projeções!E38)-1)-C11-C12)","v":{"v":0.26962549367078475,"d":"26.96%"}},{"$f":"IF(Projeções!F38=0,\"0\",((Projeções!G38/Projeções!F38)-1)-D11-D12)","v":{"v":0.04315750140847036,"d":"4.32%"}},{"v":0.1434794401009344,"d":"14.35%"},{"v":0.1520874783933965,"d":"15.21%"},{"v":0.11290813996760042,"d":"11.29%"}]
["CRESC.REAL DAS TRANSFER CORR DO ESTADO",{"$f":"IF(Projeções!D50=0,\"0\",((Projeções!E50/Projeções!D50)-1)-B11-B12)","v":{"v":0.13264625180704348,"d":"13.26%"}},{"$f":"IF(Projeções!E50=0,\"0\",((Projeções!F50/Projeções!E50)-1)-C11-C12)","v":{"v":0.04677680881802698,"d":"4.68%"}},{"$f":"IF(Projeções!F50=0,\"0\",((Projeções!G50/Projeções!F50)-1)-D11-D12)","v":{"v":-0.138585069021058,"d":"-13.86%"}},{"v":0.013612663868004157,"d":"1.36%"},{"v":-0.026065198778342288,"d":"-2.61%"},{"v":-0.05034586797713204,"d":"-5.03%"}]
["PERCENTUAL DE AUMENTO SALARIAL (acima do IPCA)- EXECUTVO",{"v":0,"d":"0.00%"},{"v":0,"d":"0.00%"},{"v":0,"d":"0.00%"},{"v":0,"d":"0.00%"},{"v":0,"d":"0.00%"},{"v":0,"d":"0.00%"}]
["PERCENTUAL DE AUMENTO SALARIAL -(acima do IPCA)  LEGISLATIVO",{"v":0,"d":"0.00%"},{"v":0,"d":"0.00%"},{"v":0,"d":"0.00%"},{"v":0,"d":"0.00%"},{"v":0,"d":"0.00%"},{"v":0,"d":"0.00%"}]
["CRESCIMENTO DOS INVESTIMENTOS ",{"$f":"IF(Projeções!D132=0,\"0\",((Projeções!E132/Projeções!D132)-1)-B11-B12)","v":{"v":1.508233938198931,"d":"150.82%"}},{"$f":"IF(Projeções!E132=0,\"0\",((Projeções!F132/Projeções!E132)-1)-C11-C12)","v":{"v":-3.1380792293335645E-3,"d":"-0.31%"}},{"$f":"IF(Projeções!F132=0,\"0\",((Projeções!G132/Projeções!F132)-1)-D11-D12)","v":{"v":-0.13259334534998973,"d":"-13.26%"}},{"v":0.45750083787320256,"d":"45.75%"},{"v":0.10725647109795976,"d":"10.73%"},{"v":0.14405465454039088,"d":"14.41%"}]
["Taxa de Juros Selic (Média do Ano)",{"v":0.0915,"d":"9.15%"},{"v":0.1365,"d":"13.65%"},{"v":0.125,"d":"12.50%"},{"v":0.1,"d":"10.00%"},{"v":0.09,"d":"9.00%"},{"v":0.0875,"d":"8.75%"}]
["Taxa de Câmbio (Média do Ano)",5.39,5.16,5.15,{"v":5.2,"d":"5.20"},{"v":5.2,"d":"5.20"},{"v":5.274,"d":"5.27"}]

{"sheet":"Projeções","index":1,"n_rows":174,"n_cols":256,"rows_kept":174,"merged":[[0,0,0,9],[1,0,1,9],[2,0,2,9],[5,0,6,0],[5,1,6,1],[108,0,108,9],[109,0,109,9],[110,0,110,9],[112,0,113,1],[112,2,113,2],[114,0,114,1],[115,0,115,1],[116,0,116,1],[117,0,117,1],[118,0,118,1],[119,0,119,1],[120,0,120,1],[121,0,121,1],[122,0,122,1],[123,0,123,1],[124,0,124,1],[125,0,125,1],[126,0,126,1],[127,0,127,1],[128,0,128,1],[129,0,129,1],[130,0,130,1],[131,0,131,1],[132,0,132,1],[133,0,133,1],[134,0,134,1],[135,0,135,1],[136,0,136,1],[137,0,137,1],[138,0,138,1],[139,0,139,1],[140,0,140,1],[141,0,141,1],[142,0,142,1],[143,0,143,1],[144,0,144,1],[145,0,145,1],[146,0,146,1],[173,0,173,8]]}
[{"$f":"Parâmetros!A7","v":"Município de :   NOVA PÁDUA"}]
[{"$f":"Parâmetros!A8","v":"LEI DE DIRETRIZES ORÇAMENTÁRIAS  PARA 2025"}]
["Tabela 02 - Memória de Cálculo das Estimativas das Receitas - EXCETO RPPS"]
[]
[{"$nulls":9},"Valores em R$ 1,00"]
["Código até 2022","Código a partir de 2023","CONTAS","ARRECADADA","ARRECADADA","ARRECADADA","REESTIMADO","PROJETADO","PROJETADO","PROJETADO"]
[null,null,"CONSOLIDADAS ANUAIS",{"$f":"Parâmetros!B10-1","v":2021},{"$f":"D7+1","v":2022},2023,2024,2025,2026,2027]
["1.0.0.0.00.0.0.00.00.00",{"v":10000000,"d":"1.0.0.0.00.0.0"},"Receitas Correntes",{"$f":"D9+D15+D22+D32+D33+D34+D37+D65","v":{"v":18575917.33,"d":"18,575,917.33"}},{"v":22567191.650000002,"d":"22,567,191.65"},{"v":29025621.02,"d":"29,025,621.02"},{"v":31359828.669166666,"d":"31,359,828.67"},{"v":32321166.701127496,"d":"32,321,166.70"},{"v":37164916.99453622,"d":"37,164,916.99"},{"v":41532442.245302886,"d":"41,532,442.25"}]
["1.1.0.0.00.0.0.00.00.00",{"v":11000000,"d":"1.1.0.0.00.0.0"},"Impostos, Taxas e Contribuições de Melhoria",{"$f":"D10+D11+D12+D13+D14","v":{"v":1287075.2999999998,"d":"1,287,075.30"}},{"v":1308349.51,"d":"1,308,349.51"},{"v":2108529.75,"d":"2,108,529.75"},{"v":2292879.7778333332,"d":"2,292,879.78"},{"v":2530457.076114081,"d":"2,530,457.08"},{"v":3263813.1960515887,"d":"3,263,813.20"},{"v":3868693.4193367837,"d":"3,868,693.42"}]
["1.1.1.3.03.1.1.01.00.00",{"v":11130100,"d":"1.1.1.3.01.0.0"},"IRRF s/Rend.Trabalho - Principal - Ativos/Inativos do Poder Executivo/Indiretas",{"v":298424.66,"d":"298,424.66"},{"$f":"295146.7+6628.88-318.17","v":{"v":301457.41000000003,"d":"301,457.41"}},{"v":771309.36,"d":"771,309.36"},{"$f":"((431594.12-210.54)/6)*13","v":{"v":934664.4233333333,"d":"934,664.42"}},{"$f":"G10*1.05","v":{"v":981397.6445,"d":"981,397.64"}},{"$f":"H10*(1+Parâmetros!F11)*(1+Parâmetros!F15)","v":{"v":1265818.1847573218,"d":"1,265,818.18"}},{"$f":"I10*(1+Parâmetros!G11)*(1+Parâmetros!G15)","v":{"v":1500411.3860963997,"d":"1,500,411.39"}}]
["1.1.1.3.03.1.1.02.00.00",{"v":11130100,"d":"1.1.1.3.01.0.0"},"IRRF s/Rend.Trabalho - Principal - Ativos/Inativos do Poder Legislativo",{"v":7011.06,"d":"7,011.06"},{"$f":"318.17","v":318.17},0,{"$f":"(210.54/6)*13","v":{"v":456.16999999999996,"d":"456.17"}},{"$f":"(((E11*(1+Parâmetros!B11)*(1+Parâmetros!C11)*(1+Parâmetros!D11))+(F11*(1+Parâmetros!C11)*(1+Parâmetros!D11)+(G11*(1+Parâmetros!D11))))/3)*(1+Parâmetros!E11)*(1+Parâmetros!E15)","v":{"v":342.4195674466842,"d":"342.42"}},{"$f":"H11*(1+Parâmetros!F11)*(1+Parâmetros!F15)","v":{"v":441.65677156437187,"d":"441.66"}},{"$f":"I11*(1+Parâmetros!G11)*(1+Parâmetros!G15)","v":{"v":523.5087130058921,"d":"523.51"}}]
["1.1.1.0.00.0.0.00.00.00",{"v":11100000,"d":"1.1.1.0.00.0.0"}," Demais Impostos",{"$f":"1009457.44-305435.72","v":{"v":704021.72,"d":"704,021.72"}},{"$f":"1099588.01-301775.58","v":{"v":797812.4299999999,"d":"797,812.43"}},{"$f":"1896072.05-F10","v":{"v":1124762.69,"d":"1,124,762.69"}},{"$f":"F12*1.05","v":{"v":1181000.8245,"d":"1,181,000.82"}},{"$f":"(((E12*(1+Parâmetros!B11)*(1+Parâmetros!C11)*(1+Parâmetros!D11))+(F12*(1+Parâmetros!C11)*(1+Parâmetros!D11)+(G12*(1+Parâmetros!D11))))/3)*(1+Parâmetros!E11)*(1+Parâmetros!E15)-95000","v":{"v":1280947.2382020082,"d":"1,280,947.24"}},{"$f":"H12*(1+Parâmetros!F11)*(1+Parâmetros!F15)","v":{"v":1652180.7617103679,"d":"1,652,180.76"}},{"$f":"I12*(1+Parâmetros!G11)*(1+Parâmetros!G15)","v":{"v":1958378.2699684585,"d":"1,958,378.27"}}]
["1.1.2.0.00.0.0.00.00.00",{"v":11200000,"d":"1.1.2.0.00.0.0"},"Taxas",{"v":198459.17,"d":"198,459.17"},{"v":116199.8,"d":"116,199.80"},{"v":133614.14,"d":"133,614.14"},{"$f":"(76798.48/6)*12","v":{"v":153596.96,"d":"153,596.96"}},{"$f":"(((E13*(1+Parâmetros!B11)*(1+Parâmetros!C11)*(1+Parâmetros!D11))+(F13*(1+Parâmetros!C11)*(1+Parâmetros!D11)+(G13*(1+Parâmetros!D11))))/3)*(1+Parâmetros!E11)*(1+Parâmetros!E15)","v":{"v":179169.27498963525,"d":"179,169.27"}},{"$f":"H13*(1+Parâmetros!F11)*(1+Parâmetros!F15)","v":{"v":231094.63090999454,"d":"231,094.63"}},{"$f":"I13*(1+Parâmetros!G11)*(1+Parâmetros!G15)","v":{"v":273923.23768012226,"d":"273,923.24"}}]
["1.1.3.0.00.0.0.00.00.00",{"v":11310000,"d":"1.1.3.1.00.0.0"},"Contribuição de Melhoria",{"v":79158.69,"d":"79,158.69"},{"v":92561.7,"d":"92,561.70"},{"v":78843.56,"d":"78,843.56"},{"$f":"(11580.7/6)*12","v":{"v":23161.4,"d":"23,161.40"}},{"$f":"(((E14*(1+Parâmetros!B11)*(1+Parâmetros!C11)*(1+Parâmetros!D11))+(F14*(1+Parâmetros!C11)*(1+Parâmetros!D11)+(G14*(1+Parâmetros!D11))))/3)*(1+Parâmetros!E11)*(1+Parâmetros!E15)","v":{"v":88600.49885499038,"d":"88,600.50"}},{"$f":"H14*(1+Parâmetros!F11)*(1+Parâmetros!F15)","v":{"v":114277.96190233987,"d":"114,277.96"}},{"$f":"I14*(1+Parâmetros!G11)*(1+Parâmetros!G15)","v":{"v":135457.01687879747,"d":"135,457.02"}}]
["1.2.0.0.00.0.0.00.00.00",{"v":12000000,"d":"1.2.0.0.00.0.0"},"Contribuições",{"$f":"D16+D20+D21","v":0},0,0,0,0,0,0]
["1.2.1.0.00.0.0.00.00.00",{"v":12100000,"d":"1.2.1.0.00.0.0"},"Contribuições Sociais",{"$f":"D17+D18+D19","v":0},0,0,0,0,0,0]
["1.2.1.0.06.0.0.00.00.00",{"v":12160300,"d":"1.2.1.6.03.0.0"},"Contribuição para os Fundos de Assistência Médica",{"$nulls":4},{"$f":"(((E17*(1+Parâmetros!B11)*(1+Parâmetros!C11)*(1+Parâmetros!D11))+(F17*(1+Parâmetros!C11)*(1+Parâmetros!D11)+(G17*(1+Parâmetros!D11))))/3)*(1+Parâmetros!E11)","v":0},{"$f":"H17*(1+Parâmetros!F11)","v":0},{"$f":"I17*(1+Parâmetros!G11)","v":0}]
["1.2.1.0.99.0.0.00.00.00",{"v":12190000,"d":"1.2.1.9.00.0.0"},"Outras Contribuições Sociais",{"$nulls":4},{"$f":"(((E18*(1+Parâmetros!B11)*(1+Parâmetros!C11)*(1+Parâmetros!D11))+(F18*(1+Parâmetros!C11)*(1+Parâmetros!D11)+(G18*(1+Parâmetros!D11))))/3)*(1+Parâmetros!E11)","v":0},{"$f":"H18*(1+Parâmetros!F11)","v":0},{"$f":"I18*(1+Parâmetros!G11)","v":0}]
["1.2.1.8.00.0.0.00.00.00",{"v":12199900,"d":"1.2.1.9.99.0.0"},"Contribuições Sociais específicas de Estados, DF, Municípios ",{"$nulls":4},{"$f":"(((E19*(1+Parâmetros!B11)*(1+Parâmetros!C11)*(1+Parâmetros!D11))+(F19*(1+Parâmetros!C11)*(1+Parâmetros!D11)+(G19*(1+Parâmetros!D11))))/3)*(1+Parâmetros!E11)","v":0},{"$f":"H19*(1+Parâmetros!F11)","v":0},{"$f":"I19*(1+Parâmetros!G11)","v":0}]
["1.2.2.0.00.0.0.00.00.00",{"v":12210000,"d":"1.2.2.1.00.0.0"},"Contribuições Econômicas",{"$nulls":4},{"$f":"(((E20*(1+Parâmetros!B11)*(1+Parâmetros!C11)*(1+Parâmetros!D11))+(F20*(1+Parâmetros!C11)*(1+Parâmetros!D11)+(G20*(1+Parâmetros!D11))))/3)*(1+Parâmetros!E11)","v":0},{"$f":"H20*(1+Parâmetros!F11)","v":0},{"$f":"I20*(1+Parâmetros!G11)","v":0}]
["1.2.4.0.00.0.0.00.00.00",{"v":12415000,"d":"1.2.4.1.50.0.0"},"Contribuição para o Custeio do Serviço de Iluminação Pública",{"$nulls":4},{"$f":"(((E21*(1+Parâmetros!B11)*(1+Parâmetros!C11)*(1+Parâmetros!D11))+(F21*(1+Parâmetros!C11)*(1+Parâmetros!D11)+(G21*(1+Parâmetros!D11))))/3)*(1+Parâmetros!E11)*(1+Parâmetros!E12)","v":0},{"$f":"H21*(1+Parâmetros!F11)*(1+Parâmetros!F12)","v":0},{"$f":"I21*(1+Parâmetros!G11)*(1+Parâmetros!G12)","v":0}]
["1.3.0.0.00.0.0.00.00.00",{"v":13000000,"d":"1.3.0.0.00.0.0"},"Receita Patrimonial",{"$f":"D23+D24+D29+D30+D31","v":{"v":33751.23000000004,"d":"33,751.23"}},{"v":101221.93000000001,"d":"101,221.93"},{"v":551315.14,"d":"551,315.14"},{"v":664343.6,"d":"664,343.60"},{"v":502630.1793056573,"d":"502,630.18"},{"v":532434.5410416346,"d":"532,434.54"},{"v":564020.7858445271,"d":"564,020.79"}]
["1.3.1.0.00.0.0.00.00.00",{"v":13110000,"d":"1.3.1.1.00.0.0"},"Exploração do Patrimônio Imobiliário do Estado",{"v":21341.69,"d":"21,341.69"},{"v":19945.16,"d":"19,945.16"},{"v":32638.75,"d":"32,638.75"},{"$f":"(21660.6/6)*12","v":{"v":43321.2,"d":"43,321.20"}},{"$f":"(((E23*(1+Parâmetros!B11)*(1+Parâmetros!C11)*(1+Parâmetros!D11))+(F23*(1+Parâmetros!C11)*(1+Parâmetros!D11)+(G23*(1+Parâmetros!D11))))/3)*(1+Parâmetros!E11)","v":{"v":36324.671433014875,"d":"36,324.67"}},{"$f":"H23*(1+Parâmetros!F11)","v":{"v":37777.65829033547,"d":"37,777.66"}},{"$f":"I23*(1+Parâmetros!G11)","v":{"v":39288.76462194889,"d":"39,288.76"}}]
["1.3.2.0.00.0.0.00.00.00",{"v":13200000,"d":"1.3.2.0.00.0.0"},"Valores Mobiliários",{"$f":"D25+D26+D27+D28","v":{"v":12409.540000000037,"d":"12,409.54"}},{"v":81276.77,"d":"81,276.77"},{"v":301876.39,"d":"301,876.39"},{"v":621022.4,"d":"621,022.40"},{"v":381467.80779200245,"d":"381,467.81"},{"v":404661.0505057562,"d":"404,661.05"},{"v":429264.4423765063,"d":"429,264.44"}]
["1.3.2.1.00.1.1.01.00.00",{"v":13210100,"d":"1.3.2.1.01.0.0"},"Remuneração de Depósitos de Recursos Vinculados - Principal",{"$f":"972031.67-959622.13-D26","v":{"v":4553.110000000037,"d":"4,553.11"}},{"v":13493.52,"d":"13,493.52"},{"$f":"3.88+301872.51-F26","v":{"v":104768.79000000001,"d":"104,768.79"}},{"$f":"(185190.68/6)*12","v":{"v":370381.36,"d":"370,381.36"}},{"$f":"(((E25*(1+Parâmetros!B11)*(1+Parâmetros!C11)*(1+Parâmetros!D11))+(F25*(1+Parâmetros!C11)*(1+Parâmetros!D11)+(G25*(1+Parâmetros!D11))))/3)*(1+Parâmetros!E11)*(1+Parâmetros!E12)","v":{"v":183574.67020234268,"d":"183,574.67"}},{"$f":"H25*(1+Parâmetros!F11)*(1+Parâmetros!F12)","v":{"v":194736.0101506451,"d":"194,736.01"}},{"$f":"I25*(1+Parâmetros!G11)*(1+Parâmetros!G12)","v":{"v":206575.95956780436,"d":"206,575.96"}}]
["1.3.2.1.00.1.1.02.00.00",{"v":13210100,"d":"1.3.2.1.01.0.0"},"Remuneração de Depósitos de Recursos Não Vinculados - Principal",{"$f":"8419.7-563.27","v":{"v":7856.43,"d":"7,856.43"}},{"v":67783.25,"d":"67,783.25"},{"v":197107.6,"d":"197,107.60"},{"$f":"(125320.52/6)*12","v":{"v":250641.04,"d":"250,641.04"}},{"$f":"(((E26*(1+Parâmetros!B11)*(1+Parâmetros!C11)*(1+Parâmetros!D11))+(F26*(1+Parâmetros!C11)*(1+Parâmetros!D11)+(G26*(1+Parâmetros!D11))))/3)*(1+Parâmetros!E11)*(1+Parâmetros!E12)","v":{"v":197893.13758965977,"d":"197,893.14"}},{"$f":"H26*(1+Parâmetros!F11)*(1+Parâmetros!F12)","v":{"v":209925.04035511112,"d":"209,925.04"}},{"$f":"I26*(1+Parâmetros!G11)*(1+Parâmetros!G12)","v":{"v":222688.4828087019,"d":"222,688.48"}}]
["1.3.2.1.00.5.0.00.00.00",{"v":13210500,"d":"1.3.2.1.05.0.0"},"Juros de Títulos de Renda",{"$nulls":4},{"$f":"(((E27*(1+Parâmetros!B11)*(1+Parâmetros!C11)*(1+Parâmetros!D11))+(F27*(1+Parâmetros!C11)*(1+Parâmetros!D11)+(G27*(1+Parâmetros!D11))))/3)*(1+Parâmetros!E11)*(1+Parâmetros!E12)","v":0},{"$f":"H27*(1+Parâmetros!F11)*(1+Parâmetros!F12)","v":0},{"$f":"I27*(1+Parâmetros!G11)*(1+Parâmetros!G12)","v":0}]
["1.3.2.9.00.0.0.00.00.00",{"v":13299900,"d":"1.3.2.9.99.0.0"},"Outros Valores Mobiliários",{"$nulls":4},{"$f":"(((E28*(1+Parâmetros!B11)*(1+Parâmetros!C11)*(1+Parâmetros!D11))+(F28*(1+Parâmetros!C11)*(1+Parâmetros!D11)+(G28*(1+Parâmetros!D11))))/3)*(1+Parâmetros!E11)*(1+Parâmetros!E12)","v":0},{"$f":"H28*(1+Parâmetros!F11)*(1+Parâmetros!F12)","v":0},{"$f":"I28*(1+Parâmetros!G11)*(1+Parâmetros!G12)","v":0}]
["1.3.3.0.00.0.0.00.00.00",{"v":13300000,"d":"1.3.3.0.00.0.0"},"Delegação de Serviços Públicos Mediante Concessão, Permissão, Autorização ou Licença",{"$nulls":4},{"$f":"(((E29*(1+Parâmetros!B11)*(1+Parâmetros!C11)*(1+Parâmetros!D11))+(F29*(1+Parâmetros!C11)*(1+Parâmetros!D11)+(G29*(1+Parâmetros!D11))))/3)*(1+Parâmetros!E11)*(1+Parâmetros!E12)","v":0},{"$f":"H29*(1+Parâmetros!F11)*(1+Parâmetros!F12)","v":0},{"$f":"I29*(1+Parâmetros!G11)*(1+Parâmetros!G12)","v":0}]
["1.3.6.0.00.0.0.00.00.00",{"v":13610000,"d":"1.3.6.1.00.0.0"},"Cessão de Direitos",null,null,{"v":216800,"d":"216,800.00"},null,{"$f":"(((E30*(1+Parâmetros!B11)*(1+Parâmetros!C11)*(1+Parâmetros!D11))+(F30*(1+Parâmetros!C11)*(1+Parâmetros!D11)+(G30*(1+Parâmetros!D11))))/3)*(1+Parâmetros!E11)*(1+Parâmetros!E12)","v":{"v":84837.70008064,"d":"84,837.70"}},{"$f":"H30*(1+Parâmetros!F11)*(1+Parâmetros!F12)","v":{"v":89995.83224554293,"d":"89,995.83"}},{"$f":"I30*(1+Parâmetros!G11)*(1+Parâmetros!G12)","v":{"v":95467.57884607195,"d":"95,467.58"}}]
["1.3.9.0.00.0.0.00.00.00",{"v":13900000,"d":"1.3.9.0.00.0.0"},"Demais Receitas Patrimoniais",{"$nulls":4},{"$f":"(((E31*(1+Parâmetros!B11)*(1+Parâmetros!C11)*(1+Parâmetros!D11))+(F31*(1+Parâmetros!C11)*(1+Parâmetros!D11)+(G31*(1+Parâmetros!D11))))/3)*(1+Parâmetros!E11)*(1+Parâmetros!E12)","v":0},{"$f":"H31*(1+Parâmetros!F11)*(1+Parâmetros!F12)","v":0},{"$f":"I31*(1+Parâmetros!G11)*(1+Parâmetros!G12)","v":0}]
["1.4.0.0.00.0.0.00.00.00",{"v":14110100,"d":"1.4.1.1.01.0.0"},"Receita Agropecuária",{"$nulls":4},{"$f":"(((E32*(1+Parâmetros!B11)*(1+Parâmetros!C11)*(1+Parâmetros!D11))+(F32*(1+Parâmetros!C11)*(1+Parâmetros!D11)+(G32*(1+Parâmetros!D11))))/3)*(1+Parâmetros!E11)*(1+Parâmetros!E12)","v":0},{"$f":"H32*(1+Parâmetros!F11)*(1+Parâmetros!F12)","v":0},{"$f":"I32*(1+Parâmetros!G11)*(1+Parâmetros!G12)","v":0}]
["1.5.0.0.00.0.0.00.00.00",{"v":15110100,"d":"1.5.1.1.01.0.0"},"Receita Industrial",{"$nulls":4},{"$f":"(((E33*(1+Parâmetros!B11)*(1+Parâmetros!C11)*(1+Parâmetros!D11))+(F33*(1+Parâmetros!C11)*(1+Parâmetros!D11)+(G33*(1+Parâmetros!D11))))/3)*(1+Parâmetros!E11)*(1+Parâmetros!E12)","v":0},{"$f":"H33*(1+Parâmetros!F11)*(1+Parâmetros!F12)","v":0},{"$f":"I33*(1+Parâmetros!G11)*(1+Parâmetros!G12)","v":0}]
["1.6.0.0.00.0.0.00.00",{"v":16000000,"d":"1.6.0.0.00.0.0"},"Receita de Serviços",{"$f":"D35+D36","v":{"v":578014.13,"d":"578,014.13"}},{"v":756062.97,"d":"756,062.97"},{"v":802035.32,"d":"802,035.32"},{"v":974198.4200000002,"d":"974,198.42"},{"v":987134.8457566799,"d":"987,134.85"},{"v":1047152.6443786861,"d":"1,047,152.64"},{"v":1110819.5251569103,"d":"1,110,819.53"}]
["1.6.4.0.01.1.0.00.00 + 1.6.4.0.03.1.0.00.00","1.6.4.1.01.00 +1.6.4.1.03.00 ","Retorno de Operações -  Juros e Encargos Financeiros / Rem. s/Repasse para Programas de Desenv.Econômico",{"$nulls":4},{"$f":"(((E35*(1+Parâmetros!B11)*(1+Parâmetros!C11)*(1+Parâmetros!D11))+(F35*(1+Parâmetros!C11)*(1+Parâmetros!D11)+(G35*(1+Parâmetros!D11))))/3)*(1+Parâmetros!E11)","v":0},{"$f":"H35*(1+Parâmetros!F11)","v":0},{"$f":"I35*(1+Parâmetros!G11)","v":0}]
["1.6.0.0.00.0.0.00.00",{"v":16999900,"d":"1.6.9.9.99.0.0"},"Demais Serviços",{"v":578014.13,"d":"578,014.13"},{"v":756062.97,"d":"756,062.97"},{"v":802035.32,"d":"802,035.32"},{"$f":"(487099.21/6)*12","v":{"v":974198.4200000002,"d":"974,198.42"}},{"$f":"(((E36*(1+Parâmetros!B11)*(1+Parâmetros!C11)*(1+Parâmetros!D11))+(F36*(1+Parâmetros!C11)*(1+Parâmetros!D11)+(G36*(1+Parâmetros!D11))))/3)*(1+Parâmetros!E11)*(1+Parâmetros!E12)","v":{"v":987134.8457566799,"d":"987,134.85"}},{"$f":"H36*(1+Parâmetros!F11)*(1+Parâmetros!F12)","v":{"v":1047152.6443786861,"d":"1,047,152.64"}},{"$f":"I36*(1+Parâmetros!G11)*(1+Parâmetros!G12)","v":{"v":1110819.5251569103,"d":"1,110,819.53"}}]
["1.7.0.0.00.0.0.00.00.00",{"v":17000000,"d":"1.7.0.0.00.0.0"},"Transferências Correntes",{"$f":"D38+D50+D60+D61+D62+D63+D64","v":{"v":16646118.77,"d":"16,646,118.77"}},{"v":20346120.560000002,"d":"20,346,120.56"},{"v":25455931.02,"d":"25,455,931.02"},{"v":27397202.291333333,"d":"27,397,202.29"},{"v":28225771.43603956,"d":"28,225,771.44"},{"v":32243336.52259634,"d":"32,243,336.52"},{"v":35907601.22087797,"d":"35,907,601.22"}]
["1.7.1.0.00.0.0.00.00.00",{"v":17100000,"d":"1.7.1.0.00.0.0"},"Transferências da União e de suas Entidades",{"$f":"D39+D40+D41+D42+D43+D44+D45+D46+D47+D48+D49","v":{"v":10261164.72,"d":"10,261,164.72"}},{"v":12359114.49,"d":"12,359,114.49"},{"v":16556584.85,"d":"16,556,584.85"},{"v":18446643.208333332,"d":"18,446,643.21"},{"v":19128878.498238333,"d":"19,128,878.50"},{"v":22746613.080276493,"d":"22,746,613.08"},{"v":26193874.10875783,"d":"26,193,874.11"}]
["1.7.1.8.01.2.0.00.00.00",{"v":17115110,"d":"1.7.1.1.51.1.0"},"Cota-Parte do Fundo de Participação dos Municípios - Cota Mensal",{"$f":"7653463.73+1002390.68","v":{"v":8655854.41,"d":"8,655,854.41"}},{"v":10319993.65,"d":"10,319,993.65"},{"v":13237017.91,"d":"13,237,017.91"},{"$f":"(8168749.63/6)*11","v":{"v":14976040.988333333,"d":"14,976,040.99"}},{"$f":"(((E39*(1+Parâmetros!B11)*(1+Parâmetros!C11)*(1+Parâmetros!D11))+(F39*(1+Parâmetros!C11)*(1+Parâmetros!D11)+(G39*(1+Parâmetros!D11))))/3)*(1+Parâmetros!E11)*(1+Parâmetros!E16)-1600000","v":{"v":15205582.57855586,"d":"15,205,582.58"}},{"$f":"H39*(1+Parâmetros!F11)*(1+Parâmetros!F16)","v":{"v":18218887.74204822,"d":"18,218,887.74"}},{"$f":"I39*(1+Parâmetros!G11)*(1+Parâmetros!G16)","v":{"v":21086986.408052653,"d":"21,086,986.41"}}]
["1.7.1.8.01.3.0.00.00.00",{"v":17115120,"d":"1.7.1.1.51.2.0"},"Cota-Parte do Fundo de Participação do Municípios – 1% Cota entregue no mês de dezembro",{"v":344445.14,"d":"344,445.14"},{"v":452337.92,"d":"452,337.92"},{"v":581708.91,"d":"581,708.91"},{"$f":"F40","v":{"v":581708.91,"d":"581,708.91"}},{"$f":"(((E40*(1+Parâmetros!B11)*(1+Parâmetros!C11)*(1+Parâmetros!D11))+(F40*(1+Parâmetros!C11)*(1+Parâmetros!D11)+(G40*(1+Parâmetros!D11))))/3)*(1+Parâmetros!E11)*(1+Parâmetros!E16)","v":{"v":706295.9795428569,"d":"706,295.98"}},{"$f":"H40*(1+Parâmetros!F11)*(1+Parâmetros!F16)","v":{"v":846263.3442337611,"d":"846,263.34"}},{"$f":"I40*(1+Parâmetros!G11)*(1+Parâmetros!G16)","v":{"v":979485.8989281144,"d":"979,485.90"}}]
["1.7.1.8.01.4.0.00.00.00",{"v":17115130,"d":"1.7.1.1.51.3.0"},"Cota-Parte do Fundo de Participação dos Municípios - 1% Cota entregue no mês de julho",{"v":345179.5,"d":"345,179.50"},{"v":399571.6,"d":"399,571.60"},{"v":729839.47,"d":"729,839.47"},{"$f":"F41","v":{"v":729839.47,"d":"729,839.47"}},{"$f":"(((E41*(1+Parâmetros!B11)*(1+Parâmetros!C11)*(1+Parâmetros!D11))+(F41*(1+Parâmetros!C11)*(1+Parâmetros!D11)+(G41*(1+Parâmetros!D11))))/3)*(1+Parâmetros!E11)*(1+Parâmetros!E16)","v":{"v":808214.3535589579,"d":"808,214.35"}},{"$f":"H41*(1+Parâmetros!F11)*(1+Parâmetros!F16)","v":{"v":968378.9820568125,"d":"968,378.98"}},{"$f":"I41*(1+Parâmetros!G11)*(1+Parâmetros!G16)","v":{"v":1120825.5257727483,"d":"1,120,825.53"}}]
["1.7.1.8.01.5.0.00.00.00",{"v":17115200,"d":"1.7.1.1.52.0.0"},"Cota-Parte do Imposto Sobre a Propriedade Territorial Rural",{"v":12735.81,"d":"12,735.81"},{"v":13809.21,"d":"13,809.21"},{"v":15622.61,"d":"15,622.61"},{"$f":"(1348.49/6)*12","v":{"v":2696.98,"d":"2,696.98"}},{"$f":"(((E42*(1+Parâmetros!B11)*(1+Parâmetros!C11)*(1+Parâmetros!D11))+(F42*(1+Parâmetros!C11)*(1+Parâmetros!D11)+(G42*(1+Parâmetros!D11))))/3)*(1+Parâmetros!E11)*(1+Parâmetros!E16)","v":{"v":14379.87543666225,"d":"14,379.88"}},{"$f":"H42*(1+Parâmetros!F11)*(1+Parâmetros!F16)","v":{"v":17229.54940869277,"d":"17,229.55"}},{"$f":"I42*(1+Parâmetros!G11)*(1+Parâmetros!G16)","v":{"v":19941.902016304462,"d":"19,941.90"}}]
["1.7.1.8.02.0.0.00.00.00",{"v":17120000,"d":"1.7.1.2.00.0.0"},"Transferência da Compensação Financeira pela Exploração de Recursos Naturais",{"v":603136.69,"d":"603,136.69"},{"v":846340.23,"d":"846,340.23"},{"v":1066391.07,"d":"1,066,391.07"},{"$f":"(530284.32/6)*12","v":{"v":1060568.64,"d":"1,060,568.64"}},{"$f":"(((E43*(1+Parâmetros!B11)*(1+Parâmetros!C11)*(1+Parâmetros!D11))+(F43*(1+Parâmetros!C11)*(1+Parâmetros!D11)+(G43*(1+Parâmetros!D11))))/3)*(1+Parâmetros!E11)*(1+Parâmetros!E16)","v":{"v":1300311.3855155117,"d":"1,300,311.39"}},{"$f":"H43*(1+Parâmetros!F11)*(1+Parâmetros!F16)","v":{"v":1557995.3638753812,"d":"1,557,995.36"}},{"$f":"I43*(1+Parâmetros!G11)*(1+Parâmetros!G16)","v":{"v":1803261.9513882434,"d":"1,803,261.95"}}]
["1.7.1.8.03.0.0.00.00.00",{"v":17130000,"d":"1.7.1.3.00.0.0"},"Transferência de Recursos do Sistema Único de Saúde – SUS – Repasses Fundo a Fundo",{"v":228443.61,"d":"228,443.61"},{"v":202966.26,"d":"202,966.26"},{"v":352450.87,"d":"352,450.87"},{"$f":"(391577.32/6)*12","v":{"v":783154.64,"d":"783,154.64"}},{"$f":"G44","v":{"v":783154.64,"d":"783,154.64"}},{"$f":"H44*(1+Parâmetros!F11)","v":{"v":814480.8256000001,"d":"814,480.83"}},{"$f":"I44*(1+Parâmetros!G11)","v":{"v":847060.0586240002,"d":"847,060.06"}}]
["1.7.1.8.12.0.0.00.00.00",{"v":17165000,"d":"1.7.1.6.50.0.0"},"Transferências de Recursos do Fundo Nacional de Assistência Social – FNAS",0,null,{"v":40888.55,"d":"40,888.55"},{"$f":"(13634.25/6)*12","v":{"v":27268.5,"d":"27,268.50"}},{"$f":"(((E45*(1+Parâmetros!B11)*(1+Parâmetros!C11)*(1+Parâmetros!D11))+(F45*(1+Parâmetros!C11)*(1+Parâmetros!D11)+(G45*(1+Parâmetros!D11))))/3)*(1+Parâmetros!E11)","v":{"v":25574.60562848534,"d":"25,574.61"}},{"$f":"H45*(1+Parâmetros!F11)","v":{"v":26597.589853624755,"d":"26,597.59"}},{"$f":"I45*(1+Parâmetros!G11)","v":{"v":27661.493447769746,"d":"27,661.49"}}]
["1.7.1.8.05.0.0.00.00.00",{"v":17140000,"d":"1.7.1.4.00.0.0"},"Transferências de Recursos do Fundo Nacional do Desenvolvimento da Educação – FNDE",{"v":71369.56,"d":"71,369.56"},{"v":76812.86,"d":"76,812.86"},{"$f":"108221.09+8579.43","v":{"v":116800.51999999999,"d":"116,800.52"}},{"$f":"(124460.12/6)*12","v":{"v":248920.24,"d":"248,920.24"}},{"$f":"G46","v":{"v":248920.24,"d":"248,920.24"}},{"$f":"H46*(1+Parâmetros!F11)","v":{"v":258877.0496,"d":"258,877.05"}},{"$f":"I46*(1+Parâmetros!G11)","v":{"v":269232.131584,"d":"269,232.13"}}]
["1.7.1.8.06.0.0.00.00.00",{"v":17195100,"d":"1.7.1.9.51.0.0"},"Transferência Financeira do ICMS – Desoneração – L.C. Nº 87/96",0]
["1.7.1.8.10.0.0.00.00.00",{"v":17170000,"d":"1.7.1.7.00.0.0"},"Transferências de Convênios da União e de Suas Entidades",0,{"$nulls":3},{"$f":"(((E48*(1+Parâmetros!B11)*(1+Parâmetros!C11)*(1+Parâmetros!D11))+(F48*(1+Parâmetros!C11)*(1+Parâmetros!D11)+(G48*(1+Parâmetros!D11))))/3)*(1+Parâmetros!E11)","v":0},{"$f":"H48*(1+Parâmetros!F11)","v":0},{"$f":"I48*(1+Parâmetros!G11)","v":0}]
["1.7.1.8.99.0.0.00.00.00",{"v":17190000,"d":"1.7.1.9.00.0.0"},"Outras Transferências da União",0,{"v":47282.76,"d":"47,282.76"},{"v":415864.94,"d":"415,864.94"},{"$f":"(18222.42/6)*12","v":{"v":36444.84,"d":"36,444.84"}},{"$f":"G49","v":{"v":36444.84,"d":"36,444.84"}},{"$f":"H49*(1+Parâmetros!F11)","v":{"v":37902.6336,"d":"37,902.63"}},{"$f":"I49*(1+Parâmetros!G11)","v":{"v":39418.738944000004,"d":"39,418.74"}}]
["1.7.2.0.00.0.0.00.00.00",{"v":17200000,"d":"1.7.2.0.00.0.0"},"Transferências dos Estados e do Distrito Federal e de suas Entidades",{"$f":"D51+D52+D53+D54+D55+D56+D57+D58+D59","v":{"v":6012044.539999999,"d":"6,012,044.54"}},{"$f":"E51+E52+E53+E54+E55+E56+E57+E58+E59","v":{"v":7331365.18,"d":"7,331,365.18"}},{"v":8187498.61,"d":"8,187,498.61"},{"v":7634145.951333334,"d":"7,634,145.95"},{"v":7714827.00106056,"d":"7,714,827.00"},{"v":7840795.422506179,"d":"7,840,795.42"},{"v":7797133.478757223,"d":"7,797,133.48"}]
["1.7.2.8.01.1.0.00.00.00",{"v":17215000,"d":"1.7.2.1.50.0.0"},"Cota-Parte do ICMS",{"v":5183159.83,"d":"5,183,159.83"},{"v":6249403.46,"d":"6,249,403.46"},{"v":6227680.91,"d":"6,227,680.91"},{"$f":"(2691642.1/6)*12","v":{"v":5383284.2,"d":"5,383,284.20"}},{"$f":"(((E51*(1+Parâmetros!B11)*(1+Parâmetros!C11)*(1+Parâmetros!D11))+(F51*(1+Parâmetros!C11)*(1+Parâmetros!D11)+(G51*(1+Parâmetros!D11))))/3)*(1+Parâmetros!E11)*(1+Parâmetros!E17)-1200000","v":{"v":5771018.711847728,"d":"5,771,018.71"}},{"$f":"H51*(1+Parâmetros!F11)*(1+Parâmetros!F17)","v":{"v":5845419.80044868,"d":"5,845,419.80"}},{"$f":"I51*(1+Parâmetros!G11)*(1+Parâmetros!G17)","v":{"v":5773172.149580553,"d":"5,773,172.15"}}]
["1.7.2.8.01.2.0.00.00.00",{"v":17215100,"d":"1.7.2.1.51.0.0"},"Cota-Parte do IPVA",{"v":555987.42,"d":"555,987.42"},{"v":696749.04,"d":"696,749.04"},{"v":768054.56,"d":"768,054.56"},{"$f":"F52*1.05","v":{"v":806457.2880000001,"d":"806,457.29"}},{"$f":"(((E52*(1+Parâmetros!B11)*(1+Parâmetros!C11)*(1+Parâmetros!D11))+(F52*(1+Parâmetros!C11)*(1+Parâmetros!D11)+(G52*(1+Parâmetros!D11))))/3)*(1+Parâmetros!E11)*(1+Parâmetros!E17)","v":{"v":881687.7217053574,"d":"881,687.72"}},{"$f":"H52*(1+Parâmetros!F11)*(1+Parâmetros!F17)","v":{"v":893054.610217831,"d":"893,054.61"}},{"$f":"I52*(1+Parâmetros!G11)*(1+Parâmetros!G17)","v":{"v":882016.7207440523,"d":"882,016.72"}}]
["1.7.2.8.01.3.0.00.00.00",{"v":17215200,"d":"1.7.2.1.52.0.0"},"Cota-Parte do IPI - Municípios",{"v":73815.71,"d":"73,815.71"},{"v":73553.84,"d":"73,553.84"},{"v":59997.44,"d":"59,997.44"},{"$f":"(34999.35/6)*12","v":{"v":69998.7,"d":"69,998.70"}},{"$f":"(((E53*(1+Parâmetros!B11)*(1+Parâmetros!C11)*(1+Parâmetros!D11))+(F53*(1+Parâmetros!C11)*(1+Parâmetros!D11)+(G53*(1+Parâmetros!D11))))/3)*(1+Parâmetros!E11)*(1+Parâmetros!E17)","v":{"v":79314.95054747372,"d":"79,314.95"}},{"$f":"H53*(1+Parâmetros!F11)*(1+Parâmetros!F17)","v":{"v":80337.49421917382,"d":"80,337.49"}},{"$f":"I53*(1+Parâmetros!G11)*(1+Parâmetros!G17)","v":{"v":79344.54667526575,"d":"79,344.55"}}]
["1.7.2.8.01.4.0.00.00.00",{"v":17215300,"d":"1.7.2.1.53.0.0"},"Cota-Parte da Contribuição de Intervenção no Domínio Econômico",{"v":6261.88,"d":"6,261.88"},{"v":4027.26,"d":"4,027.26"},{"v":1249.59,"d":"1,249.59"},{"$f":"(3826.24/6)*12","v":{"v":7652.48,"d":"7,652.48"}},{"$f":"(((E54*(1+Parâmetros!B11)*(1+Parâmetros!C11)*(1+Parâmetros!D11))+(F54*(1+Parâmetros!C11)*(1+Parâmetros!D11)+(G54*(1+Parâmetros!D11))))/3)*(1+Parâmetros!E11)*(1+Parâmetros!E17)","v":{"v":4955.178382703948,"d":"4,955.18"}},{"$f":"H54*(1+Parâmetros!F11)*(1+Parâmetros!F17)","v":{"v":5019.06150010369,"d":"5,019.06"}},{"$f":"I54*(1+Parâmetros!G11)*(1+Parâmetros!G17)","v":{"v":4957.027392148379,"d":"4,957.03"}}]
["1.7.2.8.01.5.0.00.00.00",{"v":17219800,"d":"1.7.2.1.98.0.0"},"Outras Participações na Receita dos Estados",0,{"$nulls":3},{"$f":"(((E55*(1+Parâmetros!B11)*(1+Parâmetros!C11)*(1+Parâmetros!D11))+(F55*(1+Parâmetros!C11)*(1+Parâmetros!D11)+(G55*(1+Parâmetros!D11))))/3)*(1+Parâmetros!E11)","v":0},{"$f":"H55*(1+Parâmetros!F11)","v":0},{"$f":"I55*(1+Parâmetros!G11)","v":0}]
["1.7.2.8.01.9.0.00.00.00",{"v":17299900,"d":"1.7.2.9.99.0.0"},"Outras Transferências dos Estados",0,{"$nulls":3},{"$f":"(((E56*(1+Parâmetros!B11)*(1+Parâmetros!C11)*(1+Parâmetros!D11))+(F56*(1+Parâmetros!C11)*(1+Parâmetros!D11)+(G56*(1+Parâmetros!D11))))/3)*(1+Parâmetros!E11)","v":0},{"$f":"H56*(1+Parâmetros!F11)","v":0},{"$f":"I56*(1+Parâmetros!G11)","v":0}]
["1.7.2.8.03.0.0.00.00.00",{"v":17235000,"d":"1.7.2.3.50.0.0"},"Transferência de Recursos do Estado para Programas de Saúde – Repasse Fundo a Fundo",{"v":45221.35,"d":"45,221.35"},{"v":142941.93,"d":"142,941.93"},{"v":122664.43,"d":"122,664.43"},{"$f":"(153010.73/6)*10","v":{"v":255017.88333333333,"d":"255,017.88"}},{"$f":"(((E57*(1+Parâmetros!B11)*(1+Parâmetros!C11)*(1+Parâmetros!D11))+(F57*(1+Parâmetros!C11)*(1+Parâmetros!D11)+(G57*(1+Parâmetros!D11))))/3)*(1+Parâmetros!E11)","v":{"v":197541.10285553447,"d":"197,541.10"}},{"$f":"H57*(1+Parâmetros!F11)","v":{"v":205442.74696975586,"d":"205,442.75"}},{"$f":"I57*(1+Parâmetros!G11)","v":{"v":213660.4568485461,"d":"213,660.46"}}]
["1.7.2.8.10.0.0.00.00.00",{"v":17240000,"d":"1.7.2.4.00.0.0"},"Transferência de Convênios dos Estados e do Distrito Federal e de Suas Entidades",{"v":147598.35,"d":"147,598.35"},{"v":164689.65,"d":"164,689.65"},{"v":690323.31,"d":"690,323.31"},{"$f":"(180781.63/6)*12","v":{"v":361563.26,"d":"361,563.26"}},{"$f":"(((E58*(1+Parâmetros!B11)*(1+Parâmetros!C11)*(1+Parâmetros!D11))+(F58*(1+Parâmetros!C11)*(1+Parâmetros!D11)+(G58*(1+Parâmetros!D11))))/3)*(1+Parâmetros!E11)","v":{"v":462780.96572176303,"d":"462,780.97"}},{"$f":"H58*(1+Parâmetros!F11)","v":{"v":481292.20435063355,"d":"481,292.20"}},{"$f":"I58*(1+Parâmetros!G11)","v":{"v":500543.8925246589,"d":"500,543.89"}}]
["1.7.2.8.99.0.0.00.00.00",{"v":17290000,"d":"1.7.2.9.00.0.0"},"Outras Transferências dos Estados",0,null,{"v":317528.37,"d":"317,528.37"},{"v":750172.14,"d":"750,172.14"},{"$f":"F59","v":{"v":317528.37,"d":"317,528.37"}},{"$f":"H59*(1+Parâmetros!F11)","v":{"v":330229.5048,"d":"330,229.50"}},{"$f":"I59*(1+Parâmetros!G11)","v":{"v":343438.684992,"d":"343,438.68"}}]
["1.7.3.0.00.0.0.00.00.00",{"v":17300000,"d":"1.7.3.0.00.0.0"},"Transferências dos Municípios e de suas Entidades",0,{"$nulls":3},{"$f":"(((E60*(1+Parâmetros!B11)*(1+Parâmetros!C11)*(1+Parâmetros!D11))+(F60*(1+Parâmetros!C11)*(1+Parâmetros!D11)+(G60*(1+Parâmetros!D11))))/3)*(1+Parâmetros!E11)","v":0},{"$f":"H60*(1+Parâmetros!F11)","v":0},{"$f":"I60*(1+Parâmetros!G11)","v":0}]
["1.7.4.0.00.0.0.00.00.00",{"v":17400000,"d":"1.7.4.0.00.0.0"},"Transferências de Instituições Privadas",0,{"$nulls":3},{"$f":"(((E61*(1+Parâmetros!B11)*(1+Parâmetros!C11)*(1+Parâmetros!D11))+(F61*(1+Parâmetros!C11)*(1+Parâmetros!D11)+(G61*(1+Parâmetros!D11))))/3)*(1+Parâmetros!E11)","v":0},{"$f":"H61*(1+Parâmetros!F11)","v":0},{"$f":"I61*(1+Parâmetros!G11)","v":0}]
["1.7.5.8.01.1.1.00.00.00",{"v":17515000,"d":"1.7.5.1.50.0.0"},"Transferências de Recursos do FUNDEB - Principal",{"v":372909.51,"d":"372,909.51"},{"v":655640.89,"d":"655,640.89"},{"v":711747.56,"d":"711,747.56"},{"$f":"(717879.89/6)*11","v":{"v":1316113.1316666666,"d":"1,316,113.13"}},{"$f":"G62*1.05","v":{"v":1381918.78825,"d":"1,381,918.79"}},{"$f":"H62*(1+Parâmetros!F11)*(1+Parâmetros!F16)","v":{"v":1655774.9853833767,"d":"1,655,774.99"}},{"$f":"I62*(1+Parâmetros!G11)*(1+Parâmetros!G16)","v":{"v":1916434.4775554102,"d":"1,916,434.48"}}]
["1.7.6.0.00.0.0.00.00.00",{"v":17610000,"d":"1.7.6.1.00.0.0"},"Transferências do Exterior",{"$nulls":4},{"$f":"(((E63*(1+Parâmetros!B11)*(1+Parâmetros!C11)*(1+Parâmetros!D11))+(F63*(1+Parâmetros!C11)*(1+Parâmetros!D11)+(G63*(1+Parâmetros!D11))))/3)*(1+Parâmetros!E11)","v":0},{"$f":"H63*(1+Parâmetros!F11)","v":0},{"$f":"I63*(1+Parâmetros!G11)","v":0}]
["1.7.7.0.00.0.0.00.00.00",{"v":17910000,"d":"1.7.9.1.00.0.0"},"Transferências de Pessoas Físicas",0,0,{"v":100,"d":"100.00"},{"v":300,"d":"300.00"},{"$f":"(((E64*(1+Parâmetros!B11)*(1+Parâmetros!C11)*(1+Parâmetros!D11))+(F64*(1+Parâmetros!C11)*(1+Parâmetros!D11)+(G64*(1+Parâmetros!D11))))/3)*(1+Parâmetros!E11)","v":{"v":147.14849066666667,"d":"147.15"}},{"$f":"H64*(1+Parâmetros!F11)","v":{"v":153.03443029333334,"d":"153.03"}},{"$f":"I64*(1+Parâmetros!G11)","v":{"v":159.1558075050667,"d":"159.16"}}]
["1.9.0.0.00.0.0.00.00.00",{"v":19000000,"d":"1.9.0.0.00.0.0"},"Outras Receitas Correntes",{"$f":"D66+D67+D70","v":{"v":30957.9,"d":"30,957.90"}},{"v":55436.68,"d":"55,436.68"},{"v":107809.79,"d":"107,809.79"},{"v":31204.579999999998,"d":"31,204.58"},{"v":75173.16391151614,"d":"75,173.16"},{"v":78180.0904679768,"d":"78,180.09"},{"v":81307.29408669587,"d":"81,307.29"}]
["1.9.1.0.00.0.0.00.00.00",{"v":19110000,"d":"1.9.1.1.00.0.0"},"Multas Administrativas, Contratuais e Judiciais",{"v":8637.79,"d":"8,637.79"},{"v":24488.33,"d":"24,488.33"},{"v":20068.31,"d":"20,068.31"},{"$f":"(6353.9/6)*12","v":{"v":12707.8,"d":"12,707.80"}},{"$f":"(((E66*(1+Parâmetros!B11)*(1+Parâmetros!C11)*(1+Parâmetros!D11))+(F66*(1+Parâmetros!C11)*(1+Parâmetros!D11)+(G66*(1+Parâmetros!D11))))/3)*(1+Parâmetros!E11)","v":{"v":22244.96648537996,"d":"22,244.97"}},{"$f":"H66*(1+Parâmetros!F11)","v":{"v":23134.765144795158,"d":"23,134.77"}},{"$f":"I66*(1+Parâmetros!G11)","v":{"v":24060.155750586964,"d":"24,060.16"}}]
["1.9.2.0.00.0.0.00.00.00",{"v":19200000,"d":"1.9.2.0.00.0.0"},"Indenizações, Restituições e Ressarcimentos",{"$f":"D68+D69","v":{"v":18245.11,"d":"18,245.11"}},{"v":30948.35,"d":"30,948.35"},{"v":85303.08,"d":"85,303.08"},{"v":18154,"d":"18,154.00"},{"v":51868.42108732019,"d":"51,868.42"},{"v":53943.157930812995,"d":"53,943.16"},{"v":56100.88424804551,"d":"56,100.88"}]
["1.9.2.2.01.2.0.00.00",{"v":19220120,"d":"1.9.2.2.01.2.0"},"Restituição de Convênios -  Financeiras",{"$nulls":4},{"$f":"(((E68*(1+Parâmetros!B11)*(1+Parâmetros!C11)*(1+Parâmetros!D11))+(F68*(1+Parâmetros!C11)*(1+Parâmetros!D11)+(G68*(1+Parâmetros!D11))))/3)*(1+Parâmetros!E11)","v":0},{"$f":"H68*(1+Parâmetros!F11)","v":0},{"$f":"I68*(1+Parâmetros!G11)","v":0}]
["1.9.2.0.00.0.0.00.00",{"v":19229900,"d":"1.9.2.2.99.0.0"},"Outras Indenizações, Restituições e Ressarcimentos",{"v":18245.11,"d":"18,245.11"},{"v":30948.35,"d":"30,948.35"},{"v":85303.08,"d":"85,303.08"},{"$f":"(9077/6)*12","v":{"v":18154,"d":"18,154.00"}},{"$f":"(((E69*(1+Parâmetros!B11)*(1+Parâmetros!C11)*(1+Parâmetros!D11))+(F69*(1+Parâmetros!C11)*(1+Parâmetros!D11)+(G69*(1+Parâmetros!D11))))/3)*(1+Parâmetros!E11)","v":{"v":51868.42108732019,"d":"51,868.42"}},{"$f":"H69*(1+Parâmetros!F11)","v":{"v":53943.157930812995,"d":"53,943.16"}},{"$f":"I69*(1+Parâmetros!G11)","v":{"v":56100.88424804551,"d":"56,100.88"}}]
["1.9.9.0.00.0.0.00.00.00",{"v":19990000,"d":"1.9.9.9.00.0.0"},"Demais Receitas Correntes",{"$f":"D71+D72+D73+D74+D75","v":{"v":4075,"d":"4,075.00"}},0,{"v":2438.4,"d":"2,438.40"},342.78,{"v":1059.7763388160001,"d":"1,059.78"},{"v":1102.16739236864,"d":"1,102.17"},{"v":1146.2540880633858,"d":"1,146.25"}]
["1.9.9.0.06.0.0.00.00.00",{"v":19990600,"d":"1.9.9.9.06.0.0"},"Contrapartida de Subvenções ou Subsídios",{"$nulls":4},{"$f":"(((E71*(1+Parâmetros!B11)*(1+Parâmetros!C11)*(1+Parâmetros!D11))+(F71*(1+Parâmetros!C11)*(1+Parâmetros!D11)+(G71*(1+Parâmetros!D11))))/3)*(1+Parâmetros!E11)","v":0},{"$f":"H71*(1+Parâmetros!F11)","v":0},{"$f":"I71*(1+Parâmetros!G11)","v":0}]
["1.9.9.0.1.1.1.0.00.00.00",{"v":19991100,"d":"1.9.9.9.11.0.0"},"Variação Cambial",{"$nulls":4},{"$f":"((D72+E72+F72+G72)/4)/Parâmetros!D22*Parâmetros!E22","v":0},{"$f":"((E72+F72+G72+H72)/4)/Parâmetros!E22*Parâmetros!F22","v":0},{"$f":"((F72+G72+H72+I72)/4)/Parâmetros!F22*Parâmetros!G22","v":0}]
["1.9.9.0.12.0.0.00.00.00",{"v":19991200,"d":"1.9.9.9.12.0.0"},"Encargos Legais pela Inscrição em Dívida Ativa e Receitas de Ônus de Sucumbência",{"$nulls":4},{"$f":"(((E73*(1+Parâmetros!B11)*(1+Parâmetros!C11)*(1+Parâmetros!D11))+(F73*(1+Parâmetros!C11)*(1+Parâmetros!D11)+(G73*(1+Parâmetros!D11))))/3)*(1+Parâmetros!E11)","v":0},{"$f":"H73*(1+Parâmetros!F11)","v":0},{"$f":"I73*(1+Parâmetros!G11)","v":0}]
["1.9.9.0.99.2.0.00.00.00",{"v":19999930,"d":"1.9.9.9.99.3.0"},"Outras Receitas Financeiras",{"$nulls":4},{"$f":"((D74+E74+F74+G74)/4)*(1+Parâmetros!E11)","v":0},{"$f":"((E74+F74+G74+H74)/4)*(1+Parâmetros!F11)","v":0},{"$f":"((F74+G74+H74+I74)/4)*(1+Parâmetros!G11)","v":0}]
["1.9.9.0.99.0.0.00.00.00",{"v":19999900,"d":"1.9.9.9.99.0.0"},"Outras Receitas (demais receitas diversas)",{"v":4075,"d":"4,075.00"},null,{"v":2438.4,"d":"2,438.40"},{"$f":"(171.39/6)*12","v":342.78},{"$f":"(((E75*(1+Parâmetros!B11)*(1+Parâmetros!C11)*(1+Parâmetros!D11))+(F75*(1+Parâmetros!C11)*(1+Parâmetros!D11)+(G75*(1+Parâmetros!D11))))/3)*(1+Parâmetros!E11)","v":{"v":1059.7763388160001,"d":"1,059.78"}},{"$f":"H75*(1+Parâmetros!F11)","v":{"v":1102.16739236864,"d":"1,102.17"}},{"$f":"I75*(1+Parâmetros!G11)","v":{"v":1146.2540880633858,"d":"1,146.25"}}]
["2.0.0.0.00.0.0.00.00.00",{"v":20000000,"d":"2.0.0.0.00.0.0"},"Receitas de Capital",{"$f":"D77+D78+D83+D84+D92","v":{"v":123159.68999999999,"d":"123,159.69"}},{"v":1659929.32,"d":"1,659,929.32"},{"v":2038276.44,"d":"2,038,276.44"},{"v":816629.4999999999,"d":"816,629.50"},{"v":478825.52255402587,"d":"478,825.52"},{"v":504752.1865921869,"d":"504,752.19"},{"v":532127.7546945432,"d":"532,127.75"}]
["2.1.0.0.00.0.0.00.00.00",{"v":21000000,"d":"2.1.0.0.00.0.0"},"Operações de Crédito",null,{"v":973000,"d":"973,000.00"},0,null,{"$f":"Dívida!E21","v":0},{"$f":"Dívida!F21","v":0},{"$f":"Dívida!G21","v":0}]
["2.2.0.0.00.0.0.00.00.00",{"v":22000000,"d":"2.2.0.0.00.0.0"},"Alienação de Bens",{"$f":"D79+D80+D81+D82","v":{"v":69008.01,"d":"69,008.01"}},{"v":59437.05,"d":"59,437.05"},{"v":92124.9,"d":"92,124.90"},{"v":85956.48,"d":"85,956.48"},{"v":90632.93319905597,"d":"90,632.93"},{"v":94258.25052701822,"d":"94,258.25"},{"v":98028.58054809895,"d":"98,028.58"}]
["2.2.1.8.01.1.0.00.00.00 ",{"v":22110100,"d":"2.2.1.1.01.0.0"},"Alienação de Investimentos Temporários",{"$nulls":4},{"$f":"((D79+E79+F79+G79)/4)*(1+Parâmetros!E11)","v":0},{"$f":"((E79+F79+G79+H79)/4)*(1+Parâmetros!F11)","v":0},{"$f":"((F79+G79+H79+I79)/4)*(1+Parâmetros!G11)","v":0}]
["2.2.1.8.01.2.0.00.00.00",{"v":22110200,"d":"2.2.1.1.02.0.0"},"Alienação de Investimenros Permanentes",0,0,null,null,{"$f":"((D80+E80+F80+G80)/4)*(1+Parâmetros!E11)","v":0},{"$f":"((E80+F80+G80+H80)/4)*(1+Parâmetros!F11)","v":0},{"$f":"((F80+G80+H80+I80)/4)*(1+Parâmetros!G11)","v":0}]
["2.2.1.0.00.0.0.00.00.00",{"v":22100000,"d":"2.2.1.0.00.0.0"},"Alienação de Bens Móveis",null,null,0,null,{"$f":"(((E81*(1+Parâmetros!B11)*(1+Parâmetros!C11)*(1+Parâmetros!D11))+(F81*(1+Parâmetros!C11)*(1+Parâmetros!D11)+(G81*(1+Parâmetros!D11))))/3)*(1+Parâmetros!E11)","v":0},{"$f":"H81*(1+Parâmetros!F11)","v":0},{"$f":"I81*(1+Parâmetros!G11)","v":0}]
["2.2.2.0.00.0.0.00.00.00",{"v":22210100,"d":"2.2.2.1.01.0.0"},"Alienação de Bens Imóveis",{"v":69008.01,"d":"69,008.01"},{"v":59437.05,"d":"59,437.05"},{"v":92124.9,"d":"92,124.90"},{"$f":"(42978.24/6)*12","v":{"v":85956.48,"d":"85,956.48"}},{"$f":"(((E82*(1+Parâmetros!B11)*(1+Parâmetros!C11)*(1+Parâmetros!D11))+(F82*(1+Parâmetros!C11)*(1+Parâmetros!D11)+(G82*(1+Parâmetros!D11))))/3)*(1+Parâmetros!E11)","v":{"v":90632.93319905597,"d":"90,632.93"}},{"$f":"H82*(1+Parâmetros!F11)","v":{"v":94258.25052701822,"d":"94,258.25"}},{"$f":"I82*(1+Parâmetros!G11)","v":{"v":98028.58054809895,"d":"98,028.58"}}]
["2.3.0.0.00.0.0.00.00.00",{"v":23110000,"d":"2.3.1.1.00.0.0"},"Amortização de Empréstimos",0,0,null,null,{"$f":"(((E83*(1+Parâmetros!B11)*(1+Parâmetros!C11)*(1+Parâmetros!D11))+(F83*(1+Parâmetros!C11)*(1+Parâmetros!D11)+(G83*(1+Parâmetros!D11))))/3)*(1+Parâmetros!E11)","v":0},{"$f":"H83*(1+Parâmetros!F11)","v":0},{"$f":"I83*(1+Parâmetros!G11)","v":0}]
["2.4.0.0.00.0.0.00.00.00",{"v":24000000,"d":"2.4.0.0.00.0.0"},"Transferências de Capital",{"$f":"D85+D86+D87+D88+D89+D90+D91","v":{"v":54095.23,"d":"54,095.23"}},{"v":616380.96,"d":"616,380.96"},{"v":1857368.06,"d":"1,857,368.06"},{"v":664580.1599999999,"d":"664,580.16"},{"v":325655.92,"d":"325,655.92"},{"v":345455.799936,"d":"345,455.80"},{"v":366459.5125721088,"d":"366,459.51"}]
["2.4.1.0.00.0.0.00.00.00",{"v":24100000,"d":"2.4.1.0.00.0.0"},"Transferências da União e de suas Entidades",{"v":54095.23,"d":"54,095.23"},{"v":616380.96,"d":"616,380.96"},{"v":1607030,"d":"1,607,030.00"},{"v":216185,"d":"216,185.00"},{"v":100000,"d":"100,000.00"},{"$f":"H85*(1+Parâmetros!F11)*(1+Parâmetros!F12)","v":{"v":106080,"d":"106,080.00"}},{"$f":"I85*(1+Parâmetros!G11)*(1+Parâmetros!G12)","v":{"v":112529.664,"d":"112,529.66"}}]
["2.4.2.0.00.0.0.00.00.00",{"v":24200000,"d":"2.4.2.0.00.0.0"},"Transferências dos Estados e do Distrito Federal e de suas Entidades",null,null,{"v":250338.06,"d":"250,338.06"},{"v":448395.16,"d":"448,395.16"},{"$f":"100000+125655.92","v":{"v":225655.91999999998,"d":"225,655.92"}},{"$f":"H86*(1+Parâmetros!F11)*(1+Parâmetros!F12)","v":{"v":239375.799936,"d":"239,375.80"}},{"$f":"I86*(1+Parâmetros!G11)*(1+Parâmetros!G12)","v":{"v":253929.8485721088,"d":"253,929.85"}}]
["2.4.3.0.00.0.0.00.00.00",{"v":24300000,"d":"2.4.3.0.00.0.0"},"Transferências dos Municípios e de suas Entidades",{"$nulls":4},{"$f":"(((E87*(1+Parâmetros!B11)*(1+Parâmetros!C11)*(1+Parâmetros!D11))+(F87*(1+Parâmetros!C11)*(1+Parâmetros!D11)+(G87*(1+Parâmetros!D11))))/3)*(1+Parâmetros!E11)*(1+Parâmetros!E12)","v":0},{"$f":"H87*(1+Parâmetros!F11)*(1+Parâmetros!F12)","v":0},{"$f":"I87*(1+Parâmetros!G11)*(1+Parâmetros!G12)","v":0}]
["2.4.4.0.00.0.0.00.00.00",{"v":24410000,"d":"2.4.4.1.00.0.0"},"Transferências de Instituições Privadas",{"$nulls":4},{"$f":"(((E88*(1+Parâmetros!B11)*(1+Parâmetros!C11)*(1+Parâmetros!D11))+(F88*(1+Parâmetros!C11)*(1+Parâmetros!D11)+(G88*(1+Parâmetros!D11))))/3)*(1+Parâmetros!E11)*(1+Parâmetros!E12)","v":0},{"$f":"H88*(1+Parâmetros!F11)*(1+Parâmetros!F12)","v":0},{"$f":"I88*(1+Parâmetros!G11)*(1+Parâmetros!G12)","v":0}]
["2.4.5.0.00.0.0.00.00.00",{"v":24510100,"d":"2.4.5.1.01.0.0"},"Transferências de Outras Instituições Públicas",{"$nulls":4},{"$f":"(((E89*(1+Parâmetros!B11)*(1+Parâmetros!C11)*(1+Parâmetros!D11))+(F89*(1+Parâmetros!C11)*(1+Parâmetros!D11)+(G89*(1+Parâmetros!D11))))/3)*(1+Parâmetros!E11)*(1+Parâmetros!E12)","v":0},{"$f":"H89:H90*(1+Parâmetros!F11)*(1+Parâmetros!F12)","v":0},{"$f":"I89:I90*(1+Parâmetros!G11)*(1+Parâmetros!G12)","v":0}]
["2.4.6.0.00.0.0.00.00.00",{"v":24610000,"d":"2.4.6.1.00.0.0"},"Transferências do Exterior",{"$nulls":4},{"$f":"(((E90*(1+Parâmetros!B11)*(1+Parâmetros!C11)*(1+Parâmetros!D11))+(F90*(1+Parâmetros!C11)*(1+Parâmetros!D11)+(G90*(1+Parâmetros!D11))))/3)*(1+Parâmetros!E11)*(1+Parâmetros!E12)","v":0},{"$f":"H90*(1+Parâmetros!F11)*(1+Parâmetros!F12)","v":0},{"$f":"I90*(1+Parâmetros!G11)*(1+Parâmetros!G12)","v":0}]
["2.4.7.0.00.0.0.00.00.00",{"v":24910000,"d":"2.4.9.1.00.0.0"},"Transferências de Pessoas Físicas",{"$nulls":4},{"$f":"(((E91*(1+Parâmetros!B11)*(1+Parâmetros!C11)*(1+Parâmetros!D11))+(F91*(1+Parâmetros!C11)*(1+Parâmetros!D11)+(G91*(1+Parâmetros!D11))))/3)*(1+Parâmetros!E11)*(1+Parâmetros!E12)","v":0},{"$f":"H91*(1+Parâmetros!F11)*(1+Parâmetros!F12)","v":0},{"$f":"I91*(1+Parâmetros!G11)*(1+Parâmetros!G12)","v":0}]
["2.9.0.0.00.0.0.00.00.00",{"v":29000000,"d":"2.9.0.0.00.0.0"},"Outras Receitas de Capital",{"$f":"D93+D94","v":56.45},{"v":11111.31,"d":"11,111.31"},{"v":88783.48,"d":"88,783.48"},{"v":66092.86,"d":"66,092.86"},{"v":62536.669354969905,"d":"62,536.67"},{"v":65038.136129168706,"d":"65,038.14"},{"v":67639.66157433546,"d":"67,639.66"}]
["2.9.9.0.00.1.1.01.00.00",{"v":29999900,"d":"2.9.9.9.99.0.0"},"Outras Receitas de Capital",{"$nulls":4},{"$f":"(((E93*(1+Parâmetros!B11)*(1+Parâmetros!C11)*(1+Parâmetros!D11))+(F93*(1+Parâmetros!C11)*(1+Parâmetros!D11)+(G93*(1+Parâmetros!D11))))/3)*(1+Parâmetros!E11)","v":0},{"$f":"H93*(1+Parâmetros!F11)","v":0},{"$f":"I93*(1+Parâmetros!G11)","v":0}]
["2.9.9.0.00.1.1.02.00.00",{"v":29999900,"d":"2.9.9.9.99.0.0"},"Remuneracao de Depósitos Bancários - Principal",56.45,{"v":11111.31,"d":"11,111.31"},{"v":88783.48,"d":"88,783.48"},{"$f":"(33046.43/6)*12","v":{"v":66092.86,"d":"66,092.86"}},{"$f":"(((E94*(1+Parâmetros!B11)*(1+Parâmetros!C11)*(1+Parâmetros!D11))+(F94*(1+Parâmetros!C11)*(1+Parâmetros!D11)+(G94*(1+Parâmetros!D11))))/3)*(1+Parâmetros!E11)","v":{"v":62536.669354969905,"d":"62,536.67"}},{"$f":"H94*(1+Parâmetros!F11)","v":{"v":65038.136129168706,"d":"65,038.14"}},{"$f":"I94*(1+Parâmetros!G11)","v":{"v":67639.66157433546,"d":"67,639.66"}}]
["7.0.0.0.00.0.0.00.00.00",{"v":70000000,"d":"7.0.0.0.00.0.0"},"Receitas Correntes Intraorçamentárias",{"$f":"D96+D97","v":0},0,0,0,0,0,0]
[null,{"v":70000000,"d":"7.0.0.0.00.0.0"},"Receitas Correntes Intraorçamentárias - Primárias",{"$nulls":4},{"$f":"(((E96*(1+Parâmetros!B11)*(1+Parâmetros!C11)*(1+Parâmetros!D11))+(F96*(1+Parâmetros!C11)*(1+Parâmetros!D11)+(G96*(1+Parâmetros!D11))))/3)*(1+Parâmetros!E11)","v":0},{"$f":"H96*(1+Parâmetros!F11)","v":0},{"$f":"I96*(1+Parâmetros!G11)","v":0},{"$nulls":245},{"v":100,"d":"100.00"}]
[null,{"v":70000000,"d":"7.0.0.0.00.0.0"},"Receitas Correntes Intraorçamentárias - Financeiras / Não Primárias",{"$nulls":4},{"$f":"(((E97*(1+Parâmetros!B11)*(1+Parâmetros!C11)*(1+Parâmetros!D11))+(F97*(1+Parâmetros!C11)*(1+Parâmetros!D11)+(G97*(1+Parâmetros!D11))))/3)*(1+Parâmetros!E11)","v":0},{"$f":"H97*(1+Parâmetros!F11)","v":0},{"$f":"I97*(1+Parâmetros!G11)","v":0}]
["8.0.0.0.00.0.0.00.00.00",{"v":80000000,"d":"8.0.0.0.00.0.0"},"Receitas de Capital Intraorçamentárias",{"$f":"D99+D100","v":0},0,0,0,0,0,0]
[null,{"v":80000000,"d":"8.0.0.0.00.0.0"},"Receitas de Capital Intraorçamentárias - Primárias",{"$nulls":4},{"$f":"(((E99*(1+Parâmetros!B11)*(1+Parâmetros!C11)*(1+Parâmetros!D11))+(F99*(1+Parâmetros!C11)*(1+Parâmetros!D11)+(G99*(1+Parâmetros!D11))))/3)*(1+Parâmetros!E11)","v":0},{"$f":"H99*(1+Parâmetros!F11)","v":0},{"$f":"I99*(1+Parâmetros!G11)","v":0}]
[null,{"v":80000000,"d":"8.0.0.0.00.0.0"},"Receitas de Capital Intraorçamentárias - Financeiras / Não Primárias",{"$nulls":4},{"$f":"(((E100*(1+Parâmetros!B11)*(1+Parâmetros!C11)*(1+Parâmetros!D11))+(F100*(1+Parâmetros!C11)*(1+Parâmetros!D11)+(G100*(1+Parâmetros!D11))))/3)*(1+Parâmetros!E11)","v":0},{"$f":"H100*(1+Parâmetros!F11)","v":0},{"$f":"I100*(1+Parâmetros!G11)","v":0}]
["9.0.0.0.0.00.0.0.00.00","9.0.0.0.0.00.0.0","( R ) Deduções da Receita - Digitar com sinal negativo",{"$f":"D102+D103+D104+D105","v":{"v":-2743102.68,"d":"-2,743,102.68"}},{"v":-3523743.5399999996,"d":"-3,523,743.54"},{"v":-4158794.3,"d":"-4,158,794.30"},{"v":-4603953.399999999,"d":"-4,603,953.40"},{"v":-4426992.2199377185,"d":"-4,426,992.22"},{"v":-5049045.109680384,"d":"-5,049,045.11"},{"v":-5607873.9866421055,"d":"-5,607,873.99"}]
["9.1.1.0.0.00.0.0.00.00","9.1.1.0.0.00.0.0","Deduções da Receita de Impostos, Taxas e Contribuições de Melhoria (digitar com sinal negativo)",{"$f":"-49630.25-563.27","v":{"v":-50193.52,"d":"-50,193.52"}},{"$f":"-53061.03","v":{"v":-53061.03,"d":"-53,061.03"}},{"$f":"-30152.6+96.43+452.31","v":{"v":-29603.859999999997,"d":"-29,603.86"}},{"$f":"-(1694.67/6)*12","v":{"v":-3389.34,"d":"-3,389.34"}},{"$f":"(((E102*(1+Parâmetros!B11)*(1+Parâmetros!C11)*(1+Parâmetros!D11))+(F102*(1+Parâmetros!C11)*(1+Parâmetros!D11)+(G102*(1+Parâmetros!D11))))/3)*(1+Parâmetros!E11)","v":{"v":-34119.59501139513,"d":"-34,119.60"}},{"$f":"H102*(1+Parâmetros!F11)","v":{"v":-35484.37881185094,"d":"-35,484.38"}},{"$f":"I102*(1+Parâmetros!G11)","v":{"v":-36903.75396432498,"d":"-36,903.75"}}]
["9.1.7.0.0.00.0.0.00.00","9.1.7.0.0.00.0.0","Deduções para o FUNDEB",{"$f":"-2692909.16","v":{"v":-2692909.16,"d":"-2,692,909.16"}},{"$f":"-3470682.51","v":{"v":-3470682.51,"d":"-3,470,682.51"}},{"$f":"-4125180.5","v":{"v":-4125180.5,"d":"-4,125,180.50"}},{"$f":"-(2298989.38/6)*12","v":{"v":-4597978.76,"d":"-4,597,978.76"}},{"$f":"-((H39+H42+H47+H51+H52+H53)*0.2)","v":{"v":-4390396.767618617,"d":"-4,390,396.77"}},{"v":-5010985.83926852,"d":"-5,010,985.84"},{"v":-5568292.345413766,"d":"-5,568,292.35"}]
["9.1.0.0.0.00.0.0.00.00","9.1.0.0.0.00.0.0","Demais Deduções da Receita Corrente  (digitar com sinal negativo)",null,null,{"$f":"-2851.51+60.95-1219.38","v":{"v":-4009.9400000000005,"d":"-4,009.94"}},{"$f":"-((1281.5+11.15)/6)*12","v":{"v":-2585.3,"d":"-2,585.30"}},{"$f":"(((E104*(1+Parâmetros!B11)*(1+Parâmetros!C11)*(1+Parâmetros!D11))+(F104*(1+Parâmetros!C11)*(1+Parâmetros!D11)+(G104*(1+Parâmetros!D11))))/3)*(1+Parâmetros!E11)","v":{"v":-2475.8573077056003,"d":"-2,475.86"}},{"$f":"H104*(1+Parâmetros!F11)","v":{"v":-2574.8916000138242,"d":"-2,574.89"}},{"$f":"I104*(1+Parâmetros!G11)","v":{"v":-2677.8872640143773,"d":"-2,677.89"}}]
["9.2.0.0.0.00.0.0.00.00","9.2.0.0.0.00.0.0","Deduções da Receita de Capital  (digitar com sinal negativo)",{"$nulls":4},{"$f":"(((E105*(1+Parâmetros!B11)*(1+Parâmetros!C11)*(1+Parâmetros!D11))+(F105*(1+Parâmetros!C11)*(1+Parâmetros!D11)+(G105*(1+Parâmetros!D11))))/3)*(1+Parâmetros!E11)","v":{"v":0,"d":"0.00"}},{"$f":"H105*(1+Parâmetros!F11)","v":{"v":0,"d":"0.00"}},{"$f":"I105*(1+Parâmetros!G11)","v":{"v":0,"d":"0.00"}}]
[]
[null,null,"TOTAL DAS RECEITAS ARRECADADAS",{"$f":"D8+D76+D95+D98+D101","v":{"v":15955974.34,"d":"15,955,974.34"}},{"v":20703377.430000003,"d":"20,703,377.43"},{"v":26905103.16,"d":"26,905,103.16"},{"v":27572504.769166667,"d":"27,572,504.77"},{"v":28373000.0037438,"d":"28,373,000.00"},{"v":32620624.07144802,"d":"32,620,624.07"},{"v":36456696.01335532,"d":"36,456,696.01"}]
[]
[{"$f":"Parâmetros!A7","v":"Município de :   NOVA PÁDUA"}]
[{"$f":"Parâmetros!A8","v":"LEI DE DIRETRIZES ORÇAMENTÁRIAS  PARA 2025"}]
["Memória de Cálculo das Estimativas de Pagamento das Despesas - Inclusive Restos a Pagar - Exceto Despesas do RPPS "]
[{"$nulls":9},"Valores em R$ 1,00"]
["Código",null,"Descrição","PAGA","PAGA","PAGA","PAGA(Estim)","PROJETADO","PROJETADO","PROJETADO"]
[{"$nulls":3},{"$f":"D7","v":2021},{"$f":"D114+1","v":2022},2023,2024,2025,2026,2027]
["3.0.00.00.00.00.00",null,"DESPESAS CORRENTES",{"$f":"D116+D121+D126","v":{"v":13989732.59,"d":"13,989,732.59"}},{"v":15332150.86,"d":"15,332,150.86"},{"v":21192375.71,"d":"21,192,375.71"},{"v":23211244.470053762,"d":"23,211,244.47"},{"v":24561745.828402527,"d":"24,561,745.83"},{"v":29292524.439254284,"d":"29,292,524.44"},{"v":33583085.94708821,"d":"33,583,085.95"}]
["3.1.00.00.00.00.00",null,"PESSOAL E ENCARGOS SOCIAIS",{"$f":"SUM(D117:D120)","v":{"v":7138452.42,"d":"7,138,452.42"}},{"v":6678093.399999999,"d":"6,678,093.40"},{"v":9283513.139999999,"d":"9,283,513.14"},{"v":10368547.278387096,"d":"10,368,547.28"},{"v":10795021.817712625,"d":"10,795,021.82"},{"v":13221282.93982643,"d":"13,221,282.94"},{"v":15078124.329785429,"d":"15,078,124.33"}]
["3.1.00.00.00.00.00",null,"Pessoal  - Executivo / Indiretes",{"v":6763303.32,"d":"6,763,303.32"},{"v":6288047.85,"d":"6,288,047.85"},{"$f":"8812206.92-F120","v":{"v":7531041.35,"d":"7,531,041.35"}},{"$f":"((4593488.24/6.2)*13.2)-G120","v":{"v":8242205.840000001,"d":"8,242,205.84"}},{"$f":"(((E117*(1+Parâmetros!B11)*(1+Parâmetros!C11)*(1+Parâmetros!D11))+(F117*(1+Parâmetros!C11)*(1+Parâmetros!D11)+(G117*(1+Parâmetros!D11))))/3)*(1+Parâmetros!E11)*(1+Parâmetros!E13)*(1+Parâmetros!E18)","v":{"v":9218629.138584211,"d":"9,218,629.14"}},{"$f":"H117*(1+Parâmetros!F11)*(1+Parâmetros!F13)*(1+Parâmetros!F18)","v":{"v":11174401.25294365,"d":"11,174,401.25"}},{"$f":"I117*(1+Parâmetros!G11)*(1+Parâmetros!G13)*(1+Parâmetros!G18)","v":{"v":12899681.543929087,"d":"12,899,681.54"}}]
["3.1.00.00.00.00.00",null,"Pessoal  - Legislativo",{"v":375149.1,"d":"375,149.10"},{"v":390045.55,"d":"390,045.55"},{"v":464911.12,"d":"464,911.12"},{"$f":"(236697.59/6.2)*13","v":{"v":496301.3983870967,"d":"496,301.40"}},{"$f":"(((E118*(1+Parâmetros!B11)*(1+Parâmetros!C11)*(1+Parâmetros!D11))+(F118*(1+Parâmetros!C11)*(1+Parâmetros!D11)+(G118*(1+Parâmetros!D11))))/3)*(1+Parâmetros!E11)*(1+Parâmetros!E13)*(1+Parâmetros!E19)","v":{"v":564957.7663284142,"d":"564,957.77"}},{"$f":"H118*(1+Parâmetros!F11)*(1+Parâmetros!F13)*(1+Parâmetros!F19)","v":{"v":684816.0043121154,"d":"684,816.00"}},{"$f":"I118*(1+Parâmetros!G11)*(1+Parâmetros!G13)*(1+Parâmetros!G19)","v":{"v":790548.6989278427,"d":"790,548.70"}}]
["3.1.00.00.00.00.00",null,"Pessoal   - Restos a Pagar Pagos",null,null,{"$f":"6395.1","v":{"v":6395.1,"d":"6,395.10"}},{"$f":"91300.56+1260.68","v":{"v":92561.23999999999,"d":"92,561.24"}},{"$f":"((E119+F119+G119)/3)*(1+Parâmetros!E11)","v":{"v":34304.86453333333,"d":"34,304.86"}},{"$f":"((F119+G119+H119)/3)*(1+Parâmetros!F11)","v":{"v":46197.217571555564,"d":"46,197.22"}},{"$f":"((G119+H119+I119)/3)*(1+Parâmetros!G11)","v":{"v":59995.284996361486,"d":"59,995.28"}}]
["3.1.91.00.00.00.00",null,"Despesas Com Pessoal  - INTRAORÇAMENTÁRIAS",null,null,{"v":1281165.57,"d":"1,281,165.57"},{"$f":"((709605.6/6)*13)","v":{"v":1537478.7999999998,"d":"1,537,478.80"}},{"$f":"((E120+F120+G120)/3)*(1+Parâmetros!E11)","v":{"v":977130.0482666668,"d":"977,130.05"}},{"$f":"((F120+G120+H120)/3)*(1+Parâmetros!F11)","v":{"v":1315868.4649991111,"d":"1,315,868.46"}},{"$f":"((G120+H120+I120)/3)*(1+Parâmetros!G11)","v":{"v":1327898.8019321365,"d":"1,327,898.80"}}]
["3.2.00.00.00.00.00",null,"JUROS E ENCARGOS DA DÍVIDA",{"$f":"SUM(D122:D125)","v":0},0,{"v":222997.41,"d":"222,997.41"},{"v":222997.41,"d":"222,997.41"},{"v":176014.44248295604,"d":"176,014.44"},{"v":191855.7423064221,"d":"191,855.74"},{"v":208643.119758234,"d":"208,643.12"}]
["3.2.00.00.00.00.00",null,"Juros e Encargos da Dívida - Executiv / Indiretas",null,null,{"v":222997.41,"d":"222,997.41"},{"$f":"F122","v":{"v":222997.41,"d":"222,997.41"}},{"$f":"(((E122*(1+Parâmetros!B11)*(1+Parâmetros!C11)*(1+Parâmetros!D11))+(F122*(1+Parâmetros!C11)*(1+Parâmetros!D11)+(G122*(1+Parâmetros!D11))))/3)*(1+Parâmetros!E21)","v":{"v":176014.44248295604,"d":"176,014.44"}},{"$f":"H122*(1+Parâmetros!F21)","v":{"v":191855.7423064221,"d":"191,855.74"}},{"$f":"I122*(1+Parâmetros!G21)","v":{"v":208643.119758234,"d":"208,643.12"}}]
["3.2.00.00.00.00.00",null,"Juros e Encargos da Dívida - Legislativo",{"$nulls":4},{"$f":"(((E123*(1+Parâmetros!B11)*(1+Parâmetros!C11)*(1+Parâmetros!D11))+(F123*(1+Parâmetros!C11)*(1+Parâmetros!D11)+(G123*(1+Parâmetros!D11))))/3)*(1+Parâmetros!E21)","v":0},{"$f":"H123*(1+Parâmetros!F21)","v":0},{"$f":"I123*(1+Parâmetros!G21)","v":0}]
["3.2.00.00.00.00.00",null,"Juros e encargos da Dívida - Restos a Pagar Pagos ",{"$nulls":4},{"$f":"((E124+F124+G124)/3)*(1+Parâmetros!E11)","v":0},{"$f":"((F124+G124+H124)/3)*(1+Parâmetros!F11)","v":0},{"$f":"((G124+H124+I124)/3)*(1+Parâmetros!G11)","v":0}]
["3.2.91.00.00.00.00",null,"Juros e encargos da Dívida - INTRAORÇAMENTÁRIAS",{"$nulls":4},{"$f":"((E125+F125+G125)/3)*(1+Parâmetros!E11)","v":0},{"$f":"((F125+G125+H125)/3)*(1+Parâmetros!F11)","v":0},{"$f":"((G125+H125+I125)/3)*(1+Parâmetros!G11)","v":0}]
["3.3.00.00.00.00.00",null,"OUTRAS DESPESAS CORRENTES",{"$f":"SUM(D127:D130)","v":{"v":6851280.17,"d":"6,851,280.17"}},{"v":8654057.46,"d":"8,654,057.46"},{"v":11685865.16,"d":"11,685,865.16"},{"v":12619699.781666666,"d":"12,619,699.78"},{"v":13590709.568206944,"d":"13,590,709.57"},{"v":15879385.75712143,"d":"15,879,385.76"},{"v":18296318.49754455,"d":"18,296,318.50"}]
["3.3.00.00.00.00.00",null,"Outras Despesas Correntes - Executivo",{"v":6613448.86,"d":"6,613,448.86"},{"v":8542864.9,"d":"8,542,864.90"},{"v":11439327.82,"d":"11,439,327.82"},{"$f":"(5438822.17/6)*13","v":{"v":11784114.701666666,"d":"11,784,114.70"}},{"$f":"(G127*1.05)+328421.32-5928.84","v":{"v":12695812.91675,"d":"12,695,812.92"}},{"$f":"H127*(1+Parâmetros!F11)*(1+Parâmetros!F14)","v":{"v":15159707.602126965,"d":"15,159,707.60"}},{"$f":"I127*(1+Parâmetros!G11)*(1+Parâmetros!G14)","v":{"v":17407077.36228186,"d":"17,407,077.36"}}]
["3.3.00.00.00.00.00",null,"Outras Despesas Correntes - Legislativo",{"v":60162.96,"d":"60,162.96"},{"v":77098.66,"d":"77,098.66"},{"v":99034.86,"d":"99,034.86"},{"$f":"F128","v":{"v":99034.86,"d":"99,034.86"}},{"$f":"(((E128*(1+Parâmetros!B11)*(1+Parâmetros!C11)*(1+Parâmetros!D11))+(F128*(1+Parâmetros!C11)*(1+Parâmetros!D11)+(G128*(1+Parâmetros!D11))))/3)*(1+Parâmetros!E11)*(1+Parâmetros!E14)","v":{"v":121518.92045694226,"d":"121,518.92"}},{"$f":"H128*(1+Parâmetros!F11)*(1+Parâmetros!F14)","v":{"v":145102.27224779804,"d":"145,102.27"}},{"$f":"I128*(1+Parâmetros!G11)*(1+Parâmetros!G14)","v":{"v":166613.1395638478,"d":"166,613.14"}}]
["3.3.00.00.00.00.00",null,"Outras Despesas Correntes  - Restos a Pagar Pagos",{"$f":"28185.18+149483.17","v":{"v":177668.35,"d":"177,668.35"}},{"$f":"8750+186.43+25157.47","v":{"v":34093.9,"d":"34,093.90"}},{"$f":"94947.21+52555.27","v":{"v":147502.48,"d":"147,502.48"}},{"$f":"185033.93+551516.29","v":{"v":736550.22,"d":"736,550.22"}},{"$f":"G129*1.05","v":{"v":773377.731,"d":"773,377.73"}},{"$f":"((F129+G129+H129)/3)*(1+Parâmetros!F11)","v":{"v":574575.8827466667,"d":"574,575.88"}},{"$f":"((G129+H129+I129)/3)*(1+Parâmetros!G11)","v":{"v":722627.9956988444,"d":"722,628.00"}}]
["3.3.91.00.00.00.00",null,"Outras Despesas Correntes - INTRAORÇAMENTÁRIAS",{"$nulls":4},{"$f":"((E130+F130+G130)/3)*(1+Parâmetros!E11)","v":0},{"$f":"((F130+G130+H130)/3)*(1+Parâmetros!F11)","v":0},{"$f":"((G130+H130+I130)/3)*(1+Parâmetros!G11)","v":0},null,""]
["4.0.00.00.00.00.00",null,"DESPESAS DE CAPITAL",{"$f":"D132+D137+D143","v":{"v":1355745.76,"d":"1,355,745.76"}},{"v":3391925.29,"d":"3,391,925.29"},{"v":3885382.57,"d":"3,885,382.57"},{"v":3662493.7500000005,"d":"3,662,493.75"},{"v":3611254.1690306603,"d":"3,611,254.17"},{"v":3883945.1649473915,"d":"3,883,945.16"},{"v":4417981.4980739085,"d":"4,417,981.50"}]
["4.4.00.00.00.00.00",null,"INVESTIMENTOS",{"$f":"SUM(D133:D136)","v":{"v":1307083.21,"d":"1,307,083.21"}},{"v":3391925.29,"d":"3,391,925.29"},{"v":3618715.9299999997,"d":"3,618,715.93"},{"v":3395827.1100000003,"d":"3,395,827.11"},{"v":3344587.52903066,"d":"3,344,587.53"},{"v":3706167.4049473917,"d":"3,706,167.40"},{"v":4417981.4980739085,"d":"4,417,981.50"}]
["4.4.00.00.00.00.00",null,"Investimentos - Executvi / Indiretas",{"v":1303627.71,"d":"1,303,627.71"},{"v":2590053.34,"d":"2,590,053.34"},{"$f":"3365557.32-F134","v":{"v":3341979.32,"d":"3,341,979.32"}},{"$f":"(618978.39/6)*12+1300000","v":{"v":2537956.7800000003,"d":"2,537,956.78"}},{"$f":"G133*1.05","v":{"v":2664854.6190000004,"d":"2,664,854.62"}},{"$f":"H133*(1+Parâmetros!F11)*(1+Parâmetros!F20)","v":{"v":3068704.62227996,"d":"3,068,704.62"}},{"$f":"I133*(1+Parâmetros!G11)*(1+Parâmetros!G20)","v":{"v":3651196.4387901607,"d":"3,651,196.44"}}]
["4.4.00.00.00.00.00",null,"Investimentos - Legislativo",{"v":3455.5,"d":"3,455.50"},{"v":12369,"d":"12,369.00"},{"v":23578,"d":"23,578.00"},{"$f":"(1050/6)*12","v":{"v":2100,"d":"2,100.00"}},{"$f":"(((E134*(1+Parâmetros!B11)*(1+Parâmetros!C11)*(1+Parâmetros!D11))+(F134*(1+Parâmetros!C11)*(1+Parâmetros!D11)+(G134*(1+Parâmetros!D11))))/3)*(1+Parâmetros!E11)*(1+Parâmetros!E20)","v":{"v":21609.85483065966,"d":"21,609.85"}},{"$f":"H134*(1+Parâmetros!F11)*(1+Parâmetros!F20)","v":{"v":24884.75766476483,"d":"24,884.76"}},{"$f":"I134*(1+Parâmetros!G11)*(1+Parâmetros!G20)","v":{"v":29608.30374682323,"d":"29,608.30"}}]
["4.4.90.00.00.00.00",null,"Investimentos  - Restos a Pagar Pagos",null,{"v":789502.95,"d":"789,502.95"},{"$f":"247914.49+5244.12","v":{"v":253158.61,"d":"253,158.61"}},{"$f":"855770.33","v":{"v":855770.33,"d":"855,770.33"}},{"$f":"((E135+F135+G135)/3)*(1+Parâmetros!E11)","v":{"v":658123.0552000001,"d":"658,123.06"}},{"$f":"((F135+G135+H135)/3)*(1+Parâmetros!F11)","v":{"v":612578.0250026666,"d":"612,578.03"}},{"$f":"((G135+H135+I135)/3)*(1+Parâmetros!G11)","v":{"v":737176.7555369245,"d":"737,176.76"}}]
["4.4.91.00.00.00.00",null,"Investimentos  - INTRAORÇAMENTÁRIAS",{"$nulls":4},{"$f":"((E136+F136+G136)/3)*(1+Parâmetros!E11)","v":0},{"$f":"((F136+G136+H136)/3)*(1+Parâmetros!F11)","v":0},{"$f":"((G136+H136+I136)/3)*(1+Parâmetros!G11)","v":0}]
["4.5.00.00.00.00.00",null,"INVERSÕES FINANCEIRAS",{"$f":"SUM(D138:D142)","v":{"v":48662.55,"d":"48,662.55"}},0,0,0,0,0,0]
["4.5.90.66.00.00.00",null,"Concessão de Empréstimos e Financiamentos",{"$nulls":4},{"$f":"(((E138*(1+Parâmetros!B11)*(1+Parâmetros!C11)*(1+Parâmetros!D11))+(F138*(1+Parâmetros!C11)*(1+Parâmetros!D11)+(G138*(1+Parâmetros!D11))))/3)*(1+Parâmetros!E11)","v":0},{"$f":"H138*(1+Parâmetros!F11)","v":0},{"$f":"I138*(1+Parâmetros!G11)","v":0}]
["4.5.90.99.00.00.00 ",null,"Outras Inversões Financeiras - Executvi / Indiretas",{"v":48662.55,"d":"48,662.55"},{"$nulls":3},{"$f":"(((E139*(1+Parâmetros!B11)*(1+Parâmetros!C11)*(1+Parâmetros!D11))+(F139*(1+Parâmetros!C11)*(1+Parâmetros!D11)+(G139*(1+Parâmetros!D11))))/3)*(1+Parâmetros!E11)","v":0},{"$f":"H139*(1+Parâmetros!F11)","v":0},{"$f":"I139*(1+Parâmetros!G11)","v":0}]
["4.5.90.99.00.00.00 ",null,"Outras Inversões Financeiras - Legislativo",{"$nulls":4},{"$f":"(((E140*(1+Parâmetros!B11)*(1+Parâmetros!C11)*(1+Parâmetros!D11))+(F140*(1+Parâmetros!C11)*(1+Parâmetros!D11)+(G140*(1+Parâmetros!D11))))/3)*(1+Parâmetros!E11)","v":0},{"$f":"H140*(1+Parâmetros!F11)","v":0},{"$f":"I140*(1+Parâmetros!G11)","v":0}]
["4.5.90.99.00.00.00 ",null,"Outras Inversões Financeiras - Restos a a  Pagar Pagos",{"$nulls":4},{"$f":"((E141+F141+G141)/3)*(1+Parâmetros!E11)","v":0},{"$f":"((F141+G141+H141)/3)*(1+Parâmetros!F11)","v":0},{"$f":"((G141+H141+I141)/3)*(1+Parâmetros!G11)","v":0}]
["4.5.91.00.00.00.00 ",null,"Inversões Financeiras - INTRAORÇAMENTÁRIAS",{"$nulls":4},{"$f":"((E142+F142+G142)/3)*(1+Parâmetros!E11)","v":0},{"$f":"((F142+G142+H142)/3)*(1+Parâmetros!F11)","v":0},{"$f":"((G142+H142+I142)/3)*(1+Parâmetros!G11)","v":0}]
["4.6.00.00.00.00.00",null,"AMORTIZAÇÃO DA DÍVIDA PÚBLICA",{"$f":"SUM(D144:D147)","v":0},0,{"v":266666.64,"d":"266,666.64"},{"v":266666.64,"d":"266,666.64"},{"v":266666.64,"d":"266,666.64"},{"v":177777.76,"d":"177,777.76"},0]
["4.6.00.00.00.00.00",null,"Amortização da Dívida  - Executivo / Indiretas",null,null,{"v":266666.64,"d":"266,666.64"},{"$f":"F144","v":{"v":266666.64,"d":"266,666.64"}},{"$f":"G144","v":{"v":266666.64,"d":"266,666.64"}},{"$f":"(H144/12)*8","v":{"v":177777.76,"d":"177,777.76"}}]
["4.6.00.00.00.00.00",null,"Amortização da Dívida  - Legislativo",{"$nulls":4},{"$f":"(((E145*(1+Parâmetros!B11)*(1+Parâmetros!C11)*(1+Parâmetros!D11))+(F145*(1+Parâmetros!C11)*(1+Parâmetros!D11)+(G145*(1+Parâmetros!D11))))/3)*(1+Parâmetros!E11)","v":0},{"$f":"H145*(1+Parâmetros!F11)","v":0},{"$f":"I145*(1+Parâmetros!G11)","v":0}]
["4.6.00.00.00.00.00",null,"Amortização da Dívida  - Restos a Pagar Pagos",{"$nulls":4},{"$f":"((E146+F146+G146)/3)*(1+Parâmetros!E11)","v":0},{"$f":"((F146+G146+H146)/3)*(1+Parâmetros!F11)","v":0},{"$f":"((G146+H146+I146)/3)*(1+Parâmetros!G11)","v":0}]
["4.6.91.00.00.00.00",null,"Amortização da Dívida  - INTRAORÇAMENTÁRIAS",{"$nulls":4},{"$f":"((E147+F147+G147)/3)*(1+Parâmetros!E11)","v":0},{"$f":"((F147+G147+H147)/3)*(1+Parâmetros!F11)","v":0},{"$f":"((G147+H147+I147)/3)*(1+Parâmetros!G11)","v":0}]
[null,null,"TOTAL DAS DESPESAS CONSIDERADAS ",{"$f":"D115+D131","v":{"v":15345478.35,"d":"15,345,478.35"}},{"v":18724076.15,"d":"18,724,076.15"},{"v":25077758.28,"d":"25,077,758.28"},{"v":26873738.220053762,"d":"26,873,738.22"},{"v":28172999.997433186,"d":"28,173,000.00"},{"v":33176469.604201674,"d":"33,176,469.60"},{"v":38001067.44516212,"d":"38,001,067.45"}]
[null,null,"Operação de Crédito Externo"]
[null,null,"RESULTADOS ","REALIZADO",{"$f":"IF(#REF!>0,\"REALIZADO\",\"PROJETADO\")","v":{"$error":"#REF!"}},{"$f":"IF(#REF!>0,\"REALIZADO\",\"PROJETADO\")","v":{"$error":"#REF!"}},{"$f":"IF(#REF!>0,\"REALIZADO\",\"PROJETADO\")","v":{"$error":"#REF!"}},"PROJETADO",null,"PROJETADO"]
[null,null,"FISCAIS",1999,2000,2001,2002,2003,null,2004]
[]
[null,null,"1. RECEITA CORRENTE LÍQUIDA",{"$f":"D8-#REF!-D14+D157-#REF!","v":{"$error":"#REF!"}},{"$f":"E8-#REF!-E14+E157-#REF!","v":{"$error":"#REF!"}},{"$f":"F8-#REF!-F14+F157-#REF!","v":{"$error":"#REF!"}},{"$f":"G8-#REF!-G14+G157-#REF!","v":{"$error":"#REF!"}},{"$f":"H8-#REF!-H14+H157-#REF!","v":{"$error":"#REF!"}},null,{"$f":"J8-#REF!-J14+J157-#REF!","v":{"$error":"#REF!"}}]
[null,null,"2. RECEITAS DE TRIBUTOS",{"$f":"D9","v":{"v":1287075.2999999998,"d":"1,287,075 "}},{"$f":"E9","v":{"v":1308349.51,"d":"1,308,350 "}},{"$f":"F9","v":{"v":2108529.75,"d":"2,108,530 "}},{"$f":"G9","v":{"v":2292879.7778333332,"d":"2,292,880 "}},{"$f":"H9","v":{"v":2530457.076114081,"d":"2,530,457 "}},null,{"$f":"J9","v":{"v":3868693.4193367837,"d":"3,868,693 "}}]
[null,null,"3. RECEITAS FINANCEIRAS",{"$f":"D18+D19+D20+#REF!+#REF!+#REF!+#REF!","v":{"$error":"#REF!"}},{"$f":"E18+E19+E20+#REF!+#REF!+#REF!+#REF!","v":{"$error":"#REF!"}},{"$f":"F18+F19+F20+#REF!+#REF!+#REF!+#REF!","v":{"$error":"#REF!"}},{"$f":"G18+G19+G20+#REF!+#REF!+#REF!+#REF!","v":{"$error":"#REF!"}},{"$f":"H18+H19+H20+#REF!+#REF!+#REF!+#REF!","v":{"$error":"#REF!"}},null,{"$f":"J18+J19+J20+#REF!+#REF!+#REF!+#REF!","v":{"$error":"#REF!"}}]
[null,null,"4. RENÚNCIA FISCAL",{"$f":"#REF!","v":{"$error":"#REF!"}},{"$f":"#REF!","v":{"$error":"#REF!"}},{"$f":"#REF!","v":{"$error":"#REF!"}},{"$f":"#REF!","v":{"$error":"#REF!"}},{"$f":"#REF!","v":{"$error":"#REF!"}},null,{"$f":"#REF!","v":{"$error":"#REF!"}}]
[null,null,"5. VALOR LÍQUIDO DO FUNDEF",{"$f":"#REF!-#REF!","v":{"$error":"#REF!"}},{"$f":"#REF!-#REF!","v":{"$error":"#REF!"}},{"$f":"#REF!-#REF!","v":{"$error":"#REF!"}},{"$f":"#REF!-#REF!","v":{"$error":"#REF!"}},{"$f":"#REF!-#REF!","v":{"$error":"#REF!"}},null,{"$f":"#REF!-#REF!","v":{"$error":"#REF!"}}]
[null,null,"6. TRANSFERÊNCIAS DA UNIÃO",{"$f":"#REF!","v":{"$error":"#REF!"}},{"$f":"#REF!","v":{"$error":"#REF!"}},{"$f":"#REF!","v":{"$error":"#REF!"}},{"$f":"#REF!","v":{"$error":"#REF!"}},{"$f":"#REF!","v":{"$error":"#REF!"}},null,{"$f":"#REF!","v":{"$error":"#REF!"}}]
[null,null,"7. TRANSFERÊNCIAS DOS ESTADOS",{"$f":"#REF!","v":{"$error":"#REF!"}},{"$f":"#REF!","v":{"$error":"#REF!"}},{"$f":"#REF!","v":{"$error":"#REF!"}},{"$f":"#REF!","v":{"$error":"#REF!"}},{"$f":"#REF!","v":{"$error":"#REF!"}},null,{"$f":"#REF!","v":{"$error":"#REF!"}}]
[null,null,"8. OPERAÇÕES DE CRÉDITO",{"$f":"#REF!","v":{"$error":"#REF!"}},{"$f":"#REF!","v":{"$error":"#REF!"}},{"$f":"#REF!","v":{"$error":"#REF!"}},{"$f":"#REF!","v":{"$error":"#REF!"}},{"$f":"#REF!","v":{"$error":"#REF!"}},null,{"$f":"#REF!","v":{"$error":"#REF!"}}]
[null,null,"9. AROS",{"$f":"#REF!","v":{"$error":"#REF!"}},{"$f":"#REF!","v":{"$error":"#REF!"}},{"$f":"#REF!","v":{"$error":"#REF!"}},{"$f":"#REF!","v":{"$error":"#REF!"}},{"$f":"#REF!","v":{"$error":"#REF!"}},null,{"$f":"#REF!","v":{"$error":"#REF!"}}]
[null,null,"10. PESSOAL ATIVO",{"$f":"#REF!+#REF!+D138+D139+D143+#REF!+#REF!+D148+D121+#REF!","v":{"$error":"#REF!"}},{"$f":"#REF!+#REF!+E138+E139+E143+#REF!+#REF!+E148+E121+#REF!","v":{"$error":"#REF!"}},{"$f":"#REF!+#REF!+F138+F139+F143+#REF!+#REF!+F148+F121+#REF!","v":{"$error":"#REF!"}},{"$f":"#REF!+#REF!+G138+G139+G143+#REF!+#REF!+G148+G121+#REF!","v":{"$error":"#REF!"}},{"$f":"#REF!+#REF!+H138+H139+H143+#REF!+#REF!+H148+H121+#REF!","v":{"$error":"#REF!"}},null,{"$f":"#REF!+#REF!+J138+J139+J143+#REF!+#REF!+J148+J121+#REF!","v":{"$error":"#REF!"}}]
[null,null,"11. PESSOAL INATIVO",{"$f":"#REF!+#REF!","v":{"$error":"#REF!"}},{"$f":"#REF!+#REF!","v":{"$error":"#REF!"}},{"$f":"#REF!+#REF!","v":{"$error":"#REF!"}},{"$f":"#REF!+#REF!","v":{"$error":"#REF!"}},{"$f":"#REF!+#REF!","v":{"$error":"#REF!"}},null,{"$f":"#REF!+#REF!","v":{"$error":"#REF!"}}]
[null,null,"12. PENSIONISTAS",{"$f":"D132+D137","v":{"v":1355745.76,"d":"1,355,746 "}},{"$f":"E132+E137","v":{"v":3391925.29,"d":"3,391,925 "}},{"$f":"F132+F137","v":{"v":3618715.9299999997,"d":"3,618,716 "}},{"$f":"G132+G137","v":{"v":3395827.1100000003,"d":"3,395,827 "}},{"$f":"H132+H137","v":{"v":3344587.52903066,"d":"3,344,588 "}},null,{"$f":"J132+J137","v":{"v":4417981.4980739085,"d":"4,417,981 "}}]
[null,null,"13. SERVIÇOS DE TERCEIROS",{"$f":"#REF!","v":{"$error":"#REF!"}},{"$f":"#REF!","v":{"$error":"#REF!"}},{"$f":"#REF!","v":{"$error":"#REF!"}},{"$f":"#REF!","v":{"$error":"#REF!"}},{"$f":"#REF!","v":{"$error":"#REF!"}},null,{"$f":"#REF!","v":{"$error":"#REF!"}}]
[null,null,"14. OUTROS CUSTEIOS CORRENTES",{"$f":"D126+#REF!+#REF!+#REF!+#REF!+#REF!+#REF!","v":{"$error":"#REF!"}},{"$f":"E126+#REF!+#REF!+#REF!+#REF!+#REF!+#REF!","v":{"$error":"#REF!"}},{"$f":"F126+#REF!+#REF!+#REF!+#REF!+#REF!+#REF!","v":{"$error":"#REF!"}},{"$f":"G126+#REF!+#REF!+#REF!+#REF!+#REF!+#REF!","v":{"$error":"#REF!"}},{"$f":"H126+#REF!+#REF!+#REF!+#REF!+#REF!+#REF!","v":{"$error":"#REF!"}},null,{"$f":"J126+#REF!+#REF!+#REF!+#REF!+#REF!+#REF!","v":{"$error":"#REF!"}}]
[null,null,"15. INVESTIMENTOS",{"$f":"#REF!","v":{"$error":"#REF!"}},{"$f":"#REF!","v":{"$error":"#REF!"}},{"$f":"#REF!","v":{"$error":"#REF!"}},{"$f":"#REF!","v":{"$error":"#REF!"}},{"$f":"#REF!","v":{"$error":"#REF!"}},null,{"$f":"#REF!","v":{"$error":"#REF!"}}]
[null,null,"16. ENCARGOS DA DÍVIDA",{"$f":"#REF!+#REF!","v":{"$error":"#REF!"}},{"$f":"#REF!+#REF!","v":{"$error":"#REF!"}},{"$f":"#REF!+#REF!","v":{"$error":"#REF!"}},{"$f":"#REF!+#REF!","v":{"$error":"#REF!"}},{"$f":"#REF!+#REF!","v":{"$error":"#REF!"}},null,{"$f":"#REF!+#REF!","v":{"$error":"#REF!"}}]
[null,null,"17. AMORTIZAÇÕES DA DÍVIDA",{"$f":"#REF!+#REF!","v":{"$error":"#REF!"}},{"$f":"#REF!+#REF!","v":{"$error":"#REF!"}},{"$f":"#REF!+#REF!","v":{"$error":"#REF!"}},{"$f":"#REF!+#REF!","v":{"$error":"#REF!"}},{"$f":"#REF!+#REF!","v":{"$error":"#REF!"}},null,{"$f":"#REF!+#REF!","v":{"$error":"#REF!"}}]
[null,null,"18. DESPESAS FINANCEIRAS",{"$f":"D168+D169","v":{"$error":"#REF!"}},{"$f":"E168+E169","v":{"$error":"#REF!"}},{"$error":"#REF!"},{"$error":"#REF!"},{"$error":"#REF!"},null,{"$error":"#REF!"}]
[null,null,"19. RESULTADO PRIMÁRIO",{"$f":" ((D8+#REF!)-(D155)-((#REF!+#REF!)-D170))","v":{"$error":"#REF!"}},{"$f":" ((E8+#REF!)-(E155)-((#REF!+#REF!)-E170))","v":{"$error":"#REF!"}},{"$f":" ((F8+#REF!)-(F155)-((#REF!+#REF!)-F170))","v":{"$error":"#REF!"}},{"$f":" ((G8+#REF!)-(G155)-((#REF!+#REF!)-G170))","v":{"$error":"#REF!"}},{"$f":" ((H8+#REF!)-(H155)-((#REF!+#REF!)-H170))","v":{"$error":"#REF!"}},null,{"$f":" ((J8+#REF!)-(J155)-((#REF!+#REF!)-J170))","v":{"$error":"#REF!"}}]
[null,null,"20. RESULTADO NOMINAL",{"$f":"-(D171-(D168-D18-D19-D20-#REF!))","v":{"$error":"#REF!"}},{"$f":"-(E171-(E168-E18-E19-E20-#REF!))","v":{"$error":"#REF!"}},{"$f":"-(F171-(F168-F18-F19-F20-#REF!))","v":{"$error":"#REF!"}},{"$f":"-(G171-(G168-G18-G19-G20-#REF!))","v":{"$error":"#REF!"}},{"$f":"-(H171-(H168-H18-H19-H20-#REF!))","v":{"$error":"#REF!"}},null,{"$f":"-(J171-(J168-J18-J19-J20-#REF!))","v":{"$error":"#REF!"}}]
[]
["NOTA: Conforme consta na página 79 da 14ª Edição do Manual dos Demonstrativos Fiscais, não se aplica, para fins de estimativas de metas fiscais da LDO a necessidade de equilíbrio entre receitas e despesas exigido para a Lei Orçamentária Anual. "]

{"sheet":"Projeções - RPPS","index":2,"n_rows":96,"n_cols":256,"rows_kept":96,"merged":[[0,0,0,9],[1,0,1,9],[2,0,2,9],[5,0,6,0],[5,1,6,1],[36,0,36,9],[37,0,37,9],[38,0,38,9],[40,0,41,1],[40,2,41,2],[42,0,42,1],[43,0,43,1],[44,0,44,1],[45,0,45,1],[46,0,46,1],[47,0,47,1],[48,0,48,1],[49,0,49,1],[50,0,50,1],[51,0,51,1],[52,0,52,1],[53,0,53,1],[54,0,54,1],[55,0,55,1],[56,0,56,1],[57,0,57,1],[58,0,58,1],[59,0,59,1],[60,0,60,1],[61,0,61,1],[62,0,62,1],[63,0,63,1],[64,0,64,1],[65,0,65,1],[66,0,66,1],[67,0,67,1]]}
[{"$f":"Parâmetros!A7","v":"Município de :   NOVA PÁDUA"}]
[{"$f":"Parâmetros!A8","v":"LEI DE DIRETRIZES ORÇAMENTÁRIAS  PARA 2025"}]
["Tabela 02 - Memória de Cálculo das Estimativas das Receitas específicas do RPPS"]
[]
[{"$nulls":9},"Valores em R$ 1,00"]
["Código até 2022","Código a partir de 2023","CONTAS","ARRECADADA","ARRECADADA","ARRECADADA","REESTIMADO","PROJETADO","PROJETADO","PROJETADO"]
[null,null,"CONSOLIDADAS ANUAIS",{"$f":"Parâmetros!B10-1","v":2021},{"$f":"D7+1","v":2022},2023,2024,2025,2026,2027,"OK"]
["1.0.0.0.00.0.0.00.00.00",{"v":10000000,"d":"1.0.0.0.00.0.0"},"Receitas Correntes",{"$f":"SUM(D9:D17)","v":{"v":1458107.83,"d":"1,458,107.83"}},{"v":844072.69,"d":"844,072.69"},{"v":3549140.2700000005,"d":"3,549,140.27"},{"v":2292262.3850000002,"d":"2,292,262.39"},{"v":2770415.280596885,"d":"2,770,415.28"},{"v":3054933.512576868,"d":"3,054,933.51"},{"v":3327664.162428028,"d":"3,327,664.16"}]
["1.2.1.8.01.0.0.00.00.00",{"v":12150000,"d":"1.2.1.5.00.0.0"},"Contribuição para o Regime Próprio de Previdência Social - RPPS (dos servidores)",{"v":498485.7,"d":"498,485.70"},{"v":527514.09,"d":"527,514.09"},{"v":627928.37,"d":"627,928.37"},{"$f":"(312291.4/6)*13","v":{"v":676631.3666666667,"d":"676,631.37"}},{"$f":"(G9*1.1)+4627000-4603950.35","v":{"v":767344.1533333343,"d":"767,344.15"}},{"$f":"H9*(1+Parâmetros!F11)*(1+Parâmetros!F13)*(1+Parâmetros!F18)","v":{"v":930139.5402227751,"d":"930,139.54"}},{"$f":"I9*(1+Parâmetros!G11)*(1+Parâmetros!G13)*(1+Parâmetros!G18)","v":{"v":1073749.1511797714,"d":"1,073,749.15"}}]
["1.3.2.1.00.4.0.00.00.00",{"v":13210400,"d":"1.3.2.1.04.0.0"},"Remuneração dos Recursos do Regime Próprio de Previdência Social - RPPS ",{"v":959622.13,"d":"959,622.13"},{"v":316558.6,"d":"316,558.60"},{"$f":"2915677.68","v":{"v":2915677.68,"d":"2,915,677.68"}},{"$f":"((958275.18-151355.49)/6)*12","v":{"v":1613839.3800000004,"d":"1,613,839.38"}},{"v":2000000,"d":"2,000,000.00"},{"$f":"H10*(1+Parâmetros!F11)*(1+Parâmetros!F12)","v":{"v":2121600,"d":"2,121,600.00"}},{"$f":"I10*(1+Parâmetros!G11)*(1+Parâmetros!G12)","v":{"v":2250593.2800000003,"d":"2,250,593.28"}}]
["1.3.6.0.00.0.0.00.00.00",{"v":13610000,"d":"1.3.6.1.00.0.0"},"Cessão de Direitos /  Venda da Folha dos Aposentados e Pensionistas",{"$nulls":4},{"$f":"(((E11*(1+Parâmetros!B11)*(1+Parâmetros!C11)*(1+Parâmetros!D11))+(F11*(1+Parâmetros!C11)*(1+Parâmetros!D11)+(G11*(1+Parâmetros!D11))))/3)*(1+Parâmetros!E11)","v":0},{"$f":"H11*(1+Parâmetros!F11)","v":0},{"$f":"I11*(1+Parâmetros!G11)","v":0}]
["1.3.9.0.00.0.0.00.00.00",{"v":13900000,"d":"1.3.9.0.00.0.0"},"Demais Receitas Patrimoniais do RPPS",{"$nulls":4},{"$f":"(((E12*(1+Parâmetros!B11)*(1+Parâmetros!C11)*(1+Parâmetros!D11))+(F12*(1+Parâmetros!C11)*(1+Parâmetros!D11)+(G12*(1+Parâmetros!D11))))/3)*(1+Parâmetros!E11)*(1+Parâmetros!E12)","v":0},{"$f":"H12*(1+Parâmetros!F11)*(1+Parâmetros!F12)","v":0},{"$f":"I12*(1+Parâmetros!G11)*(1+Parâmetros!G12)","v":0}]
["1.6.0.0.00.0.0.00.00",{"v":16999900,"d":"1.6.9.9.99.0.0"},"Demais Serviços",{"$nulls":4},{"$f":"(((E13*(1+Parâmetros!B11)*(1+Parâmetros!C11)*(1+Parâmetros!D11))+(F13*(1+Parâmetros!C11)*(1+Parâmetros!D11)+(G13*(1+Parâmetros!D11))))/3)*(1+Parâmetros!E11)*(1+Parâmetros!E11)","v":0},{"$f":"H13*(1+Parâmetros!F1)","v":0},{"$f":"I13*(1+Parâmetros!G11)","v":0}]
["1.9.1.0.00.0.0.00.00.00",{"v":19110000,"d":"1.9.1.1.00.0.0"},"Multas Administrativas, Contratuais e Judiciais recebidas pelo RPPS",{"$nulls":4},{"$f":"(((E14*(1+Parâmetros!B11)*(1+Parâmetros!C11)*(1+Parâmetros!D11))+(F14*(1+Parâmetros!C11)*(1+Parâmetros!D11)+(G14*(1+Parâmetros!D11))))/3)*(1+Parâmetros!E11)","v":0},{"$f":"H14*(1+Parâmetros!F11)","v":0},{"$f":"I14*(1+Parâmetros!G11)","v":0}]
["1.9.2.0.00.0.0.00.00",{"v":19220000,"d":"1.9.2.2.00.0.0"},"Indenizações, Restituições e Ressarcimentos",{"$nulls":4},{"$f":"(((E15*(1+Parâmetros!B11)*(1+Parâmetros!C11)*(1+Parâmetros!D11))+(F15*(1+Parâmetros!C11)*(1+Parâmetros!D11)+(G15*(1+Parâmetros!D11))))/3)*(1+Parâmetros!E11)","v":0},{"$f":"H15*(1+Parâmetros!F11)","v":0},{"$f":"I15*(1+Parâmetros!G11)","v":0}]
["1.9.9.0.03.0.0.00.00.00",{"v":19990300,"d":"1.9.9.9.03.0.0"},"Compensações Financeiras entre o Regime Geral e os Regimes Próprios de Previdência dos Servidores",{"$nulls":4},{"$f":"(((E16*(1+Parâmetros!B11)*(1+Parâmetros!C11)*(1+Parâmetros!D11))+(F16*(1+Parâmetros!C11)*(1+Parâmetros!D11)+(G16*(1+Parâmetros!D11))))/3)*(1+Parâmetros!E11)","v":0},{"$f":"H16*(1+Parâmetros!F11)","v":0},{"$f":"I16*(1+Parâmetros!G11)","v":0}]
["1.9.9.0.99.0.0.00.00.00",{"v":19999900,"d":"1.9.9.9.99.0.0"},"Outras Receitas (demais receitas diversas do RPPS)",null,null,{"v":5534.22,"d":"5,534.22"},{"$f":"(826.91/6)*13","v":{"v":1791.6383333333333,"d":"1,791.64"}},{"$f":"(((E17*(1+Parâmetros!B11)*(1+Parâmetros!C11)*(1+Parâmetros!D11))+(F17*(1+Parâmetros!C11)*(1+Parâmetros!D11)+(G17*(1+Parâmetros!D11))))/3)*(1+Parâmetros!E11)+298.28","v":{"v":3071.1272635505784,"d":"3,071.13"}},{"$f":"H17*(1+Parâmetros!F11)","v":{"v":3193.9723540926016,"d":"3,193.97"}},{"$f":"I17*(1+Parâmetros!G11)","v":{"v":3321.7312482563057,"d":"3,321.73"}}]
["2.0.0.0.00.0.0.00.00.00",{"v":20000000,"d":"2.0.0.0.00.0.0"},"Receitas de Capital",{"$f":"SUM(D19:D24)","v":0},0,0,0,0,0,0]
["2.2.1.8.01.1.0.00.00.00 ",{"v":22110100,"d":"2.2.1.1.01.0.0"},"Alienação de Investimentos Temporários",{"$nulls":4},{"$f":"((D19+E19+F19+G19)/4)*(1+Parâmetros!E11)","v":0},{"$f":"((E19+F19+G19+H19)/4)*(1+Parâmetros!F11)","v":0},{"$f":"((F19+G19+H19+I19)/4)*(1+Parâmetros!G11)","v":0}]
["2.2.1.8.01.2.0.00.00.00",{"v":22110200,"d":"2.2.1.1.02.0.0"},"Alienação de Investimenros Permanentes",{"$nulls":4},{"$f":"((D20+E20+F20+G20)/4)*(1+Parâmetros!E11)","v":0},{"$f":"((E20+F20+G20+H20)/4)*(1+Parâmetros!F11)","v":0},{"$f":"((F20+G20+H20+I20)/4)*(1+Parâmetros!G11)","v":0}]
["2.2.1.0.00.0.0.00.00.00",{"v":22100000,"d":"2.2.1.0.00.0.0"},"Alienação de Bens Móveis",{"$nulls":4},{"$f":"(((E21*(1+Parâmetros!B11)*(1+Parâmetros!C11)*(1+Parâmetros!D11))+(F21*(1+Parâmetros!C11)*(1+Parâmetros!D11)+(G21*(1+Parâmetros!D11))))/3)*(1+Parâmetros!E11)","v":0},{"$f":"H21*(1+Parâmetros!F11)","v":0},{"$f":"I21*(1+Parâmetros!G11)","v":0}]
["2.2.2.0.00.0.0.00.00.00",{"v":22210100,"d":"2.2.2.1.01.0.0"},"Alienação de Bens Imóveis",{"$nulls":4},{"$f":"(((E22*(1+Parâmetros!B11)*(1+Parâmetros!C11)*(1+Parâmetros!D11))+(F22*(1+Parâmetros!C11)*(1+Parâmetros!D11)+(G22*(1+Parâmetros!D11))))/3)*(1+Parâmetros!E11)","v":0},{"$f":"H22*(1+Parâmetros!F11)","v":0},{"$f":"I22*(1+Parâmetros!G11)","v":0}]
["2.3.0.0.00.0.0.00.00.00",{"v":23110000,"d":"2.3.1.1.00.0.0"},"Amortização de Empréstimos",{"$nulls":4},{"$f":"(((E23*(1+Parâmetros!B11)*(1+Parâmetros!C11)*(1+Parâmetros!D11))+(F23*(1+Parâmetros!C11)*(1+Parâmetros!D11)+(G23*(1+Parâmetros!D11))))/3)*(1+Parâmetros!E11)","v":0},{"$f":"H23*(1+Parâmetros!F11)","v":0},{"$f":"I23*(1+Parâmetros!G11)","v":0}]
["2.9.9.0.00.1.1.01.00.00",{"v":29999900,"d":"2.9.9.9.99.0.0"},"Outras Receitas Diretamente Arrecadadas pelo RPPS - Principal",{"$nulls":4},{"$f":"(((E24*(1+Parâmetros!B11)*(1+Parâmetros!C11)*(1+Parâmetros!D11))+(F24*(1+Parâmetros!C11)*(1+Parâmetros!D11)+(G24*(1+Parâmetros!D11))))/3)*(1+Parâmetros!E11)","v":0},{"$f":"H24*(1+Parâmetros!F11)","v":0},{"$f":"I24*(1+Parâmetros!G11)","v":0}]
["7.0.0.0.00.0.0.00.00.00",{"v":70000000,"d":"7.0.0.0.00.0.0"},"Receitas Correntes Intraorçamentárias ",{"$f":"SUM(D26:D27)","v":{"v":1077061.15,"d":"1,077,061.15"}},{"$f":"E26+E27","v":{"v":1080720.92,"d":"1,080,720.92"}},{"v":1246404.67,"d":"1,246,404.67"},{"v":1557973.191666667,"d":"1,557,973.19"},{"v":1856584.7200694445,"d":"1,856,584.72"},{"v":1930848.1088722222,"d":"1,930,848.11"},{"v":2008082.0332271112,"d":"2,008,082.03"}]
[null,{"v":70000000,"d":"7.0.0.0.00.0.0"},"Receitas Correntes Intraorçamentárias - Primárias",{"v":1077061.15,"d":"1,077,061.15"},{"v":1080720.92,"d":"1,080,720.92"},{"v":1246404.67,"d":"1,246,404.67"},{"$f":"(719064.55/6)*13","v":{"v":1557973.191666667,"d":"1,557,973.19"}},{"$f":"((((G26*100)/18)*0.2145))","v":{"v":1856584.7200694445,"d":"1,856,584.72"}},{"$f":"H26*(1+Parâmetros!F11)","v":{"v":1930848.1088722222,"d":"1,930,848.11"}},{"$f":"I26*(1+Parâmetros!G11)","v":{"v":2008082.0332271112,"d":"2,008,082.03"}},{"$nulls":245},{"v":100,"d":"100.00"}]
[null,{"v":70000000,"d":"7.0.0.0.00.0.0"},"Receitas Correntes Intraorçamentárias - Financeiras/Não Primárias",{"$nulls":4},{"$f":"(((E27*(1+Parâmetros!B11)*(1+Parâmetros!C11)*(1+Parâmetros!D11))+(F27*(1+Parâmetros!C11)*(1+Parâmetros!D11)+(G27*(1+Parâmetros!D11))))/3)*(1+Parâmetros!E11)","v":0},{"$f":"H27*(1+Parâmetros!F11)","v":0},{"$f":"I27*(1+Parâmetros!G11)","v":0}]
["8.0.0.0.00.0.0.00.00.00",{"v":80000000,"d":"8.0.0.0.00.0.0"},"Receitas de Capital Intraorçamentárias",{"$f":"SUM(D29:D30)","v":0},0,0,0,0,0,0,""]
[null,{"v":80000000,"d":"8.0.0.0.00.0.0"},"Receitas de Capital Intraorçamentárias - Primárias",{"$nulls":4},{"$f":"(((E29*(1+Parâmetros!B11)*(1+Parâmetros!C11)*(1+Parâmetros!D11))+(F29*(1+Parâmetros!C11)*(1+Parâmetros!D11)+(G29*(1+Parâmetros!D11))))/3)*(1+Parâmetros!E11)","v":0},{"$f":"H29*(1+Parâmetros!F11)","v":0},{"$f":"I29*(1+Parâmetros!G11)","v":0}]
[null,{"v":80000000,"d":"8.0.0.0.00.0.0"},"Receitas de Capital Intraorçamentárias - Financeiras / Não Primárias",{"$nulls":4},{"$f":"(((E30*(1+Parâmetros!B11)*(1+Parâmetros!C11)*(1+Parâmetros!D11))+(F30*(1+Parâmetros!C11)*(1+Parâmetros!D11)+(G30*(1+Parâmetros!D11))))/3)*(1+Parâmetros!E11)","v":0},{"$f":"H30*(1+Parâmetros!F11)","v":0},{"$f":"I30*(1+Parâmetros!G11)","v":0}]
["9.0.0.0.0.00.0.0.00.00","9.0.0.0.0.00.0.0","( R ) Deduções da Receita  -  Digitar com Sinal Negativo",{"$f":"SUM(D32:D34)","v":0},0,0,0,0,0,0]
["9.1.3.2.1.00.0.0.00.00","9.1.3.2.1.00.0.0","Deduções da Receita de Rendimentos de Aplicações do RPPS",{"$nulls":4},{"$f":"(((E32*(1+Parâmetros!B11)*(1+Parâmetros!C11)*(1+Parâmetros!D11))+(F32*(1+Parâmetros!C11)*(1+Parâmetros!D11)+(G32*(1+Parâmetros!D11))))/3)*(1+Parâmetros!E11)","v":{"v":0,"d":"0.00"}},{"$f":"H32*(1+Parâmetros!F11)","v":{"v":0,"d":"0.00"}},{"$f":"I32*(1+Parâmetros!G11)","v":{"v":0,"d":"0.00"}}]
["9.1.0.0.0.00.0.0.00.00","9.1.0.0.0.00.0.0","Demais Dedu.da Receita Corrente do RPPS",{"$nulls":4},{"$f":"(((E33*(1+Parâmetros!B11)*(1+Parâmetros!C11)*(1+Parâmetros!D11))+(F33*(1+Parâmetros!C11)*(1+Parâmetros!D11)+(G33*(1+Parâmetros!D11))))/3)*(1+Parâmetros!E11)","v":{"v":0,"d":"0.00"}},{"$f":"H33*(1+Parâmetros!F11)","v":{"v":0,"d":"0.00"}},{"$f":"I33*(1+Parâmetros!G11)","v":{"v":0,"d":"0.00"}}]
["9.2.0.0.0.00.0.0.00.00","9.2.0.0.0.00.0.0","Demais Deduções da Receita de Capital ",{"$nulls":4},{"$f":"(((E34*(1+Parâmetros!B11)*(1+Parâmetros!C11)*(1+Parâmetros!D11))+(F34*(1+Parâmetros!C11)*(1+Parâmetros!D11)+(G34*(1+Parâmetros!D11))))/3)*(1+Parâmetros!E11)","v":{"v":0,"d":"0.00"}},{"$f":"H34*(1+Parâmetros!F11)","v":{"v":0,"d":"0.00"}},{"$f":"I34*(1+Parâmetros!G11)","v":{"v":0,"d":"0.00"}}]
[null,null,"TOTAL DAS RECEITAS ARRECADADAS PELO RPPS",{"$f":"D8+D18+D25+D28+D31","v":{"v":2535168.98,"d":"2,535,168.98"}},{"v":1924793.6099999999,"d":"1,924,793.61"},{"v":4795544.94,"d":"4,795,544.94"},{"v":3850235.576666667,"d":"3,850,235.58"},{"v":4627000.00066633,"d":"4,627,000.00"},{"v":4985781.621449091,"d":"4,985,781.62"},{"v":5335746.195655139,"d":"5,335,746.20"}]
[]
[{"$f":"Parâmetros!A7","v":"Município de :   NOVA PÁDUA"}]
[{"$f":"Parâmetros!A8","v":"LEI DE DIRETRIZES ORÇAMENTÁRIAS  PARA 2025"}]
["Memória de Cálculo das Estimativas de Pagamento das Despesas - do RPPS"]
[{"$nulls":9},"Valores em R$ 1,00"]
["Código",null,"Descrição","PAGA","PAGA","PAGA","PAGA(Estim)","PROJETADO","PROJETADO","PROJETADO"]
[{"$nulls":3},{"$f":"D7","v":2021},{"$f":"D42+1","v":2022},2023,2024,2025,2026,2027]
["3.0.00.00.00.00.00",null,"DESPESAS CORRENTES",{"$f":"D44+D48+D52","v":{"v":1023213.85,"d":"1,023,213.85"}},{"v":1090171.8,"d":"1,090,171.80"},{"v":1575408.65,"d":"1,575,408.65"},{"v":1875688.9,"d":"1,875,688.90"},{"v":2000000.0032,"d":"2,000,000.00"},{"v":2092790.3604426668,"d":"2,092,790.36"},{"v":2208720.892669458,"d":"2,208,720.89"}]
["3.1.00.00.00.00.00",null,"PESSOAL E ENCARGOS SOCIAIS",{"$f":"SUM(D45:D47)","v":{"v":886683.21,"d":"886,683.21"}},{"v":1060585.74,"d":"1,060,585.74"},{"v":1474990.91,"d":"1,474,990.91"},{"v":1753109.94,"d":"1,753,109.94"},{"v":1850000.0032,"d":"1,850,000.00"},{"v":1935290.3604426668,"d":"1,935,290.36"},{"v":2043345.892669458,"d":"2,043,345.89"}]
["3.1.00.00.00.00.00",null,"Pessoal  do  R P P S ",{"v":886683.21,"d":"886,683.21"},{"v":1060585.74,"d":"1,060,585.74"},{"v":1474990.91,"d":"1,474,990.91"},{"$f":"(843218.1/6.5)*13","v":{"v":1686436.2,"d":"1,686,436.20"}},{"$f":"(G45*1.05)+36128.43","v":{"v":1806886.44,"d":"1,806,886.44"}},{"$f":"H45*1.05","v":{"v":1897230.762,"d":"1,897,230.76"}},{"$f":"I45*1.05","v":{"v":1992092.3001,"d":"1,992,092.30"}}]
["3.1.00.00.00.00.00",null,"Pessoal   - Restos a Pagar Pagos",{"$nulls":3},{"$f":"66673.74","v":{"v":66673.74,"d":"66,673.74"}},{"$f":"((E46+F46+G46)/3)*(1+Parâmetros!E11)+20000","v":{"v":43113.563200000004,"d":"43,113.56"}},{"$f":"((F46+G46+H46)/3)*(1+Parâmetros!F11)","v":{"v":38059.59844266667,"d":"38,059.60"}},{"$f":"((G46+H46+I46)/3)*(1+Parâmetros!G11)","v":{"v":51253.59256945778,"d":"51,253.59"}}]
["3.1.91.00.00.00.00",null,"Despesas Com Pessoal  - INTRAORÇAMENTÁRIAS",{"$nulls":4},{"$f":"((E47+F47+G47)/3)*(1+Parâmetros!E11)","v":0},{"$f":"((F47+G47+H47)/3)*(1+Parâmetros!F11)","v":0},{"$f":"((G47+H47+I47)/3)*(1+Parâmetros!G11)","v":0}]
["3.2.00.00.00.00.00",null,"JUROS E ENCARGOS DA DÍVIDA",{"$f":"SUM(D49:D51)","v":0},0,0,0,0,0,0]
["3.2.00.00.00.00.00",null,"Juros e encargos da Dívida RPPS ",{"$nulls":4},{"$f":"(((E49*(1+Parâmetros!B11)*(1+Parâmetros!C11)*(1+Parâmetros!D11))+(F49*(1+Parâmetros!C11)*(1+Parâmetros!D11)+(G49*(1+Parâmetros!D11))))/3)*(1+Parâmetros!E21)","v":0},{"$f":"H49*(1+Parâmetros!F21)","v":0},{"$f":"I49*(1+Parâmetros!G21)","v":0}]
["3.2.00.00.00.00.00",null,"Juros e encargos da Dívida - Restos a Pagar Pagos ",{"$nulls":4},{"$f":"((E50+F50+G50)/3)*(1+Parâmetros!E11)","v":0},{"$f":"((F50+G50+H50)/3)*(1+Parâmetros!F11)","v":0},{"$f":"((G50+H50+I50)/3)*(1+Parâmetros!G11)","v":0}]
["3.2.91.00.00.00.00",null,"Juros e encargos da Dívida - INTRAORÇAMENTÁRIAS",{"$nulls":4},{"$f":"((E51+F51+G51)/3)*(1+Parâmetros!E11)","v":0},{"$f":"((F51+G51+H51)/3)*(1+Parâmetros!F11)","v":0},{"$f":"((G51+H51+I51)/3)*(1+Parâmetros!G11)","v":0}]
["3.3.00.00.00.00.00",null,"OUTRAS DESPESAS CORRENTES",{"$f":"SUM(D53:D55)","v":{"v":136530.64,"d":"136,530.64"}},{"v":29586.06,"d":"29,586.06"},{"v":100417.74,"d":"100,417.74"},{"v":122578.96,"d":"122,578.96"},{"v":150000,"d":"150,000.00"},{"v":157500,"d":"157,500.00"},{"v":165375,"d":"165,375.00"}]
["3.3.00.00.00.00.00",null,"Outras Despesas Correntes  RPPS",{"v":136530.64,"d":"136,530.64"},{"v":29586.06,"d":"29,586.06"},{"v":92666.28,"d":"92,666.28"},{"$f":"(61289.48/6)*12","v":{"v":122578.96,"d":"122,578.96"}},{"v":150000,"d":"150,000.00"},{"$f":"H53*1.05","v":{"v":157500,"d":"157,500.00"}},{"$f":"I53*1.05","v":{"v":165375,"d":"165,375.00"}}]
["3.3.00.00.00.00.00",null,"Outras Despesas Correntes  - Restos a Pagar Pagos",null,null,{"v":7751.46,"d":"7,751.46"},{"$nulls":3},{"$f":"((G54+H54+I54)/3)*(1+Parâmetros!G11)","v":0}]
["3.3.91.00.00.00.00",null,"Outras Despesas Correntes - INTRAORÇAMENTÁRIAS",{"$nulls":4},{"$f":"((E55+F55+G55)/3)*(1+Parâmetros!E11)","v":0},{"$f":"((F55+G55+H55)/3)*(1+Parâmetros!F11)","v":0},{"$f":"((G55+H55+I55)/3)*(1+Parâmetros!G11)","v":0},null,""]
["4.0.00.00.00.00.00",null,"DESPESAS DE CAPITAL",{"$f":"D57+D61+D65","v":0},0,0,0,0,0,0]
["4.4.00.00.00.00.00",null,"INVESTIMENTOS",{"$f":"SUM(D58:D60)","v":0},0,0,0,0,0,0]
["4.4.00.00.00.00.00",null,"Investimentos  RPPS ",{"$nulls":4},{"$f":"(((E58*(1+Parâmetros!B11)*(1+Parâmetros!C11)*(1+Parâmetros!D11))+(F58*(1+Parâmetros!C11)*(1+Parâmetros!D11)+(G58*(1+Parâmetros!D11))))/3)*(1+Parâmetros!E11)*(1+Parâmetros!E20)","v":0},{"$f":"H58*(1+Parâmetros!F11)*(1+Parâmetros!F20)","v":0},{"$f":"I58*(1+Parâmetros!G11)*(1+Parâmetros!G20)","v":0}]
["4.4.91.00.00.00.00",null,"Investimentos  - Restos a Pagar Pagos",{"$nulls":4},{"$f":"((E59+F59+G59)/3)*(1+Parâmetros!E11)","v":0},{"$f":"((F59+G59+H59)/3)*(1+Parâmetros!F11)","v":0},{"$f":"((G59+H59+I59)/3)*(1+Parâmetros!G11)","v":0}]
["4.4.91.00.00.00.00",null,"Investimentos  - INTRAORÇAMENTÁRIAS",{"$nulls":4},{"$f":"((E60+F60+G60)/3)*(1+Parâmetros!E11)","v":0},{"$f":"((F60+G60+H60)/3)*(1+Parâmetros!F11)","v":0},{"$f":"((G60+H60+I60)/3)*(1+Parâmetros!G11)","v":0}]
["4.5.00.00.00.00.00",null,"INVERSÕES FINANCEIRAS",{"$f":"SUM(D62:D64)","v":0},0,0,0,0,0,0]
["4.5.90.99.00.00.00 ",null,"Outras Inversões Financeiras - RPPS",{"$nulls":4},{"$f":"(((E62*(1+Parâmetros!B11)*(1+Parâmetros!C11)*(1+Parâmetros!D11))+(F62*(1+Parâmetros!C11)*(1+Parâmetros!D11)+(G62*(1+Parâmetros!D11))))/3)*(1+Parâmetros!E11)","v":0},{"$f":"H62*(1+Parâmetros!F11)","v":0},{"$f":"I62*(1+Parâmetros!G11)","v":0}]
["4.5.90.99.00.00.00 ",null,"Outras Inversões Financeiras - Restos a a  Pagar Pagos",{"$nulls":4},{"$f":"((E63+F63+G63)/3)*(1+Parâmetros!E11)","v":0},{"$f":"((F63+G63+H63)/3)*(1+Parâmetros!F11)","v":0},{"$f":"((G63+H63+I63)/3)*(1+Parâmetros!G11)","v":0}]
["4.5.91.00.00.00.00 ",null,"Inversões Financeiras - INTRAORÇAMENTÁRIAS",{"$nulls":4},{"$f":"((E64+F64+G64)/3)*(1+Parâmetros!E11)","v":0},{"$f":"((F64+G64+H64)/3)*(1+Parâmetros!F11)","v":0},{"$f":"((G64+H64+I64)/3)*(1+Parâmetros!G11)","v":0}]
["4.6.00.00.00.00.00",null,"AMORTIZAÇÃO DA DÍVIDA PÚBLICA",{"$f":"SUM(D66:D68)","v":0},0,0,0,0,0,0]
["4.6.00.00.00.00.00",null,"Amortização da Dívida  - RPPS",{"$nulls":4},{"$f":"(((E66*(1+Parâmetros!B11)*(1+Parâmetros!C11)*(1+Parâmetros!D11))+(F66*(1+Parâmetros!C11)*(1+Parâmetros!D11)+(G66*(1+Parâmetros!D11))))/3)*(1+Parâmetros!E11)","v":0},{"$f":"H66*(1+Parâmetros!F11)","v":0},{"$f":"I66*(1+Parâmetros!G11)","v":0}]
["4.6.00.00.00.00.00",null,"Amortização da Dívida  - Restos a Pagar Pagos",{"$nulls":4},{"$f":"((E67+F67+G67)/3)*(1+Parâmetros!E11)","v":0},{"$f":"((F67+G67+H67)/3)*(1+Parâmetros!F11)","v":0},{"$f":"((G67+H67+I67)/3)*(1+Parâmetros!G11)","v":0}]
["4.6.91.00.00.00.00",null,"Amortização da Dívida  - INTRAORÇAMENTÁRIAS",{"$nulls":4},{"$f":"((E68+F68+G68)/3)*(1+Parâmetros!E11)","v":0},{"$f":"((F68+G68+H68)/3)*(1+Parâmetros!F11)","v":0},{"$f":"((G68+H68+I68)/3)*(1+Parâmetros!G11)","v":0}]
[null,null,"TOTAL DAS DESPESAS CONSIDERADAS ",{"$f":"D43+D56","v":{"v":1023213.85,"d":"1,023,213.85"}},{"v":1090171.8,"d":"1,090,171.80"},{"v":1575408.65,"d":"1,575,408.65"},{"v":1875688.9,"d":"1,875,688.90"},{"v":2000000.0032,"d":"2,000,000.00"},{"v":2092790.3604426668,"d":"2,092,790.36"},{"v":2208720.892669458,"d":"2,208,720.89"}]
[null,null,"Operação de Crédito Externo"]
[null,null,"RESULTADOS ","REALIZADO",{"$f":"IF(#REF!>0,\"REALIZADO\",\"PROJETADO\")","v":{"$error":"#REF!"}},{"$f":"IF(#REF!>0,\"REALIZADO\",\"PROJETADO\")","v":{"$error":"#REF!"}},{"$f":"IF(#REF!>0,\"REALIZADO\",\"PROJETADO\")","v":{"$error":"#REF!"}},"PROJETADO",null,"PROJETADO"]
[null,null,"FISCAIS",1999,2000,2001,2002,{"v":2003,"d":"2,003.00"},null,2004]
[]
[null,null,"1. RECEITA CORRENTE LÍQUIDA",{"$f":"D8-#REF!-#REF!+D78-#REF!","v":{"$error":"#REF!"}},{"$f":"E8-#REF!-#REF!+E78-#REF!","v":{"$error":"#REF!"}},{"$f":"F8-#REF!-#REF!+F78-#REF!","v":{"$error":"#REF!"}},{"$f":"G8-#REF!-#REF!+G78-#REF!","v":{"$error":"#REF!"}},{"$f":"H8-#REF!-#REF!+H78-#REF!","v":{"$error":"#REF!"}},null,{"$f":"J8-#REF!-#REF!+J78-#REF!","v":{"$error":"#REF!"}}]
[null,null,"2. RECEITAS DE TRIBUTOS",{"$f":"#REF!","v":{"$error":"#REF!"}},{"$f":"#REF!","v":{"$error":"#REF!"}},{"$f":"#REF!","v":{"$error":"#REF!"}},{"$f":"#REF!","v":{"$error":"#REF!"}},{"$f":"#REF!","v":{"$error":"#REF!"}},null,{"$f":"#REF!","v":{"$error":"#REF!"}}]
[null,null,"3. RECEITAS FINANCEIRAS",{"$f":"#REF!+#REF!+#REF!+#REF!+#REF!+#REF!+#REF!","v":{"$error":"#REF!"}},{"$f":"#REF!+#REF!+#REF!+#REF!+#REF!+#REF!+#REF!","v":{"$error":"#REF!"}},{"$f":"#REF!+#REF!+#REF!+#REF!+#REF!+#REF!+#REF!","v":{"$error":"#REF!"}},{"$f":"#REF!+#REF!+#REF!+#REF!+#REF!+#REF!+#REF!","v":{"$error":"#REF!"}},{"$f":"#REF!+#REF!+#REF!+#REF!+#REF!+#REF!+#REF!","v":{"$error":"#REF!"}},null,{"$f":"#REF!+#REF!+#REF!+#REF!+#REF!+#REF!+#REF!","v":{"$error":"#REF!"}}]
[null,null,"4. RENÚNCIA FISCAL",{"$f":"#REF!","v":{"$error":"#REF!"}},{"$f":"#REF!","v":{"$error":"#REF!"}},{"$f":"#REF!","v":{"$error":"#REF!"}},{"$f":"#REF!","v":{"$error":"#REF!"}},{"$f":"#REF!","v":{"$error":"#REF!"}},null,{"$f":"#REF!","v":{"$error":"#REF!"}}]
[null,null,"5. VALOR LÍQUIDO DO FUNDEF",{"$f":"#REF!-#REF!","v":{"$error":"#REF!"}},{"$f":"#REF!-#REF!","v":{"$error":"#REF!"}},{"$f":"#REF!-#REF!","v":{"$error":"#REF!"}},{"$f":"#REF!-#REF!","v":{"$error":"#REF!"}},{"$f":"#REF!-#REF!","v":{"$error":"#REF!"}},null,{"$f":"#REF!-#REF!","v":{"$error":"#REF!"}}]
[null,null,"6. TRANSFERÊNCIAS DA UNIÃO",{"$f":"#REF!","v":{"$error":"#REF!"}},{"$f":"#REF!","v":{"$error":"#REF!"}},{"$f":"#REF!","v":{"$error":"#REF!"}},{"$f":"#REF!","v":{"$error":"#REF!"}},{"$f":"#REF!","v":{"$error":"#REF!"}},null,{"$f":"#REF!","v":{"$error":"#REF!"}}]
[null,null,"7. TRANSFERÊNCIAS DOS ESTADOS",{"$f":"#REF!","v":{"$error":"#REF!"}},{"$f":"#REF!","v":{"$error":"#REF!"}},{"$f":"#REF!","v":{"$error":"#REF!"}},{"$f":"#REF!","v":{"$error":"#REF!"}},{"$f":"#REF!","v":{"$error":"#REF!"}},null,{"$f":"#REF!","v":{"$error":"#REF!"}}]
[null,null,"8. OPERAÇÕES DE CRÉDITO",{"$f":"#REF!","v":{"$error":"#REF!"}},{"$f":"#REF!","v":{"$error":"#REF!"}},{"$f":"#REF!","v":{"$error":"#REF!"}},{"$f":"#REF!","v":{"$error":"#REF!"}},{"$f":"#REF!","v":{"$error":"#REF!"}},null,{"$f":"#REF!","v":{"$error":"#REF!"}}]
[null,null,"9. AROS",{"$f":"#REF!","v":{"$error":"#REF!"}},{"$f":"#REF!","v":{"$error":"#REF!"}},{"$f":"#REF!","v":{"$error":"#REF!"}},{"$f":"#REF!","v":{"$error":"#REF!"}},{"$f":"#REF!","v":{"$error":"#REF!"}},null,{"$f":"#REF!","v":{"$error":"#REF!"}}]
[null,null,"10. PESSOAL ATIVO",{"$f":"#REF!+#REF!+#REF!+#REF!+D65+#REF!+#REF!+D69+D48+#REF!","v":{"$error":"#REF!"}},{"$f":"#REF!+#REF!+#REF!+#REF!+E65+#REF!+#REF!+E69+E48+#REF!","v":{"$error":"#REF!"}},{"$f":"#REF!+#REF!+#REF!+#REF!+F65+#REF!+#REF!+F69+F48+#REF!","v":{"$error":"#REF!"}},{"$f":"#REF!+#REF!+#REF!+#REF!+G65+#REF!+#REF!+G69+G48+#REF!","v":{"$error":"#REF!"}},{"$f":"#REF!+#REF!+#REF!+#REF!+H65+#REF!+#REF!+H69+H48+#REF!","v":{"$error":"#REF!"}},null,{"$f":"#REF!+#REF!+#REF!+#REF!+J65+#REF!+#REF!+J69+J48+#REF!","v":{"$error":"#REF!"}}]
[null,null,"11. PESSOAL INATIVO",{"$f":"#REF!+#REF!","v":{"$error":"#REF!"}},{"$f":"#REF!+#REF!","v":{"$error":"#REF!"}},{"$f":"#REF!+#REF!","v":{"$error":"#REF!"}},{"$f":"#REF!+#REF!","v":{"$error":"#REF!"}},{"$f":"#REF!+#REF!","v":{"$error":"#REF!"}},null,{"$f":"#REF!+#REF!","v":{"$error":"#REF!"}}]
[null,null,"12. PENSIONISTAS",{"$f":"D57+D61","v":{"v":0,"d":"0 "}},{"$f":"E57+E61","v":{"v":0,"d":"0 "}},{"$f":"F57+F61","v":{"v":0,"d":"0 "}},{"$f":"G57+G61","v":{"v":0,"d":"0 "}},{"$f":"H57+H61","v":0},null,{"$f":"J57+J61","v":{"v":0,"d":"0 "}}]
[null,null,"13. SERVIÇOS DE TERCEIROS",{"$f":"#REF!","v":{"$error":"#REF!"}},{"$f":"#REF!","v":{"$error":"#REF!"}},{"$f":"#REF!","v":{"$error":"#REF!"}},{"$f":"#REF!","v":{"$error":"#REF!"}},{"$f":"#REF!","v":{"$error":"#REF!"}},null,{"$f":"#REF!","v":{"$error":"#REF!"}}]
[null,null,"14. OUTROS CUSTEIOS CORRENTES",{"$f":"D52+#REF!+#REF!+#REF!+#REF!+#REF!+#REF!","v":{"$error":"#REF!"}},{"$f":"E52+#REF!+#REF!+#REF!+#REF!+#REF!+#REF!","v":{"$error":"#REF!"}},{"$f":"F52+#REF!+#REF!+#REF!+#REF!+#REF!+#REF!","v":{"$error":"#REF!"}},{"$f":"G52+#REF!+#REF!+#REF!+#REF!+#REF!+#REF!","v":{"$error":"#REF!"}},{"$f":"H52+#REF!+#REF!+#REF!+#REF!+#REF!+#REF!","v":{"$error":"#REF!"}},null,{"$f":"J52+#REF!+#REF!+#REF!+#REF!+#REF!+#REF!","v":{"$error":"#REF!"}}]
[null,null,"15. INVESTIMENTOS",{"$f":"#REF!","v":{"$error":"#REF!"}},{"$f":"#REF!","v":{"$error":"#REF!"}},{"$f":"#REF!","v":{"$error":"#REF!"}},{"$f":"#REF!","v":{"$error":"#REF!"}},{"$f":"#REF!","v":{"$error":"#REF!"}},null,{"$f":"#REF!","v":{"$error":"#REF!"}}]
[null,null,"16. ENCARGOS DA DÍVIDA",{"$f":"#REF!+#REF!","v":{"$error":"#REF!"}},{"$f":"#REF!+#REF!","v":{"$error":"#REF!"}},{"$f":"#REF!+#REF!","v":{"$error":"#REF!"}},{"$f":"#REF!+#REF!","v":{"$error":"#REF!"}},{"$f":"#REF!+#REF!","v":{"$error":"#REF!"}},null,{"$f":"#REF!+#REF!","v":{"$error":"#REF!"}}]
[null,null,"17. AMORTIZAÇÕES DA DÍVIDA",{"$f":"#REF!+#REF!","v":{"$error":"#REF!"}},{"$f":"#REF!+#REF!","v":{"$error":"#REF!"}},{"$f":"#REF!+#REF!","v":{"$error":"#REF!"}},{"$f":"#REF!+#REF!","v":{"$error":"#REF!"}},{"$f":"#REF!+#REF!","v":{"$error":"#REF!"}},null,{"$f":"#REF!+#REF!","v":{"$error":"#REF!"}}]
[null,null,"18. DESPESAS FINANCEIRAS",{"$f":"D89+D90","v":{"$error":"#REF!"}},{"$f":"E89+E90","v":{"$error":"#REF!"}},{"$error":"#REF!"},{"$error":"#REF!"},{"$error":"#REF!"},null,{"$error":"#REF!"}]
[null,null,"19. RESULTADO PRIMÁRIO",{"$f":" ((D8+#REF!)-(D76)-((#REF!+#REF!)-D91))","v":{"$error":"#REF!"}},{"$f":" ((E8+#REF!)-(E76)-((#REF!+#REF!)-E91))","v":{"$error":"#REF!"}},{"$f":" ((F8+#REF!)-(F76)-((#REF!+#REF!)-F91))","v":{"$error":"#REF!"}},{"$f":" ((G8+#REF!)-(G76)-((#REF!+#REF!)-G91))","v":{"$error":"#REF!"}},{"$f":" ((H8+#REF!)-(H76)-((#REF!+#REF!)-H91))","v":{"$error":"#REF!"}},null,{"$f":" ((J8+#REF!)-(J76)-((#REF!+#REF!)-J91))","v":{"$error":"#REF!"}}]
[null,null,"20. RESULTADO NOMINAL",{"$f":"-(D92-(D89-#REF!-#REF!-#REF!-#REF!))","v":{"$error":"#REF!"}},{"$f":"-(E92-(E89-#REF!-#REF!-#REF!-#REF!))","v":{"$error":"#REF!"}},{"$f":"-(F92-(F89-#REF!-#REF!-#REF!-#REF!))","v":{"$error":"#REF!"}},{"$f":"-(G92-(G89-#REF!-#REF!-#REF!-#REF!))","v":{"$error":"#REF!"}},{"$f":"-(H92-(H89-#REF!-#REF!-#REF!-#REF!))","v":{"$error":"#REF!"}},null,{"$f":"-(J92-(J89-#REF!-#REF!-#REF!-#REF!))","v":{"$error":"#REF!"}}]
[{"$nulls":7},{"$f":"4627000-H69","v":{"v":2626999.9968,"d":"2,627,000.00"}},{"$f":"4627000-I69","v":{"v":2534209.639557333,"d":"2,534,209.64"}},{"v":2418279.107330542,"d":"2,418,279.11"}]
[{"$nulls":7},{"v":200000,"d":"200,000.00"}]
[{"$nulls":7},{"$f":"H69+H94+Projeções!H148+H95","v":{"v":32999999.997433186,"d":"33,000,000.00"}}]

{"sheet":"RCL","index":3,"n_rows":14,"n_cols":4,"rows_kept":14,"merged":[[0,0,0,3],[1,0,1,3],[2,0,2,3],[3,0,3,3]]}
[{"$f":"Parâmetros!A7","v":"Município de :   NOVA PÁDUA"}]
[{"$f":"Parâmetros!A8","v":"LEI DE DIRETRIZES ORÇAMENTÁRIAS  PARA 2025"}]
["Tabela 03 - Estimativas para a Receita Corrente Líquida"]
[]
["ESPECIFICAÇÃO",{"$f":"Parâmetros!$E$10","v":2025},{"$f":"B5+1","v":2026},{"$f":"C5+1","v":2027}]
["I - RECEITAS CORRENTES (Exceto Intraorçamentárias e recursos do RPPS)",{"$f":"Projeções!H8","v":{"v":32321166.701127496,"d":"32,321,166.70"}},{"$f":"Projeções!I8","v":{"v":37164916.99453622,"d":"37,164,916.99"}},{"$f":"Projeções!J8","v":{"v":41532442.245302886,"d":"41,532,442.25"}}]
["II - DEDUÇÕES"]
["Deduções da Receita Corrente ",{"$f":"-(Projeções!H102+Projeções!H103+Projeções!H104)","v":{"v":4426992.2199377185,"d":"4,426,992.22"}},{"$f":"-(Projeções!I102+Projeções!I103+Projeções!I104)","v":{"v":5049045.109680384,"d":"5,049,045.11"}},{"$f":"-(Projeções!J102+Projeções!J103+Projeções!J104)","v":{"v":5607873.9866421055,"d":"5,607,873.99"}}]
["Outras deduções",0,{"$f":"B9*(1+Parâmetros!F11)","v":0},{"$f":"C9*(1+Parâmetros!G11)","v":0}]
["IV - RECEITA CORRENTE LÍQUIDA PREVISTA (I-II+III)",{"$f":"B6-B8-B9","v":{"v":27894174.481189776,"d":"27,894,174.48"}},{"$f":"C6-C8-C9","v":{"v":32115871.884855837,"d":"32,115,871.88"}},{"$f":"D6-D8-D9","v":{"v":35924568.25866078,"d":"35,924,568.26"}}]
["  (-)  Recursos de Emendas Parlamentares Individuais (código de natureza  1.7.1.0.00.00.00 com complemento de vínculo 3110)",null,{"$f":"B11*(1+Parâmetros!F11)","v":0},{"$f":"C11*(1+Parâmetros!G11)","v":0}]
["V - Receita Corrente Líquida para Fins de Endividamento",{"$f":"B10-B11","v":{"v":27894174.481189776,"d":"27,894,174.48"}},{"$f":"C10-C11","v":{"v":32115871.884855837,"d":"32,115,871.88"}},{"$f":"D10-D11","v":{"v":35924568.25866078,"d":"35,924,568.26"}}]
["  (-)  Recursos de Emendas Parlamentares de Bancada (código de natureza  1.7.1.0.00.00.00 com complemento de vínculo 3120)",null,{"$f":"B13*(1+Parâmetros!F11)","v":0},{"$f":"C13*(1+Parâmetros!G11)","v":0}]
["VI - Receita Corrente Líquida p/Despesas com Pessoal",{"$f":"B12-B13","v":{"v":27894174.481189776,"d":"27,894,174.48"}},{"$f":"C12-C13","v":{"v":32115871.884855837,"d":"32,115,871.88"}},{"$f":"D12-D13","v":{"v":35924568.25866078,"d":"35,924,568.26"}}]

{"sheet":"Pessoal","index":4,"n_rows":16,"n_cols":4,"rows_kept":16,"merged":[[0,0,0,3],[1,0,1,3],[2,0,2,3],[4,0,5,0],[4,1,4,3],[9,0,9,3],[11,0,12,0],[11,1,11,3]]}
[{"$f":"Parâmetros!A7","v":"Município de :   NOVA PÁDUA"}]
[{"$f":"Parâmetros!A8","v":"LEI DE DIRETRIZES ORÇAMENTÁRIAS  PARA 2025"}]
["Tabela 04 - Estimativa de Limites de Gastos com Pessoal do Poder Executivo e Legislativo para o período de 2025 a 2027"]
[]
["PODER EXECUTIVO"]
[null,{"$f":"Parâmetros!E10","v":2025},{"$f":"Parâmetros!F10","v":2026},{"$f":"Parâmetros!G10","v":2027}]
["Limite Máximo Legal   -  54 % da  RCL (alínea “b” do inciso III do artigo 20 da LRF)",{"$f":"RCL!B14*0.54","v":{"v":15062854.21984248,"d":"15,062,854.22"}},{"$f":"RCL!C14*0.54","v":{"v":17342570.817822155,"d":"17,342,570.82"}},{"$f":"RCL!D14*0.54","v":{"v":19399266.859676823,"d":"19,399,266.86"}}]
["Limite Prudencial - 51,30 % da RCL (parágrafo único do artigo 22 daLRF)",{"$f":"B7*0.95","v":{"v":14309711.508850357,"d":"14,309,711.51"}},{"$f":"C7*0.95","v":{"v":16475442.276931046,"d":"16,475,442.28"}},{"$f":"D7*0.95","v":{"v":18429303.51669298,"d":"18,429,303.52"}}]
["Limite de Alerta - 48,60 % da RCL (inciso II do § 1º do artigo 59 da LRF)",{"$f":"B7*0.9","v":{"v":13556568.797858233,"d":"13,556,568.80"}},{"$f":"C7*0.9","v":{"v":15608313.73603994,"d":"15,608,313.74"}},{"$f":"D7*0.9","v":{"v":17459340.173709143,"d":"17,459,340.17"}}]
[]
[]
["PODER LEGISLATIVO "]
[null,{"$f":"Parâmetros!E10","v":2025},{"$f":"Parâmetros!F10","v":2026},{"$f":"Parâmetros!G10","v":2027}]
["Limite Máximo Legal   -  6 % da  RCL (alínea “b” do inciso III do artigo 20 da LRF)",{"$f":"RCL!B14*0.06","v":{"v":1673650.4688713865,"d":"1,673,650.47"}},{"$f":"RCL!C14*0.06","v":{"v":1926952.31309135,"d":"1,926,952.31"}},{"$f":"RCL!D14*0.06","v":{"v":2155474.0955196465,"d":"2,155,474.10"}}]
["Limite Prudencial - 5,70 % da RCL (parágrafo único do artigo 22 daLRF)",{"$f":"B14*0.95","v":{"v":1589967.945427817,"d":"1,589,967.95"}},{"$f":"C14*0.95","v":{"v":1830604.6974367825,"d":"1,830,604.70"}},{"$f":"D14*0.95","v":{"v":2047700.390743664,"d":"2,047,700.39"}}]
["Limite de Alerta -  5,40 % da RCL (inciso II do § 1º do artigo 59 da LRF)",{"$f":"B14*0.9","v":{"v":1506285.4219842479,"d":"1,506,285.42"}},{"$f":"C14*0.9","v":{"v":1734257.081782215,"d":"1,734,257.08"}},{"$f":"D14*0.9","v":{"v":1939926.685967682,"d":"1,939,926.69"}}]

{"sheet":"Dívida","index":5,"n_rows":25,"n_cols":7,"rows_kept":25,"merged":[[0,0,0,9],[1,0,1,9],[2,0,2,9],[4,0,5,0],[15,0,15,3],[18,0,19,0],[24,0,24,6]]}
[{"$f":"Parâmetros!A7","v":"Município de :   NOVA PÁDUA"}]
[{"$f":"Parâmetros!A8","v":"LEI DE DIRETRIZES ORÇAMENTÁRIAS  PARA 2025"}]
["TABELA 05 - Demonstrativo da Evolução da Dívida Consolidada Líquida "]
[]
["Exercício",{"$f":"Parâmetros!B10","v":{"v":2022,"d":"2,022"}},{"$f":"B5+1","v":{"v":2023,"d":"2,023"}},{"$f":"C5+1","v":{"v":2024,"d":"2,024"}},{"$f":"D5+1","v":{"v":2025,"d":"2,025"}},{"$f":"E5+1","v":{"v":2026,"d":"2,026"}},{"$f":"F5+1","v":{"v":2027,"d":"2,027"}}]
[null,"Saldo","Saldo","Reestimativa","Previsão (Saldo Médio)","Previsão (Saldo Médio)","Previsão (Saldo Médio)"]
[" DÍVIDA CONSOLIDADA (I)",{"$f":"B8+B9+B10","v":{"v":933333.36,"d":"933,333.36"}},{"v":666666.72,"d":"666,666.72"},{"v":443669.30999999994,"d":"443,669.31"},{"v":220671.89999999994,"d":"220,671.90"},0,0]
["    Dívida Mobiliária",{"$nulls":3},{"$f":"(B8+C8+D8)/3","v":0},0,0]
["    Dívida Contratual (inclusive parcelamentos)",{"v":933333.36,"d":"933,333.36"},{"v":666666.72,"d":"666,666.72"},{"$f":"C9-C22","v":{"v":443669.30999999994,"d":"443,669.31"}},{"$f":"D9-C22","v":{"v":220671.89999999994,"d":"220,671.90"}},0,0]
["    Precatórios posteriores a 05-05-2000",0,0,0,0,0,0]
["DISPONIBILIDADES DE CAIXA (II)",{"$f":"B12-B13+B14","v":{"v":3259155.7,"d":"3,259,155.70"}},{"v":4240529.079999999,"d":"4,240,529.08"},{"v":3053349.67,"d":"3,053,349.67"},{"v":3517678.15,"d":"3,517,678.15"},{"v":3603852.3,"d":"3,603,852.30"},{"v":3391626.706666666,"d":"3,391,626.71"}]
["   Disponibilidade da Caixa Bruta - Excet RPPS",{"v":3292228.83,"d":"3,292,228.83"},{"v":5314470.51,"d":"5,314,470.51"},{"$f":"((C12+B12)/2)-1000000","v":{"v":3303349.67,"d":"3,303,349.67"}},{"$f":"(B12+C12+D12)/3","v":{"v":3970016.3366666664,"d":"3,970,016.34"}},{"v":4195945.505555555,"d":"4,195,945.51"},{"v":3823103.837407407,"d":"3,823,103.84"}]
["   (-) Restos a Pagar Processados - Excto restos do RPPS",{"v":170.5,"d":"170.50"},{"v":851176.65,"d":"851,176.65"},{"v":200000,"d":"200,000.00"},{"v":350449.05,"d":"350,449.05"},{"v":467208.56666666665,"d":"467,208.57"},{"v":339219.2055555556,"d":"339,219.21"}]
["(-) Depósitos restituíveis",{"v":-32902.63,"d":"(32,902.63)"},{"v":-222764.78,"d":"(222,764.78)"},{"v":-50000,"d":"(50,000.00)"},{"v":-101889.13666666667,"d":"(101,889.14)"},{"v":-124884.63888888889,"d":"(124,884.64)"},{"v":-92257.92518518517,"d":"(92,257.93)"}]
["DIVIDA CONSOLIDADA LÍQUIDA (III = I - II)",{"$f":"B7-B11","v":{"v":-2325822.3400000003,"d":"(2,325,822.34)"}},{"v":-3573862.3599999994,"d":"(3,573,862.36)"},{"v":-2609680.36,"d":"(2,609,680.36)"},{"v":-3297006.25,"d":"(3,297,006.25)"},{"v":-3603852.3,"d":"(3,603,852.30)"},{"v":-3391626.706666666,"d":"(3,391,626.71)"}]
["Previsão de comprometimento da RCL com a Dívida Consolidada Líquida",{"$nulls":3},{"$f":"E15/RCL!B12","v":{"v":-0.11819694654248725,"d":"-11.82%"}},{"$f":"F15/RCL!C12","v":{"v":-0.11221405767593026,"d":"-11.22%"}},{"$f":"G15/RCL!D12","v":{"v":-0.09440967201739453,"d":"-9.44%"}}]
[]
["Cronograma Anual de Operações de Crédito e  de Amortização e Serviço da Dívida",{"$nulls":5},"Valores em R$"]
["Operações de Crédito / Pagamentos ",{"$f":"Parâmetros!B10","v":{"v":2022,"d":"2,022"}},{"$f":"B19+1","v":{"v":2023,"d":"2,023"}},{"$f":"C19+1","v":{"v":2024,"d":"2,024"}},{"$f":"D19+1","v":{"v":2025,"d":"2,025"}},{"$f":"E19+1","v":{"v":2026,"d":"2,026"}},{"$f":"F19+1","v":{"v":2027,"d":"2,027"}}]
[null,"Realizado","Realizado","Reestimativa","Previsão","Previsão","Previsão"]
["2.1 - Operações de Crédito",{"v":227000,"d":"227,000.00"},{"$f":"Projeções!F77","v":0},{"$f":"Projeções!G77","v":0},null,null,0]
["2.2 Encargos - Exceto RPPS",{"v":262283.51,"d":"262,283.51"},{"$f":"Projeções!F121","v":{"v":222997.41,"d":"222,997.41"}},{"$f":"Projeções!G121","v":{"v":222997.41,"d":"222,997.41"}},{"$f":"Projeções!H121","v":{"v":176014.44248295604,"d":"176,014.44"}},0,0]
["2.3 Amortizações - Exceto RPPS",{"v":266666.64,"d":"266,666.64"},{"$f":"Projeções!F143","v":{"v":266666.64,"d":"266,666.64"}},{"$f":"Projeções!G143","v":{"v":266666.64,"d":"266,666.64"}},{"$f":"Projeções!H143","v":{"v":266666.64,"d":"266,666.64"}},0,{"$f":"Projeções!J143","v":0}]
[" 2.2.3 Dívida Mobiliária"]
["Fonte: Demonstrativo divida fundada- rgf"]

{"sheet":" Dem-1-Metas","index":6,"n_rows":39,"n_cols":13,"rows_kept":39,"merged":[[0,0,0,11],[1,0,1,11],[2,0,2,11],[3,0,3,11],[4,0,4,11],[5,0,5,7],[5,9,5,12],[6,0,9,0],[6,1,6,4],[6,5,6,8],[6,9,6,12],[10,3,34,3],[10,7,34,7],[10,11,34,11],[35,0,35,12],[36,0,36,12],[37,0,37,12],[38,0,38,12]]}
[{"$f":"Parâmetros!A7","v":"Município de :   NOVA PÁDUA"}]
["LEI DE DIRETRIZES ORÇAMENTÁRIAS"]
["ANEXO DE  METAS FISCAIS"]
["METAS ANUAIS"]
[{"$f":"Parâmetros!E10","v":2025}]
["AMF - Demonstrativo 1 (LRF, art. 4º, § 1º)",{"$nulls":8},{"v":1,"d":"R$ 1.00"}]
["ESPECIFICAÇÃO",{"$f":"Parâmetros!E10","v":2025},{"$nulls":3},{"$f":"B7+1","v":2026},{"$nulls":3},{"$f":"F7+1","v":2027}]
[null,"Valor","Valor","% PIB","% RCL","Valor","Valor","% PIB","% RCL","Valor","Valor","% PIB","% RCL"]
[null,"Corrente","Constante","(a / PIB)","(a / RCL)","Corrente","Constante","(b / PIB)","(b / RCL)","Corrente","Constante","(c / PIB)","(c / RCL)"]
[null,"(a)",null,"x 100","x 100","(b)",null,"x 100","x 100","(c)",null,"x 100","x 100"]
[" Receita Total (Exceto Fontes RPPS)",{"$f":"Projeções!H107","v":{"v":28373000.0037438,"d":"28,373,000.00"}},{"$f":"B11/(1+Parâmetros!E11)","v":{"v":27281730.772830576,"d":"27,281,730.77"}},"Preenchimento Opcional Cfe. Item 02.01.03.01 da 14ª Edição do MDF",{"$f":"B11/RCL!B12","v":{"v":1.0171657893255424,"d":"101.72%"}},{"$f":"Projeções!I107","v":{"v":32620624.07144802,"d":"32,620,624.07"}},{"$f":"F11/((1+Parâmetros!E11)*(1+Parâmetros!F11))","v":{"v":30159600.657773685,"d":"30,159,600.66"}},"Preenchimento Opcional Cfe. Item 02.01.03.01 da 14ª Edição do MDF",{"$f":"F11/RCL!C12","v":{"v":1.015716596093105,"d":"101.57%"}},{"$f":"Projeções!J107","v":{"v":36456696.01335532,"d":"36,456,696.01"}},{"$f":"J11/((1+Parâmetros!E11)*(1+Parâmetros!F11)*(1+Parâmetros!G11))","v":{"v":32409870.00504534,"d":"32,409,870.01"}},"Preenchimento Opcional Cfe. Item 02.01.03.01 da 14ª Edição do MDF",{"$f":"J11/RCL!D12","v":{"v":1.0148123632513317,"d":"101.48%"}}]
[" Receitas Primárias (Exceto Fontes RPPS) - I",{"$f":"B13+B17","v":{"v":27928995.52659683,"d":"27,928,995.53"}},{"$f":"C13+C17","v":{"v":29890025.31897589,"d":"29,890,025.32"}},null,{"$f":"B12/RCL!B12","v":{"v":1.0012483267942034,"d":"100.12%"}},{"$f":"F13+F17","v":{"v":32150924.884813096,"d":"32,150,924.88"}},{"$f":"F12/((1+Parâmetros!E11)*(1+Parâmetros!F11))","v":{"v":29725337.35652098,"d":"29,725,337.36"}},null,{"$f":"F12/RCL!C12","v":{"v":1.0010914540973053,"d":"100.11%"}},{"$f":"J13+J17","v":{"v":35959791.90940448,"d":"35,959,791.91"}},{"$f":"K13+K17","v":{"v":31968124.066024408,"d":"31,968,124.07"}},null,{"$f":"J12/RCL!D12","v":{"v":1.0009804891875134,"d":"100.10%"}}]
[" Receitas Primárias Correntes",{"$f":"B14+B15+B16","v":{"v":27512706.673397772,"d":"27,512,706.67"}},{"$f":"C14+C18","v":{"v":29489747.57551526,"d":"29,489,747.58"}},null,{"$f":"B13/RCL!B12","v":{"v":0.9863244632656455,"d":"98.63%"}},{"$f":"F14+F15+F16","v":{"v":31711210.83435008,"d":"31,711,210.83"}},{"$f":"G14+G15+G16","v":{"v":29318796.999214195,"d":"29,318,797.00"}},null,{"$f":"F13/RCL!C12","v":{"v":0.9873999668464061,"d":"98.74%"}},{"$f":"J14+J15+J16","v":{"v":35495303.81628427,"d":"35,495,303.82"}},{"$f":"K14+K15+K16","v":{"v":31555195.842594545,"d":"31,555,195.84"}},null,{"$f":"J13/RCL!D12","v":{"v":0.9880509505560162,"d":"98.81%"}}]
[" Impostos, Taxas e Contribuições de Melhoria",{"$f":"Projeções!H9+Projeções!H102","v":{"v":2496337.481102686,"d":"2,496,337.48"}},{"$f":"B14/(1+Parâmetros!E11)","v":{"v":2400324.501060275,"d":"2,400,324.50"}},null,{"$f":"B14/RCL!B12","v":{"v":0.0894931478537238,"d":"8.95%"}},{"$f":"Projeções!I9+Projeções!I102","v":{"v":3228328.8172397376,"d":"3,228,328.82"}},{"$f":"F14/((1+Parâmetros!E11)*(1+Parâmetros!F11))","v":{"v":2984771.465643248,"d":"2,984,771.47"}},null,{"$f":"F14/RCL!C12","v":{"v":0.10052128831545279,"d":"10.05%"}},{"$f":"Projeções!J9+Projeções!J102","v":{"v":3831789.6653724588,"d":"3,831,789.67"}},{"$f":"J14/((1+Parâmetros!E11)*(1+Parâmetros!F11)*(1+Parâmetros!G11))","v":{"v":3406447.059708959,"d":"3,406,447.06"}},null,{"$f":"J14/RCL!D12","v":{"v":0.10666209368984364,"d":"10.67%"}}]
[" Transferências Correntes",{"$f":"Projeções!H37+Projeções!H103","v":{"v":23835374.66842094,"d":"23,835,374.67"}},{"$f":"B15/(1+Parâmetros!E11)","v":{"v":22918629.48886629,"d":"22,918,629.49"}},null,{"$f":"B15/RCL!B12","v":{"v":0.8544929223302214,"d":"85.45%"}},{"$f":"Projeções!I37+Projeções!I103","v":{"v":27232350.68332782,"d":"27,232,350.68"}},{"$f":"F15/((1+Parâmetros!E11)*(1+Parâmetros!F11))","v":{"v":25177839.01934894,"d":"25,177,839.02"}},null,{"$f":"F15/RCL!C12","v":{"v":0.8479405691043739,"d":"84.79%"}},{"$f":"Projeções!J37+Projeções!J103","v":{"v":30339308.8754642,"d":"30,339,308.88"}},{"$f":"J15/((1+Parâmetros!E11)*(1+Parâmetros!F11)*(1+Parâmetros!G11))","v":{"v":26971535.114879843,"d":"26,971,535.11"}},null,{"$f":"J15/RCL!D12","v":{"v":0.8445281417724465,"d":"84.45%"}}]
[" Demais Receitas Primárias Correntes",{"$f":"(Projeções!H8+Projeções!H95+Projeções!H102+Projeções!H103+Projeções!H104)-Projeções!H24-Projeções!H35-Projeções!H68-Projeções!H74-Projeções!H97-B14-B15","v":{"v":1180994.523874145,"d":"1,180,994.52"}},{"$f":"B16/(1+Parâmetros!E11)","v":{"v":1135571.6575712932,"d":"1,135,571.66"}},null,{"$f":"B16/RCL!B12","v":{"v":0.04233839308170025,"d":"4.23%"}},{"$f":"(Projeções!I8+Projeções!I95+Projeções!I102+Projeções!I103+Projeções!I104)-Projeções!I24-Projeções!I35-Projeções!I68-Projeções!I74-Projeções!I97-F14-F15","v":{"v":1250531.3337825201,"d":"1,250,531.33"}},{"$f":"F16/((1+Parâmetros!E11)*(1+Parâmetros!F11))","v":{"v":1156186.5142220045,"d":"1,156,186.51"}},null,{"$f":"F16/RCL!C12","v":{"v":0.03893810942657936,"d":"3.89%"}},{"$f":"(Projeções!J8+Projeções!J95+Projeções!J102+Projeções!J103+Projeções!J104)-Projeções!J24-Projeções!J35-Projeções!J68-Projeções!J74-Projeções!J97-J14-J15","v":{"v":1324205.2754476108,"d":"1,324,205.28"}},{"$f":"J16/((1+Parâmetros!E11)*(1+Parâmetros!F11)*(1+Parâmetros!G11))","v":{"v":1177213.6680057417,"d":"1,177,213.67"}},null,{"$f":"J16/RCL!D12","v":{"v":0.0368607150937261,"d":"3.69%"}}]
[" Receitas Primárias de Capital",{"$f":"Projeções!H76+Projeções!H98+Projeções!H105-Projeções!H77-Projeções!H79-Projeções!H80-Projeções!H83-Projeções!H94-Projeções!H100","v":{"v":416288.85319905594,"d":"416,288.85"}},{"$f":"B17/(1+Parâmetros!E11)","v":{"v":400277.7434606307,"d":"400,277.74"}},null,{"$f":"B17/RCL!B12","v":{"v":0.014923863528557806,"d":"1.49%"}},{"$f":"Projeções!I76+Projeções!I98+Projeções!I105-Projeções!I77-Projeções!I79-Projeções!I80-Projeções!I83-Projeções!I94-Projeções!I100","v":{"v":439714.05046301824,"d":"439,714.05"}},{"$f":"F17/((1+Parâmetros!E11)*(1+Parâmetros!F11))","v":{"v":406540.35730678454,"d":"406,540.36"}},null,{"$f":"F17/RCL!C12","v":{"v":0.013691487250899277,"d":"1.37%"}},{"$f":"Projeções!J76+Projeções!J98+Projeções!J105-Projeções!J77-Projeções!J79-Projeções!J80-Projeções!J83-Projeções!J94-Projeções!J100","v":{"v":464488.0931202077,"d":"464,488.09"}},{"$f":"J17/((1+Parâmetros!E11)*(1+Parâmetros!F11)*(1+Parâmetros!G11))","v":{"v":412928.2234298615,"d":"412,928.22"}},null,{"$f":"J17/RCL!D12","v":{"v":0.012929538631497064,"d":"1.29%"}}]
[" Despesa Total  (Exceto Fontes RPPS)",{"$f":"Projeções!H148","v":{"v":28172999.997433186,"d":"28,173,000.00"}},{"$f":"B18/(1+Parâmetros!E11)","v":{"v":27089423.074454986,"d":"27,089,423.07"}},null,{"$f":"B18/RCL!B12","v":{"v":1.0099958332314667,"d":"101.00%"}},{"$f":"Projeções!I148","v":{"v":33176469.604201674,"d":"33,176,469.60"}},{"$f":"F18/((1+Parâmetros!E11)*(1+Parâmetros!F11))","v":{"v":30673511.098559238,"d":"30,673,511.10"}},null,{"$f":"F18/RCL!C12","v":{"v":1.0330240985874015,"d":"103.30%"}},{"$f":"Projeções!J148","v":{"v":38001067.44516212,"d":"38,001,067.45"}},{"$f":"J18/((1+Parâmetros!E11)*(1+Parâmetros!F11)*(1+Parâmetros!G11))","v":{"v":33782810.58435696,"d":"33,782,810.58"}},null,{"$f":"J18/RCL!D12","v":{"v":1.0578016462591928,"d":"105.78%"}}]
[" Despesas Primárias (Exceto Fontes RPPS) - II",{"$f":"B20+B23+B24","v":{"v":27730318.91495023,"d":"27,730,318.91"}},{"$f":"C20+C23+C24","v":{"v":26663768.187452145,"d":"26,663,768.19"}},null,{"$f":"B19/RCL!B12","v":{"v":0.9941258141068113,"d":"99.41%"}},{"$f":"F20+F23+F24","v":{"v":32806836.101895258,"d":"32,806,836.10"}},{"$f":"G20+G23+G24","v":{"v":30331764.147462327,"d":"30,331,764.15"}},null,{"$f":"F19/RCL!C12","v":{"v":1.0215147270333098,"d":"102.15%"}},{"$f":"J20+J23+J24","v":{"v":37792424.325403884,"d":"37,792,424.33"}},{"$f":"K20+K23+K24","v":{"v":33597327.61063016,"d":"33,597,327.61"}},null,{"$f":"J19/RCL!D12","v":{"v":1.0519938347844389,"d":"105.20%"}}]
[" Despesas Primárias Correntes",{"$f":"B21+B22","v":{"v":23578048.790386237,"d":"23,578,048.79"}},{"$f":"C21+C22","v":{"v":22671200.759986766,"d":"22,671,200.76"}},null,{"$f":"B20/RCL!B12","v":{"v":0.8452678463844095,"d":"84.53%"}},{"$f":"F21+F22","v":{"v":28479895.596629642,"d":"28,479,895.60"}},{"$f":"G21+G22","v":{"v":26331264.419960834,"d":"26,331,264.42"}},null,{"$f":"F20/RCL!C12","v":{"v":0.8867856896035031,"d":"88.68%"}},{"$f":"J21+J22","v":{"v":32591819.54663477,"d":"32,591,819.55"}},{"$f":"K21+K22","v":{"v":28974008.89941786,"d":"28,974,008.90"}},null,{"$f":"J20/RCL!D12","v":{"v":0.9072292619349005,"d":"90.72%"}}]
[" Pessoal e Encargos Sociais",{"$f":"Projeções!H116-Projeções!H119","v":{"v":10760716.953179292,"d":"10,760,716.95"}},{"$f":"B21/(1+Parâmetros!E11)","v":{"v":10346843.224210858,"d":"10,346,843.22"}},null,{"$f":"B21/RCL!B12","v":{"v":0.3857693283031444,"d":"38.58%"}},{"$f":"Projeções!I116-Projeções!I119","v":{"v":13175085.722254876,"d":"13,175,085.72"}},{"$f":"F21/((1+Parâmetros!E11)*(1+Parâmetros!F11))","v":{"v":12181107.361552214,"d":"12,181,107.36"}},null,{"$f":"F21/RCL!C12","v":{"v":0.41023596586420424,"d":"41.02%"}},{"$f":"Projeções!J116-Projeções!J119","v":{"v":15018129.044789067,"d":"15,018,129.04"}},{"$f":"J21/((1+Parâmetros!E11)*(1+Parâmetros!F11)*(1+Parâmetros!G11))","v":{"v":13351062.034867384,"d":"13,351,062.03"}},null,{"$f":"J21/RCL!D12","v":{"v":0.41804619436639884,"d":"41.80%"}}]
[" Outras Despesas Correntes",{"$f":"Projeções!H126-Projeções!H129","v":{"v":12817331.837206943,"d":"12,817,331.84"}},{"$f":"B22/(1+Parâmetros!E11)","v":{"v":12324357.535775905,"d":"12,324,357.54"}},null,{"$f":"B22/RCL!B12","v":{"v":0.4594985180812651,"d":"45.95%"}},{"$f":"Projeções!I126-Projeções!I129","v":{"v":15304809.874374764,"d":"15,304,809.87"}},{"$f":"F22/((1+Parâmetros!E11)*(1+Parâmetros!F11))","v":{"v":14150157.05840862,"d":"14,150,157.06"}},null,{"$f":"F22/RCL!C12","v":{"v":0.4765497237392988,"d":"47.65%"}},{"$f":"Projeções!J126-Projeções!J129","v":{"v":17573690.501845706,"d":"17,573,690.50"}},{"$f":"J22/((1+Parâmetros!E11)*(1+Parâmetros!F11)*(1+Parâmetros!G11))","v":{"v":15622946.864550475,"d":"15,622,946.86"}},null,{"$f":"J22/RCL!D12","v":{"v":0.48918306756850166,"d":"48.92%"}}]
[" Despesas Primárias de Capital ",{"$f":"Projeções!H132-Projeções!H135+Projeções!H137-Projeções!H138-Projeções!H141","v":{"v":2686464.47383066,"d":"2,686,464.47"}},{"$f":"B23/(1+Parâmetros!E11)","v":{"v":2583138.9171448653,"d":"2,583,138.92"}},null,{"$f":"B23/RCL!B12","v":{"v":0.09630915858944873,"d":"9.63%"}},{"$f":"Projeções!I132-Projeções!I135+Projeções!I137-Projeções!I138-Projeções!I141","v":{"v":3093589.379944725,"d":"3,093,589.38"}},{"$f":"F23/((1+Parâmetros!E11)*(1+Parâmetros!F11))","v":{"v":2860197.2817536285,"d":"2,860,197.28"}},null,{"$f":"F23/RCL!C12","v":{"v":0.09632587248560734,"d":"9.63%"}},{"$f":"Projeções!J132-Projeções!J135+Projeções!J137-Projeções!J138-Projeções!J141","v":{"v":3680804.742536984,"d":"3,680,804.74"}},{"$f":"J23/((1+Parâmetros!E11)*(1+Parâmetros!F11)*(1+Parâmetros!G11))","v":{"v":3272222.0130940126,"d":"3,272,222.01"}},null,{"$f":"J23/RCL!D12","v":{"v":0.10245926175186829,"d":"10.25%"}}]
[" Pagamento de Restos a Pagar de Despesas Primárias",{"$f":"Projeções!H119+Projeções!H129+Projeções!H135+Projeções!H141","v":{"v":1465805.6507333335,"d":"1,465,805.65"}},{"$f":"B24/(1+Parâmetros!E11)","v":{"v":1409428.510320513,"d":"1,409,428.51"}},null,{"$f":"B24/RCL!B12","v":{"v":0.052548809132953136,"d":"5.25%"}},{"$f":"Projeções!I119+Projeções!I129+Projeções!I135+Projeções!I141","v":{"v":1233351.1253208888,"d":"1,233,351.13"}},{"$f":"F24/((1+Parâmetros!E11)*(1+Parâmetros!F11))","v":{"v":1140302.445747863,"d":"1,140,302.45"}},null,{"$f":"F24/RCL!C12","v":{"v":0.038403164944199215,"d":"3.84%"}},{"$f":"Projeções!J119+Projeções!J129+Projeções!J135+Projeções!J141","v":{"v":1519800.0362321304,"d":"1,519,800.04"}},{"$f":"J24/((1+Parâmetros!E11)*(1+Parâmetros!F11)*(1+Parâmetros!G11))","v":{"v":1351096.6981182883,"d":"1,351,096.70"}},null,{"$f":"J24/RCL!D12","v":{"v":0.04230531109767014,"d":"4.23%"}}]
[" Receita Total (Com Fontes RPPS)",{"$f":"'Projeções - RPPS'!H35","v":{"v":4627000.00066633,"d":"4,627,000.00"}},{"$f":"B25/(1+Parâmetros!E11)","v":{"v":4449038.462179163,"d":"4,449,038.46"}},null,{"$f":"B25/RCL!B12","v":{"v":0.16587692902639983,"d":"16.59%"}},{"$f":"'Projeções - RPPS'!I35","v":{"v":4985781.621449091,"d":"4,985,781.62"}},{"$f":"F25/((1+Parâmetros!E11)*(1+Parâmetros!F11))","v":{"v":4609635.374860475,"d":"4,609,635.37"}},null,{"$f":"F25/RCL!C12","v":{"v":0.15524353937282095,"d":"15.52%"}},{"$f":"'Projeções - RPPS'!J35","v":{"v":5335746.195655139,"d":"5,335,746.20"}},{"$f":"J25/((1+Parâmetros!E11)*(1+Parâmetros!F11)*(1+Parâmetros!G11))","v":{"v":4743458.938729606,"d":"4,743,458.94"}},null,{"$f":"J25/RCL!D12","v":{"v":0.14852638331620827,"d":"14.85%"}}]
[" Receitas Primárias (Com Fontes RPPS) - III",{"$f":"B25-'Projeções - RPPS'!H10-'Projeções - RPPS'!H19-'Projeções - RPPS'!H23-'Projeções - RPPS'!H27-'Projeções - RPPS'!H30-'Projeções - RPPS'!H32","v":{"v":2627000.0006663296,"d":"2,627,000.00"}},{"$f":"B26/(1+Parâmetros!E11)","v":{"v":2525961.53910224,"d":"2,525,961.54"}},null,{"$f":"B26/RCL!B12","v":{"v":0.09417737034798528,"d":"9.42%"}},{"$f":"F25-'Projeções - RPPS'!I10-'Projeções - RPPS'!I19-'Projeções - RPPS'!I23-'Projeções - RPPS'!I27-'Projeções - RPPS'!I30-'Projeções - RPPS'!I32","v":{"v":2864181.6214490905,"d":"2,864,181.62"}},{"$f":"F26/((1+Parâmetros!E11)*(1+Parâmetros!F11))","v":{"v":2648096.913322014,"d":"2,648,096.91"}},null,{"$f":"F26/RCL!C12","v":{"v":0.08918274527056165,"d":"8.92%"}},{"$f":"J25-'Projeções - RPPS'!J10-'Projeções - RPPS'!J19-'Projeções - RPPS'!J23-'Projeções - RPPS'!J27-'Projeções - RPPS'!J30-'Projeções - RPPS'!J32","v":{"v":3085152.915655139,"d":"3,085,152.92"}},{"$f":"J26/((1+Parâmetros!E11)*(1+Parâmetros!F11)*(1+Parâmetros!G11))","v":{"v":2742689.7079603747,"d":"2,742,689.71"}},null,{"$f":"J26/RCL!D12","v":{"v":0.08587863585281538,"d":"8.59%"}}]
[" Despesa Total  (Com Fontes RPPS)",{"$f":"'Projeções - RPPS'!H69","v":{"v":2000000.0032,"d":"2,000,000.00"}},{"$f":"B27/(1+Parâmetros!E11)","v":{"v":1923076.926153846,"d":"1,923,076.93"}},null,{"$f":"B27/RCL!B12","v":{"v":0.07169955879313383,"d":"7.17%"}},{"$f":"'Projeções - RPPS'!I69","v":{"v":2092790.3604426668,"d":"2,092,790.36"}},{"$f":"F27/((1+Parâmetros!E11)*(1+Parâmetros!F11))","v":{"v":1934902.3302909269,"d":"1,934,902.33"}},null,{"$f":"F27/RCL!C12","v":{"v":0.06516374109181564,"d":"6.52%"}},{"$f":"'Projeções - RPPS'!J69","v":{"v":2208720.892669458,"d":"2,208,720.89"}},{"$f":"J27/((1+Parâmetros!E11)*(1+Parâmetros!F11)*(1+Parâmetros!G11))","v":{"v":1963544.8309035206,"d":"1,963,544.83"}},null,{"$f":"J27/RCL!D12","v":{"v":0.0614821833561486,"d":"6.15%"}}]
[" Despesas Primárias (Com Fontes RPPS) - IV",{"$f":"B27-'Projeções - RPPS'!H48-'Projeções - RPPS'!H65","v":{"v":2000000.0032,"d":"2,000,000.00"}},{"$f":"B28/(1+Parâmetros!E11)","v":{"v":1923076.926153846,"d":"1,923,076.93"}},null,{"$f":"B28/RCL!B12","v":{"v":0.07169955879313383,"d":"7.17%"}},{"$f":"F27-'Projeções - RPPS'!I48-'Projeções - RPPS'!I65","v":{"v":2092790.3604426668,"d":"2,092,790.36"}},{"$f":"F28/((1+Parâmetros!E11)*(1+Parâmetros!F11))","v":{"v":1934902.3302909269,"d":"1,934,902.33"}},null,{"$f":"F28/RCL!C12","v":{"v":0.06516374109181564,"d":"6.52%"}},{"$f":"J27-'Projeções - RPPS'!J48-'Projeções - RPPS'!J65","v":{"v":2208720.892669458,"d":"2,208,720.89"}},{"$f":"J28/((1+Parâmetros!E11)*(1+Parâmetros!F11)*(1+Parâmetros!G11))","v":{"v":1963544.8309035206,"d":"1,963,544.83"}},null,{"$f":"J28/RCL!D12","v":{"v":0.0614821833561486,"d":"6.15%"}}]
[" Resultado Primário (SEM RPPS) - Acima da Linha (V) = (I – II)",{"$f":"B12-B19","v":{"v":198676.61164660007,"d":"198,676.61"}},{"$f":"C12-C19","v":{"v":3226257.1315237433,"d":"3,226,257.13"}},null,{"$f":"B29/RCL!B12","v":{"v":0.00712251268739199,"d":"0.71%"}},{"$f":"F12-F19","v":{"v":-655911.2170821615,"d":"-655,911.22"}},{"$f":"G12-G19","v":{"v":-606426.7909413464,"d":"-606,426.79"}},null,{"$f":"F29/RCL!C12","v":{"v":-0.02042327293600442,"d":"-2.04%"}},{"$f":"J12-J19","v":{"v":-1832632.415999405,"d":"-1,832,632.42"}},{"$f":"K12-K19","v":{"v":-1629203.5446057543,"d":"-1,629,203.54"}},null,{"$f":"J29/RCL!D12","v":{"v":-0.05101334559692557,"d":"-5.10%"}}]
[" Resultado Primário (COM RPPS) - Acima da Linha (VI) = V + (III –IV)",{"$f":"B29+(B26-B28)","v":{"v":825676.6091129298,"d":"825,676.61"}},{"$f":"C29+(C26-C28)","v":{"v":3829141.744472137,"d":"3,829,141.74"}},null,{"$f":"B30/RCL!B12","v":{"v":0.02960032424224343,"d":"2.96%"}},{"$f":"F29+(F26-F28)","v":{"v":115480.04392426228,"d":"115,480.04"}},{"$f":"G29+(G26-G28)","v":{"v":106767.79208974051,"d":"106,767.79"}},null,{"$f":"F30/RCL!C12","v":{"v":3.5957312427415873E-3,"d":"0.36%"}},{"$f":"J29+(J26-J28)","v":{"v":-956200.3930137241,"d":"-956,200.39"}},{"$f":"K29+(K26-K28)","v":{"v":-850058.6675489002,"d":"-850,058.67"}},null,{"$f":"J30/RCL!D12","v":{"v":-0.026616893100258793,"d":"-2.66%"}}]
["Juros, Encargos e Variações Monetárias Ativos (Exceto RPPS)",{"$f":"Projeções!H25+Projeções!H26+Projeções!H27+Projeções!H35+Projeções!H72","v":{"v":381467.80779200245,"d":"381,467.81"}},{"$f":"B31/(1+Parâmetros!E11)","v":{"v":366795.9690307716,"d":"366,795.97"}},null,{"$f":"B31/RCL!B12","v":{"v":0.013675536734354421,"d":"1.37%"}},{"$f":"Projeções!I25+Projeções!I26+Projeções!I27+Projeções!I35+Projeções!I72","v":{"v":404661.0505057562,"d":"404,661.05"}},{"$f":"F31/((1+Parâmetros!E11)*(1+Parâmetros!F11))","v":{"v":374131.888411387,"d":"374,131.89"}},null,{"$f":"F31/RCL!C12","v":{"v":0.012600033153593853,"d":"1.26%"}},{"$f":"Projeções!J25+Projeções!M26+Projeções!M27+Projeções!M35+Projeções!M72","v":{"v":206575.95956780436,"d":"206,575.96"}},{"$f":"J31/((1+Parâmetros!E11)*(1+Parâmetros!F11)*(1+Parâmetros!G11))","v":{"v":183645.2758447282,"d":"183,645.28"}},null,{"$f":"J31/RCL!D12","v":{"v":5.750269789755999E-3,"d":"0.58%"}}]
["Juros, Encargos e Variações Monetárias Passivos (Exceto RPPS)",{"$f":"Projeções!H121","v":{"v":176014.44248295604,"d":"176,014.44"}},{"$f":"B32/(1+Parâmetros!E11)","v":{"v":169244.65623361157,"d":"169,244.66"}},null,{"$f":"B32/RCL!B12","v":{"v":6.3100789235275645E-3,"d":"0.63%"}},{"$f":"Projeções!I121","v":{"v":191855.7423064221,"d":"191,855.74"}},{"$f":"F32/((1+Parâmetros!E11)*(1+Parâmetros!F11))","v":{"v":177381.4185525352,"d":"177,381.42"}},null,{"$f":"F32/RCL!C12","v":{"v":0.005973860619268793,"d":"0.60%"}},{"$f":"Projeções!J121","v":{"v":208643.119758234,"d":"208,643.12"}},{"$f":"J32/((1+Parâmetros!E11)*(1+Parâmetros!F11)*(1+Parâmetros!G11))","v":{"v":185482.97372680964,"d":"185,482.97"}},null,{"$f":"J32/RCL!D12","v":{"v":0.005807811474754017,"d":"0.58%"}}]
[" Dívida Pública Consolidada (DC)",{"$f":"Dívida!E7","v":{"v":220671.89999999994,"d":"220,671.90"}},{"$f":"B33/(1+Parâmetros!E11)","v":{"v":212184.51923076916,"d":"212,184.52"}},null,{"$f":"B33/RCL!B12","v":{"v":0.00791103892136361,"d":"0.79%"}},{"$f":"Dívida!F7","v":{"v":0,"d":"0.00"}},{"$f":"F33/((1+Parâmetros!E11)*(1+Parâmetros!F11))","v":{"v":0,"d":"0.00"}},null,{"$f":"F33/RCL!C12","v":{"v":0,"d":"0.00%"}},{"$f":"Dívida!G7","v":{"v":0,"d":"0.00"}},{"$f":"J33/((1+Parâmetros!E11)*(1+Parâmetros!F11)*(1+Parâmetros!G11))","v":{"v":0,"d":"0.00"}},null,{"$f":"J33/RCL!D12","v":{"v":0,"d":"0.00%"}}]
[" Dívida Consolidada Líquida (DCL)",{"$f":"Dívida!E15","v":{"v":-3297006.25,"d":"-3,297,006.25"}},{"$f":"B34/(1+Parâmetros!E11)","v":{"v":-3170198.317307692,"d":"-3,170,198.32"}},null,{"$f":"B34/RCL!B12","v":{"v":-0.11819694654248725,"d":"-11.82%"}},{"$f":"Dívida!F15","v":{"v":-3603852.3,"d":"-3,603,852.30"}},{"$f":"F34/((1+Parâmetros!E11)*(1+Parâmetros!F11))","v":{"v":-3331964.034763313,"d":"-3,331,964.03"}},null,{"$f":"F34/RCL!C12","v":{"v":-0.11221405767593026,"d":"-11.22%"}},{"$f":"Dívida!G15","v":{"v":-3391626.706666666,"d":"-3,391,626.71"}},{"$f":"J34/((1+Parâmetros!E11)*(1+Parâmetros!F11)*(1+Parâmetros!G11))","v":{"v":-3015143.792197693,"d":"-3,015,143.79"}},null,{"$f":"J34/RCL!D12","v":{"v":-0.09440967201739453,"d":"-9.44%"}}]
[" Resultado Nominal (SEM RPPS) - Abaixo da linha",{"$f":"Dívida!D15-Dívida!E15","v":{"v":687325.8900000001,"d":"687,325.89"}},{"$f":"B35/(1+Parâmetros!E11)","v":{"v":660890.278846154,"d":"660,890.28"}},null,{"$f":"B35/RCL!B12","v":{"v":0.024640481490624255,"d":"2.46%"}},{"$f":"Dívida!E15-Dívida!F15","v":{"v":306846.0499999998,"d":"306,846.05"}},{"$f":"F35/((1+Parâmetros!E11)*(1+Parâmetros!F11))","v":{"v":283696.4219674554,"d":"283,696.42"}},null,{"$f":"F35/RCL!C12","v":{"v":0.009554342821522226,"d":"0.96%"}},{"$f":"Dívida!F15-Dívida!G15","v":{"v":-212225.59333333373,"d":"-212,225.59"}},{"$f":"J35/((1+Parâmetros!E11)*(1+Parâmetros!F11)*(1+Parâmetros!G11))","v":{"v":-188667.77969010806,"d":"-188,667.78"}},null,{"$f":"J35/RCL!D12","v":{"v":-0.005907533579952486,"d":"-0.59%"}}]
["FONTE: Sistema <Nome>, Unidade Responsável <Nome>, Data da emissão <dd/mmm/aaaa> e hora de emissão <hhh e mmm>"]
["NOTA 1 : A elaboração desse demonstrativo seguiu a metodologia de cálculo disposta no item 03.06.00 - Anexo 6 da Parte III do MDF. Portanto, não foram consideradas as receitas e despesas com as fontes do RPPS no cálculo do Resultado Primário acima da linha. Também não devem ser consideradas as dívidas, disponibilidade de caixa e haveres financeiros do RPPS no cálculo do Resultado Primário abaixo da linha."]
["NOTA 2: Conforme consta na página 79 da 14ª Edição do Manual dos Demonstrativos Fiscais, não se aplica nesse demonstrativo a necessidade de equilíbrio entre receitas e despesas exigido para a Lei Orçamentária Anual. "]
["Nota 3: foi considerada a prjeção da Receita Corrente Líquida ajustada para cálculo dos limites de endividamento, ou seja, após a exclusão dos valores de transferências obrigatórias da União relativas às emendas individuais, conforme disciplina o § 1º, art. 166-A da CF."]

{"sheet":" Dem-2-Avalia","index":7,"n_rows":27,"n_cols":9,"rows_kept":27,"merged":[[0,0,0,8],[1,0,1,8],[2,0,2,8],[3,0,3,8],[4,0,4,8],[5,0,5,1],[5,7,5,8],[6,0,8,0],[6,2,8,2],[6,3,8,3],[6,5,8,5],[6,6,8,6],[6,7,6,8],[9,2,21,2],[9,5,21,5],[22,0,22,8],[24,1,24,2],[25,1,25,2],[26,0,26,8]]}
[{"$f":"Parâmetros!A7","v":"Município de :   NOVA PÁDUA"}]
["LEI DE DIRETRIZES ORÇAMENTÁRIAS"]
["ANEXO DE  METAS FISCAIS"]
["AVALIAÇÃO DO CUMPRIMENTO DAS METAS FISCAIS DO EXERCÍCIO ANTERIOR                            "]
[{"$f":"Parâmetros!E10","v":2025}]
["AMF - Demonstrativo 2 (LRF, art. 4º, §2º, inciso I)",{"$nulls":6},{"v":1,"d":"R$ 1.00"}]
["ESPECIFICAÇÃO","Metas Previstas em 2023","% PIB","% RCL","Metas Realizadas em 2023","% PIB","% RCL","Variação"]
[{"$nulls":7},"Valor","%"]
[null,"(a)",null,null,"(b)",null,null,"(c) = (b-a)","(c/a) x 100"]
["Receita Total (EXCETO FONTES RPPS)",{"$f":"'[1]Metas Cons'!$B$12-[1]MetasRPPS!$B$12","v":{"v":21339506.826908514,"d":"21,339,506.83"}},"Preenchimento opcional cfe. Item 02.01.03.01 da 14ª edição do MDF",{"$f":"B10/B25","v":{"v":0.8431987566937655,"d":"84.32%"}},{"$f":"Projeções!F107","v":{"v":26905103.16,"d":"26,905,103.16"}},"Preenchimento opcional cfe. Item 02.01.03.01 da 14ª edição do MDF",{"$f":"E10/B26","v":{"v":1.0819650419082782,"d":"108.20%"}},{"$f":"E10-B10","v":{"v":5565596.333091486,"d":"5,565,596.33"}},{"$f":"H10/B10","v":{"v":0.26081185372444626,"d":"26.08%"}}]
["Receitas Primárias (EXCETO FONTES RPPS) (I)",{"$f":"'[1]Metas Cons'!$B$13-[1]MetasRPPS!$B$13","v":{"v":21257409.566908516,"d":"21,257,409.57"}},null,{"$f":"B11/B25","v":{"v":0.839954806019485,"d":"84.00%"}},{"$f":"E10-Projeções!F24-Projeções!F35-Projeções!F68-Projeções!F72-Projeções!F74-Projeções!F77-Projeções!F79-Projeções!F83-Projeções!F94-Projeções!F97-Projeções!F100","v":{"v":26514443.29,"d":"26,514,443.29"}},null,{"$f":"E11/B26","v":{"v":1.066254999092132,"d":"106.63%"}},{"$f":"E11-B11","v":{"v":5257033.723091483,"d":"5,257,033.72"}},{"$f":"H11/B11","v":{"v":0.2473035910864288,"d":"24.73%"}}]
["Despesa Total (EXCETO FONTES RPPS)",{"$f":"'[1]Metas Cons'!$B$20-[1]MetasRPPS!$B$14","v":{"v":22597515.836735345,"d":"22,597,515.84"}},null,{"$f":"B12/B25","v":{"v":0.8929071047638325,"d":"89.29%"}},{"$f":"Projeções!F148","v":{"v":25077758.28,"d":"25,077,758.28"}},null,{"$f":"E12/B26","v":{"v":1.0084799759744119,"d":"100.85%"}},{"v":2480242.443264656,"d":"2,480,242.44"},{"v":0.1097573052358562,"d":"10.98%"}]
["Despesas Primárias (EXCETO FONTES RPPS) (II)",{"$f":"'[1]Metas Cons'!$B$21-[1]MetasRPPS!$B$15","v":{"v":23721071.15273535,"d":"23,721,071.15"}},null,{"$f":"B13/B25","v":{"v":0.9373027158345276,"d":"93.73%"}},{"$f":"E12-Projeções!F121-Projeções!F138-Projeções!F143","v":{"v":24588094.23,"d":"24,588,094.23"}},null,{"$f":"E13/B26","v":{"v":0.9887885672023063,"d":"98.88%"}},{"v":867023.0772646517,"d":"867,023.08"},{"v":0.03655075572608249,"d":"3.66%"}]
["Receita Total (COM FONTES RPPS)",{"v":25800000,"d":"25,800,000.00"},null,{"$f":"B14/B25","v":{"v":1.0194484858135198,"d":"101.94%"}},{"$f":"'Projeções - RPPS'!F35","v":{"v":4795544.94,"d":"4,795,544.94"}},null,{"$f":"E14/B26","v":{"v":0.19284861875921283,"d":"19.28%"}},{"v":-21004455.06,"d":"-21,004,455.06"},{"v":-0.814126165116279,"d":"-81.41%"}]
["Receitas Primárias (COM FONTES RPPS) (III)",{"$f":"'[1]Metas Cons'!$B$13","v":{"v":23199509.063908517,"d":"23,199,509.06"}},null,{"$f":"B15/B25","v":{"v":0.9166939684813397,"d":"91.67%"}},{"$f":"E14-'Projeções - RPPS'!F11-'Projeções - RPPS'!F19-'Projeções - RPPS'!F23-'Projeções - RPPS'!F27-'Projeções - RPPS'!F30","v":{"v":4795544.94,"d":"4,795,544.94"}},null,{"$f":"E15/B26","v":{"v":0.19284861875921283,"d":"19.28%"}},{"v":-18403964.123908516,"d":"-18,403,964.12"},{"v":-0.793291102549216,"d":"-79.33%"}]
["Despesa Total (COM FONTES RPPS)",{"v":25800000,"d":"25,800,000.00"},null,{"$f":"B16/B25","v":{"v":1.0194484858135198,"d":"101.94%"}},{"$f":"'Projeções - RPPS'!F69","v":{"v":1575408.65,"d":"1,575,408.65"}},null,{"$f":"E16/B26","v":{"v":0.06335367219680692,"d":"6.34%"}},{"v":-24224591.35,"d":"-24,224,591.35"},{"v":-0.9389376492248063,"d":"-93.89%"}]
["Despesas Primárias (COM FONTES RPPS) (IV)",{"$f":"'[1]Metas Cons'!$B$21","v":{"v":25271555.31946944,"d":"25,271,555.32"}},null,{"$f":"B17/B25","v":{"v":0.9985677831234776,"d":"99.86%"}},{"$f":"E16-'Projeções - RPPS'!F48-'Projeções - RPPS'!F65","v":{"v":1575408.65,"d":"1,575,408.65"}},null,{"$f":"E17/B26","v":{"v":0.06335367219680692,"d":"6.34%"}},{"v":-23696146.669469442,"d":"-23,696,146.67"},{"v":-0.9376607957015495,"d":"-93.77%"}]
["Resultado Primário (SEM RPPS) - Acima da Linha (V) = (I – II)",{"$f":"B11-B13","v":{"v":-2463661.585826833,"d":"-2,463,661.59"}},null,{"$f":"B18/B25","v":{"v":-0.09734790981504261,"d":"-9.73%"}},{"$f":"E11-E13","v":{"v":1926349.0599999987,"d":"1,926,349.06"}},null,{"$f":"E18/B26","v":{"v":0.07746643188982558,"d":"7.75%"}},{"v":4390010.645826831,"d":"4,390,010.65"},{"v":-1.781904897605283,"d":"-178.19%"}]
["Resultado Primário (COM RPPS) – Acima da Linha (VI) = (V) + (III – IV)",{"$f":"B18+(B15-B17)","v":{"v":-4535707.841387756,"d":"-4,535,707.84"}},null,{"$f":"B19/B25","v":{"v":-0.17922172445718046,"d":"-17.92%"}},{"$f":"E18+(E15-E17)","v":{"v":5146485.35,"d":"5,146,485.35"}},null,{"$f":"E19/B26","v":{"v":0.2069613784522315,"d":"20.70%"}},{"v":9682193.191387756,"d":"9,682,193.19"},{"v":-2.1346597995221335,"d":"-213.47%"}]
["Dívida Pública Consolidada (DC)",{"$f":"'[1]Metas Cons'!$B$32","v":{"v":746666.6639999999,"d":"746,666.66"}},null,{"$f":"B20/B25","v":{"v":0.029503418605512866,"d":"2.95%"}},{"$f":"Dívida!C7","v":{"v":666666.72,"d":"666,666.72"}},null,{"$f":"E20/B26","v":{"v":0.026809415349725585,"d":"2.68%"}},{"v":-79999.9439999999,"d":"-79,999.94"},{"v":-0.10714278252550982,"d":"-10.71%"}]
["Dívida Consolidada Líquida – DCL",{"$f":"'[1]Metas Cons'!$B$33","v":{"v":-2324065.5810000002,"d":"-2,324,065.58"}},null,{"$f":"B21/B25","v":{"v":-0.09183198207293675,"d":"-9.18%"}},{"$f":"Dívida!C15","v":{"v":-3573862.3599999994,"d":"-3,573,862.36"}},null,{"$f":"E21/B26","v":{"v":-0.14371972912040742,"d":"-14.37%"}},{"v":-1249796.7789999992,"d":"-1,249,796.78"},{"v":0.5377631290689464,"d":"53.78%"}]
["Resultado Nominal (SEM RPPS) - Abaixo da Linha",{"v":444777.81,"d":"444,777.81"},null,{"$f":"B22/B25","v":{"v":0.01757473119875788,"d":"1.76%"}},{"$f":"Dívida!B15-Dívida!C15","v":{"v":1248040.019999999,"d":"1,248,040.02"}},null,{"$f":"E22/B26","v":{"v":0.05018883088878324,"d":"5.02%"}},{"v":803262.209999999,"d":"803,262.21"},{"v":1.805985352551646,"d":"180.60%"}]
["FONTE: Sistema <Nome>, Unidade Responsável <Nome>, Data da emissão <dd/mmm/aaaa> e hora de emissão <hhh e mmm>"]
[]
["Valor da Receita Corrente Líquida Prevista para 2023",{"v":25307801.58,"d":"25,307,801.58"}]
["Valor da Receita Corrente Líquida Arrecadada em 2023",{"v":24866887.67,"d":"24,866,887.67"}]
["NOTA: A elaboração desse demonstrativo deve seguir a metodologia de cálculo disposta no item 03.06.00 - Anexo 6 da Parte III do MDF. Portanto, não devem ser consideradas as receitas e despesas com as fontes do RPPS no cálculo acima da linha. Também não devem ser consideradas as dívidas, disponibilidade de caixa e haveres financeiros do RPPS no cálculo abaixo da linha."]

{"sheet":"Dem-3-Comp","index":8,"n_rows":59,"n_cols":12,"rows_kept":59,"merged":[[0,0,0,11],[1,0,1,11],[2,0,2,11],[3,0,3,11],[4,0,4,11],[5,0,5,5],[6,1,6,11],[22,1,22,11],[38,0,38,11]]}
[{"$f":"Parâmetros!A7","v":"Município de :   NOVA PÁDUA"}]
["LEI DE DIRETRIZES ORÇAMENTÁRIAS"]
["ANEXO DE METAS FISCAIS"]
["METAS FISCAIS ATUAIS COMPARADAS COM AS FIXADAS NOS TRÊS EXERCÍCIOS ANTERIORES"]
[{"$f":"Parâmetros!E10","v":2025}]
["AMF – Demonstrativo 3 (LRF, art.4º, §2º, inciso II)",{"$nulls":10},{"v":1,"d":"R$ 1.00"}]
[null,"VALORES A PREÇOS CORRENTES"]
["ESPECIFICAÇÃO",{"$f":"Parâmetros!B10","v":2022},{"$f":"B8+1","v":2023},"%",{"$f":"C8+1","v":2024},"%",{"$f":"E8+1","v":2025},"%",{"$f":"G8+1","v":2026},"%",{"$f":"I8+1","v":2027},"%"]
["Receita Total (EXCETO FONTES RPPS)",{"$f":"'[2]Metas Cons'!$B$12-[2]MetasRPPS!$B$12","v":{"v":16840722.667047314,"d":"16,840,722.67"}},{"$f":"' Dem-2-Avalia'!B10","v":{"v":21339506.826908514,"d":"21,339,506.83"}},{"$f":"(C9/B9)-1","v":{"v":0.267137239226918,"d":"26.71%"}},{"$f":"'[3] Dem-1-Metas'!$B$11-'[3]Dem-1A-Metas RPPS'!$B$11","v":{"v":21600000.00113762,"d":"21,600,000.00"}},{"$f":"(E9/C9)-1","v":{"v":0.012207085025068842,"d":"1.22%"}},{"$f":"' Dem-1-Metas'!B11","v":{"v":28373000.0037438,"d":"28,373,000.00"}},{"$f":"(G9/E9)-1","v":{"v":0.3135648149189565,"d":"31.36%"}},{"$f":"' Dem-1-Metas'!F11","v":{"v":32620624.07144802,"d":"32,620,624.07"}},{"$f":"(I9/G9)-1","v":{"v":0.1497065543701317,"d":"14.97%"}},{"$f":"' Dem-1-Metas'!J11","v":{"v":36456696.01335532,"d":"36,456,696.01"}},{"$f":"(K9/I9)-1","v":{"v":0.11759652217275995,"d":"11.76%"}}]
["Receitas Primárias (EXCETO FONTES RPPS) (I)",{"$f":"'[2]Metas Cons'!$B$13-[2]MetasRPPS!$B$13","v":{"v":16808660.857047316,"d":"16,808,660.86"}},{"$f":"' Dem-2-Avalia'!B11","v":{"v":21257409.566908516,"d":"21,257,409.57"}},{"$f":"(C10/B10)-1","v":{"v":0.26467002622615166,"d":"26.47%"}},{"$f":"'[3] Dem-1-Metas'!$B$12-'[3]Dem-1A-Metas RPPS'!$B$12","v":{"v":23325826.626076788,"d":"23,325,826.63"}},{"$f":"(E10/C10)-1","v":{"v":0.09730334510693073,"d":"9.73%"}},{"$f":"' Dem-1-Metas'!B12","v":{"v":27928995.52659683,"d":"27,928,995.53"}},{"$f":"(G10/E10)-1","v":{"v":0.19734215529896781,"d":"19.73%"}},{"$f":"' Dem-1-Metas'!F12","v":{"v":32150924.884813096,"d":"32,150,924.88"}},{"v":0.15116653064718055,"d":"15.12%"},{"$f":"' Dem-1-Metas'!J12","v":{"v":35959791.90940448,"d":"35,959,791.91"}},{"$f":"(K10/I10)-1","v":{"v":0.11846835007818246,"d":"11.85%"}}]
["Despesa Total (EXCETO FONTES RPPS)",{"$f":"'[2]Metas Cons'!$B$20-[2]MetasRPPS!$B$14","v":{"v":17989749.92512465,"d":"17,989,749.93"}},{"$f":"' Dem-2-Avalia'!B12","v":{"v":22597515.836735345,"d":"22,597,515.84"}},{"v":0.2561328495831645,"d":"25.61%"},{"$f":"'[3] Dem-1-Metas'!$B$18-'[3]Dem-1A-Metas RPPS'!$B$13","v":{"v":23746491.537785202,"d":"23,746,491.54"}},{"v":0.05084522163192995,"d":"5.08%"},{"$f":"' Dem-1-Metas'!B18","v":{"v":28172999.997433186,"d":"28,173,000.00"}},{"v":0.1864068404633401,"d":"18.64%"},{"$f":"' Dem-1-Metas'!F18","v":{"v":33176469.604201674,"d":"33,176,469.60"}},{"v":0.17759804093367237,"d":"17.76%"},{"$f":"' Dem-1-Metas'!J18","v":{"v":38001067.44516212,"d":"38,001,067.45"}},{"v":0.14542227966140886,"d":"14.54%"}]
["Despesas Primárias (EXCETO FONTES RPPS) (II)",{"$f":"'[2]Metas Cons'!$B$21-[2]MetasRPPS!$B$15","v":{"v":18989417.900393635,"d":"18,989,417.90"}},{"$f":"' Dem-2-Avalia'!B13","v":{"v":23721071.15273535,"d":"23,721,071.15"}},{"v":0.24917315934384865,"d":"24.92%"},{"$f":"'[3] Dem-1-Metas'!$B$19-'[3]Dem-1A-Metas RPPS'!$B$14","v":{"v":23335220.62819502,"d":"23,335,220.63"}},{"v":-0.01626615096999251,"d":"-1.63%"},{"$f":"' Dem-1-Metas'!B19","v":{"v":27730318.91495023,"d":"27,730,318.91"}},{"v":0.18834612094666836,"d":"18.83%"},{"$f":"' Dem-1-Metas'!F19","v":{"v":32806836.101895258,"d":"32,806,836.10"}},{"v":0.18306739286031548,"d":"18.31%"},{"$f":"' Dem-1-Metas'!J19","v":{"v":37792424.325403884,"d":"37,792,424.33"}},{"v":0.15196796814004898,"d":"15.20%"}]
["Receita Total (COM FONTES RPPS)",{"v":20400000,"d":"20,400,000.00"},{"$f":"' Dem-2-Avalia'!B14","v":{"v":25800000,"d":"25,800,000.00"}},{"v":0.2647058823529411,"d":"26.47%"},{"$f":"'[3] Dem-1-Metas'!$B$11","v":{"v":25600000.00113762,"d":"25,600,000.00"}},{"v":-0.007751937940402298,"d":"-0.78%"},{"$f":"' Dem-1-Metas'!B25","v":{"v":4627000.00066633,"d":"4,627,000.00"}},{"v":-0.8192578124820034,"d":"-81.93%"},{"$f":"' Dem-1-Metas'!F25","v":{"v":4985781.621449091,"d":"4,985,781.62"}},{"v":0.0775408732939471,"d":"7.75%"},{"$f":"' Dem-1-Metas'!J25","v":{"v":5335746.195655139,"d":"5,335,746.20"}},{"v":0.07019251960424477,"d":"7.02%"}]
["Receitas Primárias (COM FONTES RPPS) (III)",{"$f":"'[2]Metas Cons'!$B$13","v":{"v":18518910.927047316,"d":"18,518,910.93"}},{"$f":"' Dem-2-Avalia'!B15","v":{"v":23199509.063908517,"d":"23,199,509.06"}},{"v":0.2527469436674634,"d":"25.27%"},{"$f":"'[3] Dem-1-Metas'!$B$12","v":{"v":25251831.45607679,"d":"25,251,831.46"}},{"v":0.08846404406725439,"d":"8.85%"},{"$f":"' Dem-1-Metas'!B26","v":{"v":2627000.0006663296,"d":"2,627,000.00"}},{"v":-0.895967941761541,"d":"-89.60%"},{"$f":"' Dem-1-Metas'!F26","v":{"v":2864181.6214490905,"d":"2,864,181.62"}},{"v":0.09028611371244799,"d":"9.03%"},{"$f":"' Dem-1-Metas'!J26","v":{"v":3085152.915655139,"d":"3,085,152.92"}},{"v":0.07714988901236342,"d":"7.71%"}]
["Despesa Total (COM FONTES RPPS)",{"$f":"'[2]Metas Cons'!$B$20","v":{"v":20399999.99512465,"d":"20,400,000.00"}},{"$f":"' Dem-2-Avalia'!B16","v":{"v":25800000,"d":"25,800,000.00"}},{"v":0.26470588265519046,"d":"26.47%"},{"$f":"'[3] Dem-1-Metas'!$B$18","v":{"v":25600000.00115559,"d":"25,600,000.00"}},{"v":-0.007751937939705855,"d":"-0.78%"},{"$f":"' Dem-1-Metas'!B27","v":{"v":2000000.0032,"d":"2,000,000.00"}},{"v":-0.9218749998785266,"d":"-92.19%"},{"$f":"' Dem-1-Metas'!F27","v":{"v":2092790.3604426668,"d":"2,092,790.36"}},{"v":0.04639517854710107,"d":"4.64%"},{"$f":"' Dem-1-Metas'!J27","v":{"v":2208720.892669458,"d":"2,208,720.89"}},{"v":0.05539519601106613,"d":"5.54%"}]
["Despesas Primárias (COM FONTES RPPS) (IV)",{"$f":"'[2]Metas Cons'!$B$21","v":{"v":20159999.99512465,"d":"20,160,000.00"}},{"$f":"' Dem-2-Avalia'!B17","v":{"v":25271555.31946944,"d":"25,271,555.32"}},{"v":0.25354937130857813,"d":"25.35%"},{"$f":"'[3] Dem-1-Metas'!$B$19","v":{"v":25188729.091565408,"d":"25,188,729.09"}},{"v":-3.277448770247382E-3,"d":"-0.33%"},{"$f":"' Dem-1-Metas'!B28","v":{"v":2000000.0032,"d":"2,000,000.00"}},{"v":-0.9205994079363968,"d":"-92.06%"},{"$f":"' Dem-1-Metas'!F28","v":{"v":2092790.3604426668,"d":"2,092,790.36"}},{"v":0.04639517854710107,"d":"4.64%"},{"$f":"' Dem-1-Metas'!J28","v":{"v":2208720.892669458,"d":"2,208,720.89"}},{"v":0.05539519601106613,"d":"5.54%"}]
["Resultado Primário (SEM RPPS) - Acima da Linha (V) = (I – II)",{"$f":"B10-B12","v":{"v":-2180757.0433463193,"d":"-2,180,757.04"}},{"$f":"' Dem-2-Avalia'!B18","v":{"v":-2463661.585826833,"d":"-2,463,661.59"}},{"v":0.1297276756911918,"d":"12.97%"},{"$f":"E10-E12","v":{"v":-9394.002118233591,"d":"-9,394.00"}},{"v":-0.9961869754465158,"d":"-99.62%"},{"$f":"' Dem-1-Metas'!B29","v":{"v":198676.61164660007,"d":"198,676.61"}},{"v":-22.149304539858715,"d":"-2214.93%"},{"$f":"' Dem-1-Metas'!F29","v":{"v":-655911.2170821615,"d":"-655,911.22"}},{"v":-4.3014012653330145,"d":"-430.14%"},{"$f":"' Dem-1-Metas'!J29","v":{"v":-1832632.415999405,"d":"-1,832,632.42"}},{"v":1.7940251184480718,"d":"179.40%"}]
["Resultado Primário (COM RPPS) – Acima da Linha (VI) = (V) + (III – IV)",{"$f":"B17+(B14-B16)","v":{"v":-3821846.1114236526,"d":"-3,821,846.11"}},{"$f":"' Dem-2-Avalia'!B19","v":{"v":-4535707.841387756,"d":"-4,535,707.84"}},{"v":0.18678453008098406,"d":"18.68%"},{"$f":"E17+(E14-E16)","v":{"v":53708.36239314824,"d":"53,708.36"}},{"v":-1.0118412305799476,"d":"-101.18%"},{"$f":"' Dem-1-Metas'!B30","v":{"v":825676.6091129298,"d":"825,676.61"}},{"v":14.37333428766512,"d":"1437.33%"},{"$f":"' Dem-1-Metas'!F30","v":{"v":115480.04392426228,"d":"115,480.04"}},{"v":-0.8601388937875702,"d":"-86.01%"},{"$f":"' Dem-1-Metas'!J30","v":{"v":-956200.3930137241,"d":"-956,200.39"}},{"v":-9.280221937227953,"d":"-928.02%"}]
["Dívida Pública Consolidada (DC)",{"$f":"'[2]Metas Cons'!$B$32","v":{"v":974800,"d":"974,800.00"}},{"$f":"' Dem-2-Avalia'!B20","v":{"v":746666.6639999999,"d":"746,666.66"}},{"v":-0.23403091505949947,"d":"-23.40%"},{"$f":"'[3] Dem-1-Metas'!$B$26","v":{"v":389386.74772799993,"d":"389,386.75"}},{"v":-0.4784998895732139,"d":"-47.85%"},{"$f":"' Dem-1-Metas'!B33","v":{"v":220671.89999999994,"d":"220,671.90"}},{"v":-0.43328348669393635,"d":"-43.33%"},{"$f":"' Dem-1-Metas'!F33","v":{"v":0,"d":"0.00"}},{"v":-1,"d":"-100.00%"},{"$f":"' Dem-1-Metas'!J33","v":{"v":0,"d":"0.00"}},{"$error":"#DIV/0!"}]
["Dívida Consolidada Líquida – DCL",{"$f":"'[2]Metas Cons'!$B$33","v":{"v":-998832.0149999999,"d":"-998,832.02"}},{"$f":"' Dem-2-Avalia'!B21","v":{"v":-2324065.5810000002,"d":"-2,324,065.58"}},{"v":1.3267832289096186,"d":"132.68%"},{"$f":"'[3] Dem-1-Metas'!$B$27","v":{"v":-3074622.0489386674,"d":"-3,074,622.05"}},{"v":0.32294977993509,"d":"32.29%"},{"$f":"' Dem-1-Metas'!B34","v":{"v":-3297006.25,"d":"-3,297,006.25"}},{"v":0.07232895540383488,"d":"7.23%"},{"$f":"' Dem-1-Metas'!F34","v":{"v":-3603852.3,"d":"-3,603,852.30"}},{"v":0.09306808259765953,"d":"9.31%"},{"$f":"' Dem-1-Metas'!J34","v":{"v":-3391626.706666666,"d":"-3,391,626.71"}},{"v":-0.05888853806060079,"d":"-5.89%"}]
["Resultado Nominal (SEM RPPS) - Abaixo da Linha",986065.47,{"$f":"B20-C20","v":{"v":1325233.5660000003,"d":"1,325,233.57"}},{"v":0.3439610313096151,"d":"34.40%"},{"$f":"'[3] Dem-1-Metas'!$B$28","v":{"v":-482133.06893866695,"d":"-482,133.07"}},{"v":-1.3638098832599799,"d":"-136.38%"},{"$f":"' Dem-1-Metas'!B35","v":{"v":687325.8900000001,"d":"687,325.89"}},{"v":-2.425593750524165,"d":"-242.56%"},{"$f":"' Dem-1-Metas'!F35","v":{"v":306846.0499999998,"d":"306,846.05"}},{"v":-0.5535654127622055,"d":"-55.36%"},{"$f":"' Dem-1-Metas'!J35","v":{"v":-212225.59333333373,"d":"-212,225.59"}},{"v":-1.691635409135408,"d":"-169.16%"}]
[]
[null,"VALORES A PREÇOS CONSTANTES"]
["ESPECIFICAÇÃO",{"$f":"B8","v":2022},{"$f":"C8","v":2023},"%",{"$f":"E8","v":2024},"%",{"$f":"G8","v":2025},"%",{"$f":"I8","v":2026},"%",{"$f":"K8","v":2027},"%"]
["Receita Total (EXCETO FONTES RPPS)",{"$f":"B9*(1+Parâmetros!C11)*(1+Parâmetros!D11)","v":{"v":18637088.872495916,"d":"18,637,088.87"}},{"$f":"C9*(1+Parâmetros!D11)","v":{"v":22321124.140946306,"d":"22,321,124.14"}},{"$f":"(C25/B25)-1","v":{"v":0.19767224879670908,"d":"19.77%"}},{"v":21600000.00113762,"d":"21,600,000.00"},{"$f":"(E25/C25)-1","v":{"v":-0.03230680207928416,"d":"-3.23%"}},{"$f":"' Dem-1-Metas'!C11","v":{"v":27281730.772830576,"d":"27,281,730.77"}},{"$f":"(G25/E25)-1","v":{"v":0.26304309126822734,"d":"26.30%"}},{"$f":"' Dem-1-Metas'!G11","v":{"v":30159600.657773685,"d":"30,159,600.66"}},{"$f":"(I25/G25)-1","v":{"v":0.10548707150974201,"d":"10.55%"}},{"$f":"' Dem-1-Metas'!K11","v":{"v":32409870.00504534,"d":"32,409,870.01"}},{"$f":"(K25/I25)-1","v":{"v":0.07461204055073067,"d":"7.46%"}}]
["Receitas Primárias (EXCETO FONTES RPPS) (I)",{"$f":"B10*(1+Parâmetros!C11)*(1+Parâmetros!D11)","v":{"v":18601607.093346838,"d":"18,601,607.09"}},{"$f":"C10*(1+Parâmetros!D11)","v":{"v":22235250.406986307,"d":"22,235,250.41"}},{"$f":"(C26/B26)-1","v":{"v":0.19534028943870663,"d":"19.53%"}},{"v":23325826.626076788,"d":"23,325,826.63"},{"$f":"(E26/C26)-1","v":{"v":0.04904717505442724,"d":"4.90%"}},{"$f":"' Dem-1-Metas'!C12","v":{"v":29890025.31897589,"d":"29,890,025.32"}},{"$f":"(G26/E26)-1","v":{"v":0.2814133363042639,"d":"28.14%"}},{"$f":"' Dem-1-Metas'!J12","v":{"v":35959791.90940448,"d":"35,959,791.91"}},{"$f":"(I26/G26)-1","v":{"v":0.20306997152575712,"d":"20.31%"}},{"$f":"' Dem-1-Metas'!K12","v":{"v":31968124.066024408,"d":"31,968,124.07"}},{"$f":"(K26/I26)-1","v":{"v":-0.11100364132908513,"d":"-11.10%"}}]
["Despesa Total (EXCETO FONTES RPPS)",{"$f":"B11*(1+Parâmetros!C11)*(1+Parâmetros!D11)","v":{"v":19908680.570137847,"d":"19,908,680.57"}},{"$f":"C11*(1+Parâmetros!D11)","v":{"v":23637001.565225173,"d":"23,637,001.57"}},{"v":0.1872711243697207,"d":"18.73%"},{"v":23746491.537785202,"d":"23,746,491.54"},{"v":0.004632143051558346,"d":"0.46%"},{"$f":"' Dem-1-Metas'!C18","v":{"v":27089423.074454986,"d":"27,089,423.07"}},{"v":0.14077580813782697,"d":"14.08%"},{"$f":"' Dem-1-Metas'!G18","v":{"v":30673511.098559238,"d":"30,673,511.10"}},{"v":0.13230580859006946,"d":"13.23%"},{"$f":"' Dem-1-Metas'!K18","v":{"v":33782810.58435696,"d":"33,782,810.58"}},{"v":0.10136757659750839,"d":"10.14%"}]
["Despesas Primárias (EXCETO FONTES RPPS) (II)",{"$f":"B12*(1+Parâmetros!C11)*(1+Parâmetros!D11)","v":{"v":21014981.128992822,"d":"21,014,981.13"}},{"$f":"C12*(1+Parâmetros!D11)","v":{"v":24812240.425761174,"d":"24,812,240.43"}},{"v":0.1806929672437132,"d":"18.07%"},{"v":23335220.62819502,"d":"23,335,220.63"},{"v":-0.05952786899616869,"d":"-5.95%"},{"$f":"' Dem-1-Metas'!C19","v":{"v":26663768.187452145,"d":"26,663,768.19"}},{"v":0.14264050091025804,"d":"14.26%"},{"$f":"' Dem-1-Metas'!G19","v":{"v":30331764.147462327,"d":"30,331,764.15"}},{"v":0.1375648008272261,"d":"13.76%"},{"$f":"' Dem-1-Metas'!K19","v":{"v":33597327.61063016,"d":"33,597,327.61"}},{"v":0.10766150782697048,"d":"10.77%"}]
["Receita Total (COM FONTES RPPS)",{"$f":"B13*(1+Parâmetros!C11)*(1+Parâmetros!D11)","v":{"v":22576027.2,"d":"22,576,027.20"}},{"$f":"C13*(1+Parâmetros!D11)","v":{"v":26986800,"d":"26,986,800.00"}},{"v":0.19537417991771378,"d":"19.54%"},{"v":25600000.00113762,"d":"25,600,000.00"},{"v":-0.05138808598508815,"d":"-5.14%"},{"$f":"' Dem-1-Metas'!C25","v":{"v":4449038.462179163,"d":"4,449,038.46"}},{"v":-0.8262094350788494,"d":"-82.62%"},{"$f":"' Dem-1-Metas'!G25","v":{"v":4609635.374860475,"d":"4,609,635.37"}},{"v":0.036096993551872014,"d":"3.61%"},{"$f":"' Dem-1-Metas'!K25","v":{"v":4743458.938729606,"d":"4,743,458.94"}},{"v":0.02903126885023566,"d":"2.90%"}]
["Receitas Primárias (COM FONTES RPPS) (III)",{"$f":"B14*(1+Parâmetros!C11)*(1+Parâmetros!D11)","v":{"v":20494286.1178136,"d":"20,494,286.12"}},{"$f":"C14*(1+Parâmetros!D11)","v":{"v":24266686.48084831,"d":"24,266,686.48"}},{"v":0.18407083522444556,"d":"18.41%"},{"v":25251831.45607679,"d":"25,251,831.46"},{"v":0.04059660044670599,"d":"4.06%"},{"$f":"' Dem-1-Metas'!C26","v":{"v":2525961.53910224,"d":"2,525,961.54"}},{"v":-0.8999691747707126,"d":"-90.00%"},{"$f":"' Dem-1-Metas'!G26","v":{"v":2648096.913322014,"d":"2,648,096.91"}},{"v":0.048352032415815094,"d":"4.84%"},{"$f":"' Dem-1-Metas'!K26","v":{"v":2742689.7079603747,"d":"2,742,689.71"}},{"v":0.03572104712727264,"d":"3.57%"}]
["Despesa Total (COM FONTES RPPS)",{"$f":"B15*(1+Parâmetros!C11)*(1+Parâmetros!D11)","v":{"v":22576027.19460461,"d":"22,576,027.19"}},{"$f":"C15*(1+Parâmetros!D11)","v":{"v":26986800,"d":"26,986,800.00"}},{"v":0.19537418020339348,"d":"19.54%"},{"v":25600000.00115559,"d":"25,600,000.00"},{"v":-0.05138808598442246,"d":"-5.14%"},{"$f":"' Dem-1-Metas'!C27","v":{"v":1923076.926153846,"d":"1,923,076.93"}},{"v":-0.9248798075755064,"d":"-92.49%"},{"$f":"' Dem-1-Metas'!G27","v":{"v":1934902.3302909269,"d":"1,934,902.33"}},{"v":0.006149210141443318,"d":"0.61%"},{"$f":"' Dem-1-Metas'!K27","v":{"v":1963544.8309035206,"d":"1,963,544.83"}},{"v":0.014803073087563678,"d":"1.48%"}]
["Despesas Primárias (COM FONTES RPPS) (IV)",{"$f":"B16*(1+Parâmetros!C11)*(1+Parâmetros!D11)","v":{"v":22310426.87460461,"d":"22,310,426.87"}},{"$f":"C16*(1+Parâmetros!D11)","v":{"v":26434046.864165038,"d":"26,434,046.86"}},{"v":0.18482927344856148,"d":"18.48%"},{"v":25188729.091565408,"d":"25,188,729.09"},{"v":-0.047110371673276696,"d":"-4.71%"},{"$f":"' Dem-1-Metas'!C28","v":{"v":1923076.926153846,"d":"1,923,076.93"}},{"v":-0.92365327686192,"d":"-92.37%"},{"$f":"' Dem-1-Metas'!G28","v":{"v":1934902.3302909269,"d":"1,934,902.33"}},{"v":0.006149210141443318,"d":"0.61%"},{"$f":"' Dem-1-Metas'!K28","v":{"v":1963544.8309035206,"d":"1,963,544.83"}},{"v":0.014803073087563678,"d":"1.48%"}]
["Resultado Primário (SEM RPPS) - Acima da Linha (V) = (I – II)",{"$f":"B17*(1+Parâmetros!C11)*(1+Parâmetros!D11)","v":{"v":-2413374.0356459846,"d":"-2,413,374.04 "}},{"$f":"C17*(1+Parâmetros!D11)","v":{"v":-2576990.018774867,"d":"-2,576,990.02 "}},{"v":0.0677955346797654,"d":"6.78%"},{"v":-9394.002118233591,"d":"-9,394.00"},{"v":-0.996354661038734,"d":"-99.64%"},{"$f":"' Dem-1-Metas'!C29","v":{"v":3226257.1315237433,"d":"3,226,257.13"}},{"v":-344.4379821207018,"d":"-34443.80%"},{"$f":"' Dem-1-Metas'!G29","v":{"v":-606426.7909413464,"d":"-606,426.79"}},{"v":-1.1879660443105893,"d":"-118.80%"},{"$f":"' Dem-1-Metas'!K29","v":{"v":-1629203.5446057543,"d":"-1,629,203.54"}},{"v":1.6865626138923844,"d":"168.66%"}]
["Resultado Primário (COM RPPS) – Acima da Linha (VI) = (V) + (III – IV)",{"$f":"B18*(1+Parâmetros!C11)*(1+Parâmetros!D11)","v":{"v":-4229514.792436991,"d":"-4,229,514.79 "}},{"$f":"C18*(1+Parâmetros!D11)","v":{"v":-4744350.4020915935,"d":"-4,744,350.40 "}},{"v":0.12172450858316086,"d":"12.17%"},{"v":53708.36239314824,"d":"53,708.36"},{"v":-1.0113204881261448,"d":"-101.13%"},{"$f":"' Dem-1-Metas'!C30","v":{"v":3829141.744472137,"d":"3,829,141.74"}},{"v":70.29507536354588,"d":"7029.51%"},{"$f":"' Dem-1-Metas'!G30","v":{"v":106767.79208974051,"d":"106,767.79"}},{"v":-0.972117043657662,"d":"-97.21%"},{"$f":"' Dem-1-Metas'!K30","v":{"v":-850058.6675489002,"d":"-850,058.67"}},{"v":-8.96175186271913,"d":"-896.18%"}]
["Dívida Pública Consolidada (DC)",{"$f":"B19*(1+Parâmetros!C11)*(1+Parâmetros!D11)","v":{"v":1078779.9664,"d":"1,078,779.97"}},{"$f":"C19*(1+Parâmetros!D11)","v":{"v":781013.3305439999,"d":"781,013.33"}},{"v":-0.27602165884640784,"d":"-27.60%"},{"v":389386.74772799993,"d":"389,386.75"},{"v":-0.5014339288462848,"d":"-50.14%"},{"$f":"' Dem-1-Metas'!C33","v":{"v":212184.51923076916,"d":"212,184.52"}},{"v":-0.4550802756672465,"d":"-45.51%"},{"$f":"' Dem-1-Metas'!G33","v":{"v":0,"d":"0.00"}},{"v":-1,"d":"-100.00%"},{"$f":"' Dem-1-Metas'!K33","v":{"v":0,"d":"0.00"}},{"$error":"#DIV/0!"}]
["Dívida Consolidada Líquida – DCL",{"$f":"B20*(1+Parâmetros!C11)*(1+Parâmetros!D11)","v":{"v":-1105375.4283760202,"d":"-1,105,375.43 "}},{"$f":"C20*(1+Parâmetros!D11)","v":{"v":-2430972.5977260005,"d":"-2,430,972.60 "}},{"v":1.1992280046404709,"d":"119.92%"},{"v":-3074622.0489386674,"d":"-3,074,622.05"},{"v":0.26477034410620437,"d":"26.48%"},{"$f":"' Dem-1-Metas'!C34","v":{"v":-3170198.317307692,"d":"-3,170,198.32"}},{"v":0.031085534042148977,"d":"3.11%"},{"$f":"' Dem-1-Metas'!G34","v":{"v":-3331964.034763313,"d":"-3,331,964.03"}},{"v":0.051027002497749496,"d":"5.10%"},{"$f":"' Dem-1-Metas'!K34","v":{"v":-3015143.792197693,"d":"-3,015,143.79"}},{"v":-0.09508513275057762,"d":"-9.51%"}]
["Resultado Nominal (SEM RPPS) - Abaixo da Linha",{"$f":"B21*(1+Parâmetros!C11)*(1+Parâmetros!D11)","v":{"v":1091247.10155396,"d":"1,091,247.10"}},{"$f":"C21*(1+Parâmetros!D11)","v":{"v":1386194.3100360003,"d":"1,386,194.31"}},{"v":0.2702845286480293,"d":"27.03%"},{"v":-482133.06893866695,"d":"-482,133.07"},{"v":-1.347810595850841,"d":"-134.78%"},{"$f":"' Dem-1-Metas'!C35","v":{"v":660890.278846154,"d":"660,890.28"}},{"v":-2.3707632216578514,"d":"-237.08%"},{"$f":"' Dem-1-Metas'!G35","v":{"v":283696.4219674554,"d":"283,696.42"}},{"v":-0.570735973809813,"d":"-57.07%"},{"$f":"' Dem-1-Metas'!K35","v":{"v":-188667.77969010806,"d":"-188,667.78"}},{"v":-1.6650340472455847,"d":"-166.50%"}]
[]
["NOTA: A elaboração desse demonstrativo deve seguir a metodologia de cálculo disposta no item 03.06.00 - Anexo 6 da Parte III do MDF. Portanto, não devem ser consideradas as receitas e despesas com as fontes do RPPS no cálculo acima da linha. Também não devem ser consideradas as dívidas, disponibilidade de caixa e haveres financeiros do RPPS no cálculo abaixo da linha."]
{"$rows_empty":18}
[null,{"$f":"250*4.5","v":1125}]
[null,{"$f":"B58*0.4","v":450}]

{"sheet":"Dem-4-Patr","index":9,"n_rows":43,"n_cols":8,"rows_kept":43,"merged":[[0,0,0,6],[1,0,1,6],[2,0,2,6],[3,0,3,6],[4,0,4,6],[5,0,5,1],[12,0,12,6],[13,0,13,6],[20,0,20,6],[21,0,21,6],[28,0,28,6]]}
[{"$f":"Parâmetros!A7","v":"Município de :   NOVA PÁDUA"}]
["LEI DE DIRETRIZES ORÇAMENTÁRIAS"]
["ANEXO DE  METAS FISCAIS"]
["EVOLUÇÃO DO PATRIMÔNIO LÍQUIDO"]
[" EXERCÍCIO DE 2025"]
["AMF - Demonstrativo 4 (LRF, art.4º, §2º, inciso III)",{"$nulls":5},{"v":1,"d":"R$ 1.00"}]
["PATRIMÔNIO LÍQUIDO",{"$f":"Parâmetros!C10","v":2023},"%",{"$f":"B7-1","v":2022},"%",{"$f":"D7-1","v":2021},"%"]
["Patrimônio/Capital",null,{"$f":"IF(B12=0,\"-\",(B8/B12))","v":{"v":0,"d":"0.00%"}},null,{"$f":"IF(D12=0,\"-\",(D8/D12))","v":{"v":0,"d":"0.00%"}},null,{"$f":"IF(F12=0,\"-\",(F8/F12))","v":{"v":0,"d":"0.00%"}}]
["Reservas",null,{"$f":"IF(B12=0,\"-\",(B9/B12))","v":{"v":0,"d":"0.00%"}},null,{"$f":"IF(D12=0,\"-\",(D9/D12))","v":{"v":0,"d":"0.00%"}},null,{"$f":"IF(F12=0,\"-\",(F9/F12))","v":{"v":0,"d":"0.00%"}}]
["Resultado Acumulado",{"v":33284122.42,"d":"33,284,122.42"},{"$f":"IF(B12=0,\"-\",(B10/B12))","v":{"v":1,"d":"100.00%"}},{"v":29620498.62,"d":"29,620,498.62"},{"$f":"IF(D12=0,\"-\",(D10/D12))","v":{"v":1,"d":"100.00%"}},{"v":23466322.03,"d":"23,466,322.03"},{"$f":"IF(F12=0,\"-\",(F10/F12))","v":{"v":1,"d":"100.00%"}}]
["Ajustes de Exerc.Anteriores",0,{"$f":"IF(B12=0,\"-\",(B11/B12))","v":{"v":0,"d":"0.00%"}},null,{"$f":"IF(D12=0,\"-\",(D11/D12))","v":{"v":0,"d":"0.00%"}},null,{"$f":"IF(F12=0,\"-\",(F11/F12))","v":{"v":0,"d":"0.00%"}}]
["TOTAL",{"$f":"SUM(B8:B11)","v":{"v":33284122.42,"d":"33,284,122.42"}},{"v":1,"d":"100.00%"},{"v":29620498.62,"d":"29,620,498.62"},{"v":1,"d":"100.00%"},{"v":23466322.03,"d":"23,466,322.03"},{"v":1,"d":"100.00%"}]
[]
["REGIME PREVIDENCIÁRIO"]
["PATRIMÔNIO LÍQUIDO",{"$f":"Parâmetros!C10","v":2023},"%",{"$f":"B15-1","v":2022},"%",{"$f":"D15-1","v":2021},"%"]
["Patrimônio/Capital",null,{"$f":"IF(B20=0,\"-\",(B16/B20))","v":{"v":0,"d":"0.00%"}},null,{"$f":"IF(D20=0,\"-\",(D16/D20))","v":{"v":0,"d":"0.00%"}},null,{"$f":"IF(F20=0,\"-\",(F16/F20))","v":{"v":0,"d":"0.00%"}}]
["Reservas",0,{"$f":"IF(B20=0,\"-\",(B17/B20))","v":{"v":0,"d":"0.00%"}},0,{"$f":"IF(D20=0,\"-\",(D17/D20))","v":{"v":0,"d":"0.00%"}},0,{"$f":"IF(F20=0,\"-\",(F17/F20))","v":{"v":0,"d":"0.00%"}}]
["Resultado Acumulado",{"$f":"-11295070.17","v":{"v":-11295070.17,"d":"(11,295,070.17)"}},{"$f":"IF(B20=0,\"-\",(B18/B20))","v":{"v":1,"d":"100.00%"}},{"$f":"-1375317.52","v":{"v":-1375317.52,"d":"(1,375,317.52)"}},{"$f":"IF(D20=0,\"-\",(D18/D20))","v":{"v":1,"d":"100.00%"}},{"v":4803993.17,"d":"4,803,993.17"},{"$f":"IF(F20=0,\"-\",(F18/F20))","v":{"v":1,"d":"100.00%"}}]
["Ajustes de Exerc.Anteiores",0,{"$f":"IF(B20=0,\"-\",(B19/B20))","v":{"v":0,"d":"0.00%"}},0,{"$f":"IF(D20=0,\"-\",(D19/D20))","v":{"v":0,"d":"0.00%"}},0,{"$f":"IF(F20=0,\"-\",(F19/F20))","v":{"v":0,"d":"0.00%"}}]
["TOTAL",{"$f":"SUM(B16:B19)","v":{"v":-11295070.17,"d":"(11,295,070.17)"}},{"v":1,"d":"100.00%"},{"v":-1375317.52,"d":"(1,375,317.52)"},{"v":1,"d":"100.00%"},{"v":4803993.17,"d":"4,803,993.17"},{"v":1,"d":"100.00%"}]
[]
["CONSOLIDAÇÃO GERAL"]
["PATRIMÔNIO LÍQUIDO",{"$f":"Parâmetros!C10","v":2023},"%",{"$f":"B23-1","v":2022},"%",{"$f":"D23-1","v":2021},"%"]
["Patrimônio/Capital",{"$f":"B8+B16","v":0},{"$f":"IF(B28=0,\"-\",(B24/B28))","v":{"v":0,"d":"0.00%"}},{"$f":"D8+D16","v":0},{"$f":"IF(D28=0,\"-\",(D24/D28))","v":{"v":0,"d":"0.00%"}},{"$f":"F8+F16","v":0},{"$f":"IF(F28=0,\"-\",(F24/F28))","v":{"v":0,"d":"0.00%"}}]
["Reservas",{"$f":"B9+B17","v":0},{"$f":"IF(B28=0,\"-\",(B25/B28))","v":{"v":0,"d":"0.00%"}},{"$f":"D9+D17","v":0},{"$f":"IF(D28=0,\"-\",(D25/D28))","v":{"v":0,"d":"0.00%"}},{"$f":"F9+F17","v":0},{"$f":"IF(F28=0,\"-\",(F25/F28))","v":{"v":0,"d":"0.00%"}}]
["Resultado Acumulado",{"$f":"B10+B18","v":{"v":21989052.25,"d":"21,989,052.25"}},{"$f":"IF(B28=0,\"-\",(B26/B28))","v":{"v":1,"d":"100.00%"}},{"$f":"D10+D18","v":{"v":28245181.1,"d":"28,245,181.10"}},{"$f":"IF(D28=0,\"-\",(D26/D28))","v":{"v":1,"d":"100.00%"}},{"$f":"F10+F18","v":{"v":28270315.200000003,"d":"28,270,315.20"}},{"$f":"IF(F28=0,\"-\",(F26/F28))","v":{"v":1,"d":"100.00%"}}]
["Ajustes de Exerc.Anteiores",{"$f":"B11+B19","v":0},{"$f":"IF(B28=0,\"-\",(B27/B28))","v":{"v":0,"d":"0.00%"}},{"$f":"D11+D19","v":0},{"$f":"IF(D28=0,\"-\",(D27/D28))","v":{"v":0,"d":"0.00%"}},{"$f":"F11+F19","v":0},{"$f":"IF(F28=0,\"-\",(F27/F28))","v":{"v":0,"d":"0.00%"}}]
["TOTAL",{"$f":"SUM(B24:B27)","v":{"v":21989052.25,"d":"21,989,052.25"}},{"v":1,"d":"100.00%"},{"v":28245181.1,"d":"28,245,181.10"},{"v":1,"d":"100.00%"},{"v":28270315.200000003,"d":"28,270,315.20"},{"v":1,"d":"100.00%"}]
["Fonte: Balanço patrimonial 2021, 2022 e 2023"]
{"$rows_empty":13}
[{"$nulls":7},"   "]

{"sheet":"Dem-5-Alien","index":10,"n_rows":31,"n_cols":4,"rows_kept":31,"merged":[[0,0,0,3],[1,0,1,3],[2,0,2,3],[3,0,3,3],[4,0,4,3],[5,0,5,3],[16,0,16,3],[17,0,18,0],[17,1,18,1],[17,2,18,2],[17,3,18,3],[28,0,29,0],[30,0,30,3]]}
[{"$f":"Parâmetros!A7","v":"Município de :   NOVA PÁDUA"}]
["LEI DE DIRETRIZES ORÇAMENTÁRIAS"]
["ANEXO DE  METAS FISCAIS"]
["ORIGEM E APLICAÇÃO DOS RECURSOS OBTIDOS COM A ALIENAÇÃO DE ATIVOS"]
["EXERCÍCIO DE 2025"]
[]
["AMF - Demonstrativo 5 (LRF, art.4º, §2º, inciso III)",null,null,{"v":1,"d":"R$ 1.00"}]
["RECEITAS REALIZADAS",{"$f":"Parâmetros!$C$10","v":2023},{"$f":"B8-1","v":2022},{"$f":"C8-1","v":2021}]
["SALDOS DE EXERCÍCIOS ANTERIORES A 2021",null,null,{"v":1388.11,"d":"1,388.11"}]
["RECEITAS DE CAPITAL"]
["    ALIENAÇÃO DE ATIVOS ",{"$f":"B12+B13+B14","v":{"v":92124.9,"d":"92,124.90"}},{"$f":"C12+C13+C14","v":{"v":482834.04,"d":"482,834.04"}},{"$f":"D12+D13+D14","v":{"v":59437.05,"d":"59,437.05"}}]
["        Alienação de Bens Móveis",0,{"v":392200,"d":"392,200.00"},{"v":59437.05,"d":"59,437.05"}]
["        Alienação de Bens Imóveis",{"v":92124.9,"d":"92,124.90"},{"v":90634.04,"d":"90,634.04"}]
["        Alienação de Bens Intangíveis"]
["Rendimento de Aplicações Financeira de Alienaç de Bens",{"$f":"8852.85+1771.66","v":{"v":10624.51,"d":"10,624.51"}},{"$f":"174.72+174.8","v":349.52},35.34]
["TOTAL ",{"$f":"B11+B15","v":{"v":102749.40999999999,"d":"102,749.41"}},{"$f":"C11+C15","v":{"v":483183.56,"d":"483,183.56"}},{"$f":"D9+D11+D15","v":{"v":60860.5,"d":"60,860.50"}}]
[]
["DESPESAS  EXECUTADAS",{"$f":"B8","v":2023},{"$f":"B18-1","v":2022},{"$f":"C18-1","v":2021}]
[]
["APLICAÇÃO DOS RECURSOS DA ALIENAÇÃO DE ATIVOS"]
["   DESPESAS DE CAPITAL",{"$f":"B22+B23+B24","v":{"v":83337.77,"d":"83,337.77"}},{"$f":"C22+C23+C24","v":{"v":384553.64,"d":"384,553.64"}},{"$f":"D22+D23+D24","v":{"v":59437.05,"d":"59,437.05"}}]
["         Investimentos",{"v":83337.77,"d":"83,337.77"},{"v":384553.64,"d":"384,553.64"},{"v":59437.05,"d":"59,437.05"}]
["         Inversões Financeiras"]
["        Amortização da Dívida"]
["    DESPESAS CORRENTES DOS REGIMES DE PREVID.",{"$f":"B26+B27","v":0},{"$f":"C26+C27","v":0},{"$f":"D26+D27","v":0}]
["        Regime Geral de Previdência Social",0]
["        Regime Próprio dos Servidores Públicos  "]
["TOTAL ",{"$f":"B21+B25","v":{"v":83337.77,"d":"83,337.77"}},{"$f":"C21+C25","v":{"v":384553.64,"d":"384,553.64"}},{"$f":"D21+D25","v":{"v":59437.05,"d":"59,437.05"}}]
["SALDO FINANCEIRO "]
[null,{"v":108840.1,"d":"108,840.10"},{"v":100052.97,"d":"100,052.97"},{"v":1423.05,"d":"1,423.05"}]
["Fonte: Balancete receita e despesa"]

{"sheet":"Dem-6-RPPS","index":11,"n_rows":179,"n_cols":5,"rows_kept":179,"merged":[[0,0,0,3],[1,0,1,3],[2,0,2,3],[3,0,3,3],[4,0,4,3],[6,0,6,3],[6,4,6,5],[7,0,7,5],[8,0,8,5],[9,1,9,2],[9,4,9,5],[10,1,10,2],[10,4,10,5],[11,1,11,2],[11,4,11,5],[12,1,12,2],[12,4,12,5],[13,1,13,2],[13,4,13,5],[14,1,14,2],[14,4,14,5],[15,1,15,2],[15,4,15,5],[16,1,16,2],[16,4,16,5],[17,1,17,2],[17,4,17,5],[18,1,18,2],[18,4,18,5],[19,1,19,2],[19,4,19,5],[20,1,20,2],[20,4,20,5],[21,1,21,2],[21,4,21,5],[22,1,22,2],[22,4,22,5],[23,1,23,2],[23,4,23,5],[24,1,24,2],[24,4,24,5],[25,1,25,2],[25,4,25,5],[26,1,26,2],[26,4,26,5],[27,1,27,2],[27,4,27,5],[28,1,28,2],[28,4,28,5],[29,1,29,2],[29,4,29,5],[30,1,30,2],[30,4,30,5],[31,1,31,2],[31,4,31,5],[32,1,32,2],[32,4,32,5],[33,1,33,2],[33,4,33,5],[34,1,34,2],[34,4,34,5],[35,1,35,2],[35,4,35,5],[36,1,36,2],[36,4,36,5],[37,1,37,2],[37,4,37,5],[38,1,38,2],[38,4,38,5],[39,1,39,2],[39,4,39,5],[40,1,40,2],[40,4,40,5],[41,1,41,2],[41,4,41,5],[42,1,42,2],[42,4,42,5],[44,1,44,2],[44,4,44,5],[45,1,45,2],[45,4,45,5],[46,1,46,2],[46,4,46,5],[47,1,47,2],[47,4,47,5],[48,1,48,2],[48,4,48,5],[49,1,49,2],[49,4,49,5],[50,1,50,2],[50,4,50,5],[51,1,51,2],[51,4,51,5],[52,1,52,2],[52,4,52,5],[53,1,53,2],[53,4,53,5],[54,1,54,2],[54,4,54,5],[55,1,55,2],[55,4,55,5],[56,1,56,2],[58,1,58,2],[58,4,58,5],[60,1,60,2],[60,4,60,5],[61,1,61,2],[61,4,61,5],[63,1,63,2],[63,4,63,5],[64,1,64,2],[64,4,64,5],[66,1,66,2],[66,4,66,5],[67,1,67,2],[67,4,67,5],[68,1,68,2],[68,4,68,5],[69,1,69,2],[69,4,69,5],[70,1,70,2],[70,4,70,5],[72,1,72,2],[72,4,72,5],[73,1,73,2],[73,4,73,5],[74,1,74,2],[74,4,74,5],[75,1,75,2],[75,4,75,5],[78,1,78,2],[78,4,78,5],[79,4,79,5],[80,1,80,2],[80,4,80,5],[82,1,82,2],[82,4,82,5],[83,4,83,5],[85,1,85,2],[85,4,85,5],[87,1,87,2],[87,4,87,5],[89,0,89,5],[90,0,90,5],[91,0,91,5],[92,0,93,0],[92,4,92,5],[93,4,93,5],[175,0,175,5],[177,0,177,5],[178,0,178,5]]}
[{"$f":"Parâmetros!A7","v":"Município de :   NOVA PÁDUA"}]
["LEI DE DIRETRIZES ORÇAMENTÁRIAS"]
["ANEXO DE  METAS FISCAIS"]
["AVALIAÇÃO DA SITUAÇÃO FINANCEIRA E ATUARIAL DO RPPS"]
["EXERCÍCIO DE 2025"]
[]
["AMF - Demonstrativo 6 (LRF, art. 4º, § 2º, inciso IV, alínea \"a\")",{"$nulls":3},{"v":1,"d":"R$ 1.00"}]
["RECEITAS E DESPESAS PREVIDENCIÁRIAS DO REGIME PRÓPRIO DE PREVIDÊNCIA DOS SERVIDORES"]
["PLANO PREVIDENCIÁRIO"]
["RECEITAS PREVIDENCIÁRIAS - RPPS",{"$f":"D10-1","v":2021},null,{"$f":"E10-1","v":2022},{"$f":"Parâmetros!C10","v":2023}]
["RECEITAS CORRENTES (I)",{"$f":"B12+B21+B30+B35","v":{"v":1924793.6099999999,"d":"1,924,793.61"}},null,{"$f":"D12+D21+D30+D38","v":{"v":3754468.42,"d":"3,754,468.42"}},{"$f":"E12+E21+E30+E38+E35","v":{"v":4795544.94,"d":"4,795,544.94"}}]
["Receita de Contribuições dos Segurados ",{"v":527514.09,"d":"527,514.09"},null,{"$f":"D13","v":{"v":593235.31,"d":"593,235.31"}},{"$f":"E13","v":{"v":627928.37,"d":"627,928.37"}}]
["Civil",{"v":527514.09,"d":"527,514.09"},null,{"$f":"D14+D15","v":{"v":593235.31,"d":"593,235.31"}},{"$f":"E14+E15","v":{"v":627928.37,"d":"627,928.37"}}]
["Ativo ",{"v":527272.42,"d":"527,272.42"},null,{"v":592317.78,"d":"592,317.78"},{"v":627112.41,"d":"627,112.41"}]
["Inativo ",241.64,null,917.53,815.96]
["Pensionista "]
["Militar"]
["Ativo "]
["Inativo "]
["Pensionista "]
["    Receita de Contribuições Patronais ",{"$f":"B23","v":{"v":1080720.92,"d":"1,080,720.92"}},null,{"$f":"D23","v":{"v":1218981.9,"d":"1,218,981.90"}},{"$f":"E23","v":{"v":2915677.68,"d":"2,915,677.68"}}]
["Civil"]
["Ativo ",{"v":1080720.92,"d":"1,080,720.92"},null,{"v":1218981.9,"d":"1,218,981.90"},{"v":2915677.68,"d":"2,915,677.68"}]
["Inativo "]
["Pensionista "]
["Militar"]
["Ativo "]
["Inativo "]
["Pensionista "]
["Receita Patrimonial",{"$f":"B33","v":{"v":316558.6,"d":"316,558.60"}},null,{"$f":"D33","v":{"v":1942246.56,"d":"1,942,246.56"}},{"$f":"E33","v":{"v":1246404.67,"d":"1,246,404.67"}}]
["Receitas Imobiliárias"]
["Receitas de Valores Mobiliários"]
["Outras Receitas Patrimoniais",{"v":316558.6,"d":"316,558.60"},null,{"$f":"1942246.56","v":{"v":1942246.56,"d":"1,942,246.56"}},{"v":1246404.67,"d":"1,246,404.67"}]
["Receita de Serviços"]
["Outras Receitas Correntes",{"$nulls":3},{"$f":"E36","v":{"v":5534.22,"d":"5,534.22"}}]
["Compensação Previdenciária do RGPS para o RPPS",{"$nulls":3},{"v":5534.22,"d":"5,534.22"}]
["Aportes Periódicos para Amortização de Déficit Atuarial do RPPS (II)1"]
["Demais Receitas Correntes",null,null,4.65]
["RECEITAS DE CAPITAL (III)"]
["Alienação de Bens, Direitos e Ativos"]
["Amortização de Empréstimos"]
["Outras Receitas de Capital"]
["TOTAL DAS RECEITAS PREVIDENCIÁRIAS RPPS - (IV) = (I + III - II)",{"$f":"B11","v":{"v":1924793.6099999999,"d":"1,924,793.61"}},null,{"$f":"D11","v":{"v":3754468.42,"d":"3,754,468.42"}},{"$f":"E11+E39","v":{"v":4795544.94,"d":"4,795,544.94"}}]
[]
["DESPESAS PREVIDENCIÁRIAS - RPPS",{"$f":"B10","v":2021},null,{"$f":"D10","v":2022},{"$f":"E10","v":2023}]
["Benefícios - Civil",{"$f":"B47+B48","v":{"v":1026087.79,"d":"1,026,087.79"}},null,{"$f":"D47+D48","v":{"v":1331695.95,"d":"1,331,695.95"}},{"$f":"E47+E48","v":{"v":1494905.8199999998,"d":"1,494,905.82"}}]
["Aposentadorias",{"v":938127.91,"d":"938,127.91"},null,{"v":1229840.15,"d":"1,229,840.15"},{"v":1384876.17,"d":"1,384,876.17"}]
["Pensões",{"v":87959.88,"d":"87,959.88"},null,{"v":101855.8,"d":"101,855.80"},{"v":110029.65,"d":"110,029.65"}]
["Outros Benefícios Previdenciários"]
["Benefícios - Militar"]
["Reformas"]
["Pensões"]
["Outros Benefícios Previdenciários"]
["Outras Despesas Previdenciárias"]
["Compensação Previdenciária do RPPS para o RGPS",null,null,{"v":524391.04,"d":"524,391.04"},{"v":90527.36,"d":"90,527.36"}]
["Demais Despesas Previdenciárias"]
["TOTAL DAS DESPESAS PREVIDENCIÁRIAS RPPS (V)",{"$f":"B46","v":{"v":1026087.79,"d":"1,026,087.79"}},null,{"$f":"D46+D55","v":{"v":1856086.99,"d":"1,856,086.99"}},{"$f":"E46+E55","v":{"v":1585433.18,"d":"1,585,433.18"}}]
[]
["RESULTADO PREVIDENCIÁRIO (VI) = (IV – V)2",{"$f":"B43-B57","v":{"v":898705.8199999998,"d":"898,705.82"}},null,{"$f":"D43-D57","v":{"v":1898381.43,"d":"1,898,381.43"}},{"$f":"E43-E57","v":{"v":3210111.7600000007,"d":"3,210,111.76"}}]
[]
["RECURSOS RPPS ARRECADADOS EM EXERCÍCIOS ANTERIORES",{"$f":"B45","v":2021},null,{"$f":"D45","v":2022},{"$f":"E45","v":2023}]
["VALOR"]
[]
["RESERVA ORÇAMENTÁRIA DO RPPS",{"$f":"B61","v":2021},null,{"$f":"D61","v":2022},{"$f":"E61","v":2023}]
["VALOR",{"v":1809240,"d":"1,809,240.00"},null,{"v":930000,"d":"930,000.00"},{"v":1569500,"d":"1,569,500.00"}]
[]
["APORTES DE RECURSOS PARA O PLANO PREVIDENCIÁRIO DO RPPS",{"$f":"B64","v":2021},null,{"$f":"D64","v":2022},{"$f":"E64","v":2023}]
["Plano de Amortização - Contribuição Patronal Suplementar"]
["Plano de Amortização - Aporte Periódico de Valores Predefinidos"]
["Outros Aportes para o RPPS"]
["Recursos para Cobertura de Déficit Financeiro"]
[]
["BENS E DIREITOS DO RPPS",{"$f":"B67","v":2021},null,{"$f":"D67","v":2022},{"$f":"E67","v":2023}]
["Caixa e Equivalentes de Caixa",{"v":488.3,"d":"488.30"},null,{"$f":"111459.63+7822.22","v":{"v":119281.85,"d":"119,281.85"}},{"$f":"18070.81+555.1+58462.66+2556.6","v":{"v":79645.17000000001,"d":"79,645.17"}}]
["Investimentos e Aplicações",{"$f":"18902125.18-488.3","v":{"v":18901636.88,"d":"18,901,636.88"}},null,{"$f":"20666413.78-D74","v":{"v":20547131.93,"d":"20,547,131.93"}},{"$f":"23857067.74-E74","v":{"v":23777422.569999997,"d":"23,777,422.57"}}]
["Outro Bens e Direitos"]
[]
[]
["RECEITAS DA ADMINISTRAÇÃO - RPPS",{"$f":"C80","v":{"v":56603.91,"d":"56,603.91"}},null,{"$f":"D80","v":{"v":59145.29,"d":"59,145.29"}},{"$f":"E80","v":{"v":78826.26,"d":"78,826.26"}}]
["RECEITAS CORRENTES",null,{"v":56603.91,"d":"56,603.91"},{"v":59145.29,"d":"59,145.29"},{"v":78826.26,"d":"78,826.26"}]
["TOTAL DAS RECEITAS DA ADMINISTRAÇÃO RPPS - (XII)"]
[]
["DESPESAS DA ADMINISTRAÇÃO - RPPS",{"$f":"C84","v":{"v":50479.05,"d":"50,479.05"}},null,{"$f":"D84","v":{"v":42196.71,"d":"42,196.71"}},{"$f":"E84","v":{"v":49251.47999999998,"d":"49,251.48"}}]
["DESPESAS CORRENTES (XIII)",null,{"v":50479.05,"d":"50,479.05"},{"v":42196.71,"d":"42,196.71"},{"$f":"1634684.66-E57","v":{"v":49251.47999999998,"d":"49,251.48"}}]
["DESPESAS DE CAPITAL (XIV)"]
["TOTAL DAS DESPESAS DA ADMINISTRAÇÃO RPPS (XV) = (XIII + XIV)",{"$f":"C84","v":{"v":50479.05,"d":"50,479.05"}},null,{"$f":"D83","v":{"v":42196.71,"d":"42,196.71"}},{"$f":"E83","v":{"v":49251.47999999998,"d":"49,251.48"}}]
[]
["RESULTADO DA ADMINISTRAÇÃO RPPS (XVI) = (XII – XV)",{"$f":"C80-C84","v":{"v":6124.860000000001,"d":"6,124.86"}},null,{"$f":"D79-D83","v":{"v":16948.58,"d":"16,948.58"}},{"$f":"E79-E83","v":{"v":29574.780000000013,"d":"29,574.78"}}]
[]
["PROJEÇÃO ATUARIAL DO REGIME PRÓPRIO DE PREVIDÊNCIA DOS SERVIDORES"]
[]
["PLANO PREVIDENCIÁRIO"]
["EXERCÍCIO","Receitas\nPrevidenciárias","Despesas\nPrevidenciárias\n","Resultado\nPrevidenciário\n","Saldo Financeiro \ndo Exercício\n"]
[null," (a)","(b)","(c) = (a-b)","(d) = (d Exercício Anterior) + (c)"]
[2024,{"v":2118096.23,"d":"2,118,096.23"},{"v":1671095.07,"d":"1,671,095.07"},{"$f":"B95-C95","v":{"v":447001.1599999999,"d":"447,001.16"}},{"v":24201854.42,"d":"24,201,854.42"}]
[2025,{"v":2207706.64,"d":"2,207,706.64"},{"v":1667071.49,"d":"1,667,071.49"},{"$f":"B96-C96","v":{"v":540635.1500000001,"d":"540,635.15"}},{"$f":"E95+D96","v":{"v":24742489.57,"d":"24,742,489.57"}}]
[2026,{"v":2132652.39,"d":"2,132,652.39"},{"v":1589899.42,"d":"1,589,899.42"},{"v":542752.9700000002,"d":"542,752.97"},{"$f":"E96+D97","v":{"v":25285242.54,"d":"25,285,242.54"}}]
[2027,{"v":2053813.53,"d":"2,053,813.53"},{"v":1614426.93,"d":"1,614,426.93"},{"v":439386.6000000001,"d":"439,386.60"},{"v":25724629.14,"d":"25,724,629.14"}]
[2028,{"v":1745161.77,"d":"1,745,161.77"},{"v":1610855.76,"d":"1,610,855.76"},{"v":134306.01,"d":"134,306.01"},{"v":25858935.150000002,"d":"25,858,935.15"}]
[2029,{"v":1668327.35,"d":"1,668,327.35"},{"v":1774579.35,"d":"1,774,579.35"},{"v":-106252,"d":"(106,252.00)"},{"v":25752683.150000002,"d":"25,752,683.15"}]
[2030,{"v":1593640.21,"d":"1,593,640.21"},{"v":1793837.5,"d":"1,793,837.50"},{"v":-200197.29000000004,"d":"(200,197.29)"},{"v":25552485.860000003,"d":"25,552,485.86"}]
[2031,{"v":1520863.61,"d":"1,520,863.61"},{"v":1808699.15,"d":"1,808,699.15"},{"v":-287835.5399999998,"d":"(287,835.54)"},{"v":25264650.320000004,"d":"25,264,650.32"}]
[2032,{"v":1444219.44,"d":"1,444,219.44"},{"v":1806936.24,"d":"1,806,936.24"},{"v":-362716.80000000005,"d":"(362,716.80)"},{"v":24901933.520000003,"d":"24,901,933.52"}]
[2033,{"v":1372347.71,"d":"1,372,347.71"},{"v":1907392.81,"d":"1,907,392.81"},{"v":-535045.1000000001,"d":"(535,045.10)"},{"v":24366888.42,"d":"24,366,888.42"}]
[2034,{"v":1305400.37,"d":"1,305,400.37"},{"v":2006135.03,"d":"2,006,135.03"},{"v":-700734.6599999999,"d":"(700,734.66)"},{"v":23666153.76,"d":"23,666,153.76"}]
[2035,{"v":1219834.12,"d":"1,219,834.12"},{"v":2114617.14,"d":"2,114,617.14"},{"v":-894783.02,"d":"(894,783.02)"},{"v":22771370.740000002,"d":"22,771,370.74"}]
[2036,{"v":1145597.06,"d":"1,145,597.06"},{"v":2146760.62,"d":"2,146,760.62"},{"v":-1001163.56,"d":"(1,001,163.56)"},{"v":21770207.180000003,"d":"21,770,207.18"}]
[2037,{"v":1076932.19,"d":"1,076,932.19"},{"v":2141419.14,"d":"2,141,419.14"},{"v":-1064486.9500000002,"d":"(1,064,486.95)"},{"v":20705720.230000004,"d":"20,705,720.23"}]
[2038,{"v":1034350.67,"d":"1,034,350.67"},{"v":2012333.27,"d":"2,012,333.27"},{"v":-977982.6,"d":"(977,982.60)"},{"v":19727737.630000003,"d":"19,727,737.63"}]
[2039,{"v":980899.44,"d":"980,899.44"},{"v":1923667.3,"d":"1,923,667.30"},{"v":-942767.8600000001,"d":"(942,767.86)"},{"v":18784969.770000003,"d":"18,784,969.77"}]
[2040,{"v":941728.91,"d":"941,728.91"},{"v":1805473.11,"d":"1,805,473.11"},{"v":-863744.2000000001,"d":"(863,744.20)"},{"v":17921225.570000004,"d":"17,921,225.57"}]
[2041,892059.79,{"v":1732398.25,"d":"1,732,398.25"},{"$f":"C111-C112","v":{"v":73074.8600000001,"d":"73,074.86"}},{"v":17994300.430000003,"d":"17,994,300.43"}]
[2042,{"v":855973.4,"d":"855,973.40"},{"v":1623698.01,"d":"1,623,698.01"},{"v":-767724.61,"d":"(767,724.61)"},{"v":17226575.820000004,"d":"17,226,575.82"}]
[2043,{"v":806316.68,"d":"806,316.68"},{"v":1629674.13,"d":"1,629,674.13"},{"v":-823357.4499999998,"d":"(823,357.45)"},{"v":16403218.370000005,"d":"16,403,218.37"}]
[2044,{"v":765001.58,"d":"765,001.58"},{"v":1576554.64,"d":"1,576,554.64"},{"v":-811553.0599999999,"d":"(811,553.06)"},{"v":15591665.310000004,"d":"15,591,665.31"}]
[2045,{"v":733154.31,"d":"733,154.31"},{"v":1473401.7,"d":"1,473,401.70"},{"v":-740247.3899999999,"d":"(740,247.39)"},{"v":14851417.920000004,"d":"14,851,417.92"}]
[2046,{"v":699530.35,"d":"699,530.35"},{"v":1388708.07,"d":"1,388,708.07"},{"v":-689177.7200000001,"d":"(689,177.72)"},{"v":14162240.200000003,"d":"14,162,240.20"}]
[2047,{"v":662439.14,"d":"662,439.14"},{"v":1341649.01,"d":"1,341,649.01"},{"v":-679209.87,"d":"(679,209.87)"},{"v":13483030.330000004,"d":"13,483,030.33"}]
[2048,{"v":621809.83,"d":"621,809.83"},{"v":1309297.53,"d":"1,309,297.53"},{"v":-687487.7000000001,"d":"(687,487.70)"},{"v":12795542.630000005,"d":"12,795,542.63"}]
[2049,{"v":569823.54,"d":"569,823.54"},{"v":1358901.89,"d":"1,358,901.89"},{"v":-789078.3499999999,"d":"(789,078.35)"},{"v":12006464.280000005,"d":"12,006,464.28"}]
[2050,{"v":538890.41,"d":"538,890.41"},{"v":1285684.75,"d":"1,285,684.75"},{"v":-746794.34,"d":"(746,794.34)"},{"v":11259669.940000005,"d":"11,259,669.94"}]
[2051,{"v":511826.36,"d":"511,826.36"},{"v":1205595.17,"d":"1,205,595.17"},{"v":-693768.8099999999,"d":"(693,768.81)"},{"v":10565901.130000005,"d":"10,565,901.13"}]
[2052,{"v":487347.63,"d":"487,347.63"},{"v":1128825.2,"d":"1,128,825.20"},{"v":-641477.57,"d":"(641,477.57)"},{"v":9924423.560000004,"d":"9,924,423.56"}]
[2053,{"v":462891.39,"d":"462,891.39"},{"v":1060813.92,"d":"1,060,813.92"},{"v":-597922.5299999999,"d":"(597,922.53)"},{"v":9326501.030000005,"d":"9,326,501.03"}]
[2054,{"v":440945.77,"d":"440,945.77"},{"v":988784.33,"d":"988,784.33"},{"v":-547838.5599999999,"d":"(547,838.56)"},{"v":8778662.470000004,"d":"8,778,662.47"}]
[2055,{"v":414449.01,"d":"414,449.01"},{"v":944273.55,"d":"944,273.55"},{"v":-529824.54,"d":"(529,824.54)"},{"v":8248837.930000004,"d":"8,248,837.93"}]
[2056,{"v":389408.74,"d":"389,408.74"},{"v":898343.12,"d":"898,343.12"},{"v":-508934.38,"d":"(508,934.38)"},{"v":7739903.5500000045,"d":"7,739,903.55"}]
[2057,{"v":372655.22,"d":"372,655.22"},{"v":826025.4,"d":"826,025.40"},{"v":-453370.18000000005,"d":"(453,370.18)"},{"v":7286533.370000005,"d":"7,286,533.37"}]
[2058,{"v":356867.51,"d":"356,867.51"},{"v":758956.52,"d":"758,956.52"},{"v":-402089.01,"d":"(402,089.01)"},{"v":6884444.360000005,"d":"6,884,444.36"}]
[2059,{"v":61534.19,"d":"61,534.19"},{"v":695189.06,"d":"695,189.06"},{"v":-633654.8700000001,"d":"(633,654.87)"},{"v":6250789.490000005,"d":"6,250,789.49"}]
[2060,{"v":55256.72,"d":"55,256.72"},{"v":634773.75,"d":"634,773.75"},{"v":-579517.03,"d":"(579,517.03)"},{"v":5671272.460000005,"d":"5,671,272.46"}]
[2061,{"v":49451.88,"d":"49,451.88"},{"v":578187.44,"d":"578,187.44"},{"v":-528735.5599999999,"d":"(528,735.56)"},{"v":5142536.900000005,"d":"5,142,536.90"}]
[2062,{"v":44103.24,"d":"44,103.24"},{"v":525214.83,"d":"525,214.83"},{"v":-481111.58999999997,"d":"(481,111.59)"},{"v":4661425.310000005,"d":"4,661,425.31"}]
[2063,{"v":39204.03,"d":"39,204.03"},{"v":475831.02,"d":"475,831.02"},{"v":-436626.99,"d":"(436,626.99)"},{"v":4224798.320000005,"d":"4,224,798.32"}]
[2064,{"v":34716.75,"d":"34,716.75"},{"v":429852.73,"d":"429,852.73"},{"v":-395135.98,"d":"(395,135.98)"},{"v":3829662.340000005,"d":"3,829,662.34"}]
[2065,{"v":30627.15,"d":"30,627.15"},{"v":387220.8,"d":"387,220.80"},{"v":-356593.64999999997,"d":"(356,593.65)"},{"v":3473068.690000005,"d":"3,473,068.69"}]
[2066,{"v":26919.53,"d":"26,919.53"},{"v":347860.76,"d":"347,860.76"},{"v":-320941.23,"d":"(320,941.23)"},{"v":3152127.460000005,"d":"3,152,127.46"}]
[2067,{"v":23578.3,"d":"23,578.30"},{"v":311651.4,"d":"311,651.40"},{"v":-288073.10000000003,"d":"(288,073.10)"},{"v":2864054.360000005,"d":"2,864,054.36"}]
[2068,{"v":20568.99,"d":"20,568.99"},{"v":278406.41,"d":"278,406.41"},{"v":-257837.41999999998,"d":"(257,837.42)"},{"v":2606216.940000005,"d":"2,606,216.94"}]
[2069,{"v":17866.8,"d":"17,866.80"},{"v":247959.58,"d":"247,959.58"},{"v":-230092.78,"d":"(230,092.78)"},{"v":2376124.1600000053,"d":"2,376,124.16"}]
[2070,{"v":15446.72,"d":"15,446.72"},{"v":220074.04,"d":"220,074.04"},{"v":-204627.32,"d":"(204,627.32)"},{"v":2171496.8400000054,"d":"2,171,496.84"}]
[2071,{"v":13285.81,"d":"13,285.81"},{"v":194565.06,"d":"194,565.06"},{"v":-181279.25,"d":"(181,279.25)"},{"v":1990217.5900000054,"d":"1,990,217.59"}]
[2072,{"v":11363.63,"d":"11,363.63"},{"v":171276.79,"d":"171,276.79"},{"v":-159913.16,"d":"(159,913.16)"},{"v":1830304.4300000055,"d":"1,830,304.43"}]
[2073,{"v":9663.17,"d":"9,663.17"},{"v":150091.44,"d":"150,091.44"},{"v":-140428.27,"d":"(140,428.27)"},{"v":1689876.1600000055,"d":"1,689,876.16"}]
[2074,{"v":8162.89,"d":"8,162.89"},{"v":130857.41,"d":"130,857.41"},{"v":-122694.52,"d":"(122,694.52)"},{"v":1567181.6400000055,"d":"1,567,181.64"}]
[2075,{"v":6847.29,"d":"6,847.29"},{"v":113463.5,"d":"113,463.50"},{"v":-106616.21,"d":"(106,616.21)"},{"v":1460565.4300000055,"d":"1,460,565.43"}]
[2076,{"v":5706.58,"d":"5,706.58"},{"v":97832.01,"d":"97,832.01"},{"v":-92125.43,"d":"(92,125.43)"},{"v":1368440.0000000056,"d":"1,368,440.00"}]
[2077,{"v":4719.84,"d":"4,719.84"},{"v":83842.27,"d":"83,842.27"},{"v":-79122.43000000001,"d":"(79,122.43)"},{"v":1289317.5700000057,"d":"1,289,317.57"}]
[2078,{"v":3872.57,"d":"3,872.57"},{"v":71389.82,"d":"71,389.82"},{"v":-67517.25,"d":"(67,517.25)"},{"v":1221800.3200000057,"d":"1,221,800.32"}]
[2079,{"v":3154.28,"d":"3,154.28"},{"v":60417.76,"d":"60,417.76"},{"v":-57263.48,"d":"(57,263.48)"},{"v":1164536.8400000057,"d":"1,164,536.84"}]
[2080,{"v":2549.89,"d":"2,549.89"},{"v":50823.98,"d":"50,823.98"},{"v":-48274.090000000004,"d":"(48,274.09)"},{"v":1116262.7500000056,"d":"1,116,262.75"}]
[2081,{"v":2045.68,"d":"2,045.68"},{"v":42495.9,"d":"42,495.90"},{"v":-40450.22,"d":"(40,450.22)"},{"v":1075812.5300000056,"d":"1,075,812.53"}]
[2082,{"v":1631.08,"d":"1,631.08"},{"v":35327.19,"d":"35,327.19"},{"v":-33696.11,"d":"(33,696.11)"},{"v":1042116.4200000056,"d":"1,042,116.42"}]
[2083,{"v":1291.5,"d":"1,291.50"},{"v":29184.3,"d":"29,184.30"},{"v":-27892.8,"d":"(27,892.80)"},{"v":1014223.6200000056,"d":"1,014,223.62"}]
[2084,{"v":1013.15,"d":"1,013.15"},{"v":23910.98,"d":"23,910.98"},{"v":-22897.829999999998,"d":"(22,897.83)"},{"v":991325.7900000056,"d":"991,325.79"}]
[2085,785.73,{"v":19389.05,"d":"19,389.05"},{"v":-18603.32,"d":"(18,603.32)"},{"v":972722.4700000057,"d":"972,722.47"}]
[2086,{"v":600.9,"d":"600.90"},{"v":15533.31,"d":"15,533.31"},{"v":-14932.41,"d":"(14,932.41)"},{"v":957790.0600000056,"d":"957,790.06"}]
[2087,451.97,{"v":12270.18,"d":"12,270.18"},{"v":-11818.210000000001,"d":"(11,818.21)"},{"v":945971.8500000057,"d":"945,971.85"}]
[2088,333.44,{"v":9530.85,"d":"9,530.85"},{"v":-9197.41,"d":"(9,197.41)"},{"v":936774.4400000056,"d":"936,774.44"}]
[2089,240.57,{"v":7258.44,"d":"7,258.44"},{"$f":"B160-C160","v":{"v":-7017.87,"d":"(7,017.87)"}},{"v":929756.5700000057,"d":"929,756.57"}]
[2090,168.99,{"v":5398.7,"d":"5,398.70"},{"v":-5229.71,"d":"(5,229.71)"},{"$f":"E160+D161","v":{"v":924526.8600000057,"d":"924,526.86"}}]
[2091,114.95,{"v":3904.36,"d":"3,904.36"},{"v":-3789.4100000000003,"d":"(3,789.41)"},{"v":920737.4500000057,"d":"920,737.45"}]
[2092,75.11,{"v":2732.96,"d":"2,732.96"},{"v":-2657.85,"d":"(2,657.85)"},{"v":918079.6000000057,"d":"918,079.60"}]
[2093,46.65,{"v":1843.98,"d":"1,843.98"},{"v":-1797.33,"d":"(1,797.33)"},{"v":916282.2700000057,"d":"916,282.27"}]
[2094,{"v":27.3,"d":"27.30"},{"v":1194.68,"d":"1,194.68"},{"v":-1167.38,"d":"(1,167.38)"},{"v":915114.8900000057,"d":"915,114.89"}]
[2095,14.89,741.16,{"v":-726.27,"d":"(726.27)"},{"v":914388.6200000057,"d":"914,388.62"}]
[2096,7.43,441.51,{"v":-434.08,"d":"(434.08)"},{"v":913954.5400000057,"d":"913,954.54"}]
[2097,3.37,255.22,{"v":-251.85,"d":"(251.85)"},{"v":913702.6900000058,"d":"913,702.69"}]
[2098,1.49,144.52,{"v":-143.03,"d":"(143.03)"},{"v":913559.6600000057,"d":"913,559.66"}]
[]
[]
[]
[]
[]
[]
["Fonte; Balancete da Receita, despesa e Cálculo atuarial elaborado pela Lumens"]
["NOTA:"]
["1 Como a Portaria MTP 1.467/2022 determina que os recursos provenientes desses aportes devem permanecer aplicados, no mínimo, por 5 (cinco) anos, essa receita não deverá compor o total das receitas previdenciárias do período de apuração."]
["2 O resultado previdenciário poderá ser apresentada por meio da diferença entre previsão da receita e a dotação da despesa e entre a receita realizada e a despesa liquidada (do 1º ao 5º bimestre) e a despesa empenhada (no 6º bimestre)."]

{"sheet":"Dem-7-Renúnci","index":12,"n_rows":23,"n_cols":7,"rows_kept":23,"merged":[[0,0,0,5],[1,0,1,5],[2,0,2,5],[3,0,3,5],[4,0,4,5],[5,0,5,5],[7,0,9,0],[7,1,9,1],[7,2,9,2],[7,3,8,5],[7,6,9,6],[10,6,11,6],[17,0,17,2],[18,0,18,6],[19,0,19,6],[20,0,20,6]]}
[{"$f":"Parâmetros!A7","v":"Município de :   NOVA PÁDUA"}]
["LEI DE DIRETRIZES ORÇAMENTÁRIAS"]
["ANEXO DE  METAS FISCAIS"]
["ESTIMATIVA E COMPENSAÇÃO DA RENÚNCIA DE RECEITA"]
["EXERCÍCIO DE 2025"]
[]
["AMF - Demonstrativo 7 (LRF, art. 4°, § 2°, inciso V)",{"$nulls":5},{"v":1,"d":"R$ 1.00"}]
["TRIBUTO","MODALIDADE","SETORES/ PROGRAMAS/ BENEFICIÁRIO","RENÚNCIA DE RECEITA PREVISTA",null,null,"COMPENSAÇÃO"]
[]
[{"$nulls":3},{"$f":"Parâmetros!E10","v":2025},{"$f":"D10+1","v":2026},{"$f":"E10+1","v":2027}]
["IPTU","Desconto pagamento a vista","Contribuintes que optarem pelo pagamento à vista",{"v":51900,"d":"51,900.00"},{"$f":"D11*(1+B22)","v":{"v":53976,"d":"53,976.00"}},{"$f":"E11*(1+B23)","v":{"v":56135.04,"d":"56,135.04"}},"Vide Obsevação"]
["Taxa coleta lixo","Desconto pagamento a vista","Contribuintes que optarem pelo pagamento à vista",{"v":4671,"d":"4,671.00"},{"$f":"D12*(1+B22)","v":{"v":4857.84,"d":"4,857.84"}},{"$f":"E12*(1+B23)","v":{"v":5052.153600000001,"d":"5,052.15"}}]
[{"$nulls":4},{"$f":"D13*(1+B22)","v":0},{"$f":"E13*(1+B23)","v":0},"abaixo"]
[{"$nulls":4},{"$f":"D14*(1+B22)","v":0},{"$f":"E14*(1+B23)","v":0}]
[{"$nulls":4},{"$f":"D15*(1+B22)","v":0},{"$f":"E15*(1+B23)","v":0}]
[{"$nulls":4},{"$f":"D16*(1+B22)","v":0},{"$f":"E16*(1+B23)","v":0}]
[{"$nulls":4},{"$f":"D17*(1+B22)","v":0},{"$f":"E17*(1+B23)","v":0}]
["TOTAL",null,null,{"$f":"SUM(D11:D17)","v":{"v":56571,"d":"56,571.00"}},{"$f":"SUM(E11:E17)","v":{"v":58833.84,"d":"58,833.84"}},{"$f":"SUM(F11:F17)","v":{"v":61187.1936,"d":"61,187.19"}},"          -"]
["Fonte: balancete receita"]
["Nota 1: Os valores da renúncia para 2024 foram previstos de acordo com informações da Administração Tributária do Poder Executivo."]
["2 - Os valores da renúncia projetados para 2025 e 2026, foram calculados a partir dos valores de 2024 aplicando-se, sobre eles, as projeções de inflação para os referidos exercícios a saber:"]
["Inflação para 2026:",{"$f":"Parâmetros!F11","v":{"v":0.04,"d":"4.00%"}}]
["Inflação para 2027:",{"$f":"Parâmetros!G11","v":{"v":0.04,"d":"4.00%"}}]

{"sheet":"Dem-8-Docc","index":13,"n_rows":23,"n_cols":2,"rows_kept":23,"merged":[[0,0,0,1],[1,0,1,1],[2,0,2,1],[3,0,3,1],[4,0,4,1],[5,0,5,1],[22,0,22,1]]}
[{"$f":"Parâmetros!A7","v":"Município de :   NOVA PÁDUA"}]
["LEI DE DIRETRIZES ORÇAMENTÁRIAS"]
["ANEXO DE  METAS FISCAIS"]
["MARGEM DE EXPANSÃO DAS DESPESAS OBRIGATÓRIAS DE CARÁTER CONTINUADO  "]
["EXERCÍCIO DE 2025"]
[]
["AMF - Demonstrativo 8 (LRF, art. 4°, § 2°, inciso V)",{"v":1,"d":"R$ 1.00"}]
["EVENTO","Valor Previsto 2025"]
["Aumento Permanente da Receita  ",{"$f":"(B10+B11)","v":{"v":-1482529.1980467555,"d":"(1,482,529.20)"}}]
["   Decorrente de Receitas Tributárias",{"$f":"(Projeções!H9/(1+Parâmetros!E11))-(Projeções!G9*(1+Parâmetros!D11))","v":{"v":34779.55634218035,"d":"34,779.56"}}]
["   Decorrente de Transferências Correntes",{"$f":"(Projeções!H37/(1+Parâmetros!E11))-(Projeções!G37*(1+Parâmetros!D11))","v":{"v":-1517308.7543889359,"d":"(1,517,308.75)"}}]
["(-) Transferências Constitucionais",0]
["(-)  Transferências ao FUNDEB",{"$f":"(Projeções!H103/(1+Parâmetros!E11)-(Projeções!G103*(1+Parâmetros!D11)))","v":{"v":587950.4294805601,"d":"587,950.43"}}]
["Saldo Final do Aumento Permanente de Receita  (I)",{"$f":"B9+B13","v":{"v":-894578.7685661954,"d":"(894,578.77)"}}]
["Redução Permanente de Despesa (II)",0]
["Margem Bruta  (III) = (I+II)",{"$f":"B14+B15","v":{"v":-894578.7685661954,"d":"(894,578.77)"}}]
["Saldo Utilizado da Margem Bruta (IV)"]
["   Novas DOCC",{"$f":"B19+B20","v":{"v":-597887.7845089585,"d":"(597,887.78)"}}]
["      Relativas a  Pessoal e Encargos Sociais",{"$f":"Projeções!H116/(1+Parâmetros!E11)-(Projeções!G116*(1+Parâmetros!D11))","v":{"v":-465671.782315379,"d":"(465,671.78)"}}]
["      Relativas a  Outras Despesas Correntes",{"$f":"Projeções!H126/(1+Parâmetros!E11)-Projeções!G126*(1+Parâmetros!D11)","v":{"v":-132216.00219357945,"d":"(132,216.00)"}}]
["   Novas DOCC geradas por PPP",0]
["Margem Líquida de Expansão de DOCC (V) = (III-IV)",{"$f":"IF(B16-B17-B18<0,\"SEM MARGEM\",B16-B17-B18)","v":"SEM MARGEM"}]
["Fonte: Sistema <Nome>, Unidade Responsável <Nome>, Data da emissão <dd/mmm/aaaa> e hora de emissão <hhh e mmm>"]

{"sheet":"Anexo Riscos","index":14,"n_rows":25,"n_cols":4,"rows_kept":25,"merged":[[0,0,0,3],[1,0,1,3],[2,0,2,3],[3,0,3,3],[4,0,4,3],[5,0,5,3],[6,0,6,1],[6,2,6,3],[7,0,7,1],[7,2,7,3],[16,0,16,1],[16,2,16,3],[17,0,17,1],[17,2,17,3]]}
[{"$f":"Parâmetros!A7","v":"Município de :   NOVA PÁDUA"}]
["LEI DE DIRETRIZES ORÇAMENTÁRIAS"]
["ANEXO DE RISCOS FISCAIS"]
["DEMONSTRATIVO DE RISCOS FISCAIS E PROVIDÊNCIAS"]
["EXERCÍCIO DE 2025"]
[]
["ARF (LRF, art 4o, § 3o)",null,{"v":1,"d":"R$ 1.00"}]
["PASSIVOS CONTINGENTES",null,"PROVIDÊNCIAS"]
["Descrição","Valor","Descrição","Valor"]
["Demandas Judiciais",{"v":70000,"d":"70,000.00"},"Abertura e  créditos  mediante  utilização  da\nreserva de contingência\n",{"v":70000,"d":"70,000.00"}]
["Dívidas em Processo de Reconhecimento"]
["Avais e Garantias Concedidas"]
["Assunção de Passivos"]
["Assistências Diversas",{"v":50000,"d":"50,000.00"},"Abertura de creditos adicionais a partir da reserva de contingência",{"v":50000,"d":"50,000.00"}]
["Outros Passivos Contingentes",{"v":30000,"d":"30,000.00"},"Abertura de creditos adicionais a partir da reserva de contingência",{"v":30000,"d":"30,000.00"}]
["SUBTOTAL",{"$f":"SUM(B10:B15)","v":{"v":150000,"d":"150,000.00"}},"SUBTOTAL",{"$f":"SUM(D10:D15)","v":{"v":150000,"d":"150,000.00"}}]
[]
["DEMAIS RISCOS FISCAIS PASSIVOS",null,"PROVIDÊNCIAS"]
["Descrição","Valor","Descrição","Valor"]
["Frustração de Arrecadação",{"v":30000,"d":"30,000.00"},"Limitação de empenho",{"v":30000,"d":"30,000.00"}]
["Restituição de Tributos a Maior"]
["Discrepância de Projeções:"]
["Outros Riscos Fiscais"]
["SUBTOTAL",null,"SUBTOTAL",{"$f":"SUM(D20:D23)","v":{"v":30000,"d":"30,000.00"}}]
["TOTAL",{"$f":"B16+B24","v":{"v":150000,"d":"150,000.00"}},"TOTAL",{"$f":"D16+D24","v":{"v":180000,"d":"180,000.00"}}]

{"sheet":"Anexo IV - Cons do Patrimônio","index":15,"n_rows":17,"n_cols":12,"rows_kept":17,"merged":[[0,0,1,11],[2,0,2,11],[3,0,3,11],[4,0,4,11],[5,0,5,11],[6,0,6,1],[6,4,6,6],[6,7,6,11],[7,0,8,1],[7,2,8,2],[7,3,8,3],[7,4,8,4],[7,5,8,5],[7,6,8,6],[7,7,8,7],[7,8,8,10],[7,11,8,11],[9,0,9,1],[9,8,9,10],[10,0,10,1],[10,8,10,10],[11,0,11,1],[11,8,11,10],[12,0,12,1],[12,8,12,10],[13,0,13,1],[13,8,13,10],[14,0,14,1],[14,8,14,10],[15,0,15,1],[15,8,15,10],[16,0,16,6],[16,8,16,10]]}
[{"$f":"Parâmetros!A7","v":"Município de :   NOVA PÁDUA"}]
[]
["LEI DE DIRETRIZES ORÇAMENTÁRIAS - 2025"]
["ANEXO IV"]
["RELATÓRIO SOBRE PROJETOS EM EXECUÇÃO E A EXECUTAR   E DESPESAS COM CONSERVAÇÃO DO PATRIMÔNIO PÚBLICO "]
["(Art. 45 da LRF)"]
[{"$nulls":4},"EXECUÇÃO %",null,null,"RECURSOS PRIORIZADOS PARA 2025"]
["IDENTIFICAÇÃO DAS AÇÕES",null,"INÍCIO DA EXECUÇÃO","VALOR DO PROJETO","ATÉ EXERC ANTERIOR - 2023","NO EXERCÍCIO DE 2024","A EXECUTAR EM 2025","PROJETOS EM EXECUÇÃO","CONSERVAÇÃO DO PATRIMÔNIO",null,null,"NOVOS PROJETOS"]
[]
["Pavimentação Asfaltica"]
["Centro Cultural"]
[]
[]
[]
[]
[]
["Total dos Recursos a Priorizar na LOA",{"$nulls":6},{"$f":"SUM(H10:H16)","v":0},0,null,null,{"$f":"SUM(L10:L16)","v":0}]